BEGIN:VCALENDAR
VERSION:2.0
METHOD:PUBLISH
PRODID:-//IETF//datatracker.ietf.org ical agenda//EN
BEGIN:VTIMEZONE
TZID:Asia/Tokyo
X-LIC-LOCATION:Asia/Tokyo
BEGIN:STANDARD
TZOFFSETFROM:+091859
TZOFFSETTO:+0900
TZNAME:JST
DTSTART:18880101T001859
RDATE:18880101T001859
END:STANDARD
BEGIN:STANDARD
TZOFFSETFROM:+0900
TZOFFSETTO:+0900
TZNAME:JCST
DTSTART:18960101T000000
RDATE:18960101T000000
END:STANDARD
BEGIN:STANDARD
TZOFFSETFROM:+0900
TZOFFSETTO:+0900
TZNAME:JST
DTSTART:19371001T000000
RDATE:19371001T000000
END:STANDARD
BEGIN:DAYLIGHT
TZOFFSETFROM:+0900
TZOFFSETTO:+1000
TZNAME:JDT
DTSTART:19480502T020000
RDATE:19480502T020000
RDATE:19490403T020000
RDATE:19500507T020000
RDATE:19510506T020000
END:DAYLIGHT
BEGIN:STANDARD
TZOFFSETFROM:+1000
TZOFFSETTO:+0900
TZNAME:JST
DTSTART:19480911T020000
RDATE:19480911T020000
RDATE:19490910T020000
RDATE:19500909T020000
RDATE:19510908T020000
END:STANDARD
END:VTIMEZONE
BEGIN:VEVENT
UID:ietf-94-6675-mptcp
SUMMARY:mptcp - Multipath TCP
LOCATION:Room 413
STATUS:CONFIRMED
CLASS:PUBLIC
DTSTART;TZID=Asia/Tokyo:20151102T090000
DTEND;TZID=Asia/Tokyo:20151102T113000
DTSTAMP:20161222T095703Z
URL:https://datatracker.ietf.org/meeting/94/materials/agenda-94-mptcp
DESCRIPTION:Morning Session I\n
 \n
 Agenda https://datatracker.ietf.org/meeting/94/materials/agenda-94-mptcp\n
 \n
 Session materials: https://datatracker.ietf.org/meeting/94/session/mptcp\n
 \n
 See in schedule: https://datatracker.ietf.org/meeting/94/agenda#row-94-2015-11-02-mon-0900-tsv-mptcp\n
END:VEVENT
BEGIN:VEVENT
UID:ietf-94-6687-tsvwg
SUMMARY:tsvwg - Transport Area Working Group
LOCATION:Room 303
STATUS:CONFIRMED
CLASS:PUBLIC
DTSTART;TZID=Asia/Tokyo:20151102T130000
DTEND;TZID=Asia/Tokyo:20151102T150000
DTSTAMP:20161222T095703Z
URL:https://datatracker.ietf.org/meeting/94/materials/agenda-94-tsvwg
DESCRIPTION:Afternoon Session I\n
 \n
 Agenda https://datatracker.ietf.org/meeting/94/materials/agenda-94-tsvwg\n
 \n
 Session materials: https://datatracker.ietf.org/meeting/94/session/tsvwg\n
 \n
 See in schedule: https://datatracker.ietf.org/meeting/94/agenda#row-94-2015-11-02-mon-1300-tsv-tsvwg\n
END:VEVENT
BEGIN:VEVENT
UID:ietf-94-6697-rmcat
SUMMARY:rmcat - RTP Media Congestion Avoidance Techniques
LOCATION:Room 501
STATUS:CONFIRMED
CLASS:PUBLIC
DTSTART;TZID=Asia/Tokyo:20151102T152000
DTEND;TZID=Asia/Tokyo:20151102T165000
DTSTAMP:20161222T095703Z
URL:https://datatracker.ietf.org/meeting/94/materials/agenda-94-rmcat
DESCRIPTION:Afternoon Session II\n
 \n
 Agenda https://datatracker.ietf.org/meeting/94/materials/agenda-94-rmcat\n
 \n
 Session materials: https://datatracker.ietf.org/meeting/94/session/rmcat\n
 \n
 See in schedule: https://datatracker.ietf.org/meeting/94/agenda#row-94-2015-11-02-mon-1520-tsv-rmcat\n
END:VEVENT
BEGIN:VEVENT
UID:ietf-94-6718-dtn
SUMMARY:dtn - Delay/Disruption Tolerant Networking
LOCATION:Room 302
STATUS:CONFIRMED
CLASS:PUBLIC
DTSTART;TZID=Asia/Tokyo:20151103T130000
DTEND;TZID=Asia/Tokyo:20151103T150000
DTSTAMP:20161222T095703Z
URL:https://datatracker.ietf.org/meeting/94/materials/agenda-94-dtn
DESCRIPTION:Afternoon Session I\n
 \n
 Agenda https://datatracker.ietf.org/meeting/94/materials/agenda-94-dtn\n
 \n
 Session materials: https://datatracker.ietf.org/meeting/94/session/dtn\n
 \n
 See in schedule: https://datatracker.ietf.org/meeting/94/agenda#row-94-2015-11-03-tue-1300-tsv-dtn\n
END:VEVENT
BEGIN:VEVENT
UID:ietf-94-6717-ippm
SUMMARY:ippm - IP Performance Metrics
LOCATION:Room 301
STATUS:CONFIRMED
CLASS:PUBLIC
DTSTART;TZID=Asia/Tokyo:20151103T130000
DTEND;TZID=Asia/Tokyo:20151103T150000
DTSTAMP:20161222T095703Z
URL:https://datatracker.ietf.org/meeting/94/materials/agenda-94-ippm
DESCRIPTION:Afternoon Session I\n
 \n
 Agenda https://datatracker.ietf.org/meeting/94/materials/agenda-94-ippm\n
 \n
 Session materials: https://datatracker.ietf.org/meeting/94/session/ippm\n
 \n
 See in schedule: https://datatracker.ietf.org/meeting/94/agenda#row-94-2015-11-03-tue-1300-tsv-ippm\n
END:VEVENT
BEGIN:VEVENT
UID:ietf-94-6728-taps
SUMMARY:taps - Transport Services
LOCATION:Room 304
STATUS:CONFIRMED
CLASS:PUBLIC
DTSTART;TZID=Asia/Tokyo:20151103T152000
DTEND;TZID=Asia/Tokyo:20151103T165000
DTSTAMP:20161222T095703Z
URL:https://datatracker.ietf.org/meeting/94/materials/agenda-94-taps
DESCRIPTION:Afternoon Session II\n
 \n
 Agenda https://datatracker.ietf.org/meeting/94/materials/agenda-94-taps\n
 \n
 Session materials: https://datatracker.ietf.org/meeting/94/session/taps\n
 \n
 See in schedule: https://datatracker.ietf.org/meeting/94/agenda#row-94-2015-11-03-tue-1520-tsv-taps\n
END:VEVENT
BEGIN:VEVENT
UID:ietf-94-6742-tram
SUMMARY:tram - TURN Revised and Modernized (0900 - 1030)
LOCATION:Room 302
STATUS:CONFIRMED
CLASS:PUBLIC
DTSTART;TZID=Asia/Tokyo:20151104T090000
DTEND;TZID=Asia/Tokyo:20151104T113000
DTSTAMP:20161222T095703Z
URL:https://datatracker.ietf.org/meeting/94/materials/agenda-94-tram
DESCRIPTION:Morning Session I\n
 Note: 0900 - 1030\n
 \n
 Agenda https://datatracker.ietf.org/meeting/94/materials/agenda-94-tram\n
 \n
 Session materials: https://datatracker.ietf.org/meeting/94/session/tram\n
 \n
 See in schedule: https://datatracker.ietf.org/meeting/94/agenda#row-94-2015-11-04-wed-0900-tsv-tram\n
END:VEVENT
BEGIN:VEVENT
UID:ietf-94-6753-tcpinc
SUMMARY:tcpinc - TCP Increased Security
LOCATION:Room 501
STATUS:CONFIRMED
CLASS:PUBLIC
DTSTART;TZID=Asia/Tokyo:20151104T130000
DTEND;TZID=Asia/Tokyo:20151104T150000
DTSTAMP:20161222T095703Z
URL:https://datatracker.ietf.org/meeting/94/materials/agenda-94-tcpinc
DESCRIPTION:Afternoon Session I\n
 \n
 Agenda https://datatracker.ietf.org/meeting/94/materials/agenda-94-tcpinc\n
 \n
 Session materials: https://datatracker.ietf.org/meeting/94/session/tcpinc\n
 \n
 See in schedule: https://datatracker.ietf.org/meeting/94/agenda#row-94-2015-11-04-wed-1300-tsv-tcpinc\n
END:VEVENT
BEGIN:VEVENT
UID:ietf-94-6824-tcpm
SUMMARY:tcpm - TCP Maintenance and Minor Extensions
LOCATION:Rooms 411/412
STATUS:CONFIRMED
CLASS:PUBLIC
DTSTART;TZID=Asia/Tokyo:20151105T090000
DTEND;TZID=Asia/Tokyo:20151105T113000
DTSTAMP:20161222T095703Z
URL:https://datatracker.ietf.org/meeting/94/materials/agenda-94-tcpm
DESCRIPTION:Morning Session I\n
 \n
 Agenda https://datatracker.ietf.org/meeting/94/materials/agenda-94-tcpm\n
 \n
 Session materials: https://datatracker.ietf.org/meeting/94/session/tcpm\n
 \n
 See in schedule: https://datatracker.ietf.org/meeting/94/agenda#row-94-2015-11-05-thu-0900-tsv-tcpm\n
END:VEVENT
BEGIN:VEVENT
UID:ietf-94-6774-tsvwg
SUMMARY:tsvwg - Transport Area Working Group
LOCATION:Room 302
STATUS:CONFIRMED
CLASS:PUBLIC
DTSTART;TZID=Asia/Tokyo:20151105T130000
DTEND;TZID=Asia/Tokyo:20151105T150000
DTSTAMP:20161222T095703Z
URL:https://datatracker.ietf.org/meeting/94/materials/agenda-94-tsvwg
DESCRIPTION:Afternoon Session I\n
 \n
 Agenda https://datatracker.ietf.org/meeting/94/materials/agenda-94-tsvwg\n
 \n
 Session materials: https://datatracker.ietf.org/meeting/94/session/tsvwg\n
 \n
 See in schedule: https://datatracker.ietf.org/meeting/94/agenda#row-94-2015-11-05-thu-1300-tsv-tsvwg\n
END:VEVENT
BEGIN:VEVENT
UID:ietf-94-6801-rmcat
SUMMARY:rmcat - RTP Media Congestion Avoidance Techniques
LOCATION:Room 501
STATUS:CONFIRMED
CLASS:PUBLIC
DTSTART;TZID=Asia/Tokyo:20151106T090000
DTEND;TZID=Asia/Tokyo:20151106T113000
DTSTAMP:20161222T095703Z
URL:https://datatracker.ietf.org/meeting/94/materials/agenda-94-rmcat
DESCRIPTION:Morning Session I\n
 \n
 Agenda https://datatracker.ietf.org/meeting/94/materials/agenda-94-rmcat\n
 \n
 Session materials: https://datatracker.ietf.org/meeting/94/session/rmcat\n
 \n
 See in schedule: https://datatracker.ietf.org/meeting/94/agenda#row-94-2015-11-06-fri-0900-tsv-rmcat\n
END:VEVENT
END:VCALENDAR
