BEGIN:VCALENDAR
VERSION:2.0
METHOD:PUBLISH
PRODID:-//IETF//datatracker.ietf.org ical agenda//EN
BEGIN:VTIMEZONE
TZID:America/Argentina/Buenos_Aires
X-LIC-LOCATION:America/Argentina/Buenos_Aires
BEGIN:STANDARD
TZOFFSETFROM:-035348
TZOFFSETTO:-041648
TZNAME:CMT
DTSTART:18941031T000000
RDATE:18941031T000000
END:STANDARD
BEGIN:STANDARD
TZOFFSETFROM:-041648
TZOFFSETTO:-0400
TZNAME:ART
DTSTART:19200501T000000
RDATE:19200501T000000
END:STANDARD
BEGIN:DAYLIGHT
TZOFFSETFROM:-0400
TZOFFSETTO:-0300
TZNAME:ARST
DTSTART:19301201T000000
RDATE:19301201T000000
RDATE:19311015T000000
RDATE:19321101T000000
RDATE:19331101T000000
RDATE:19341101T000000
RDATE:19351101T000000
RDATE:19361101T000000
RDATE:19371101T000000
RDATE:19381101T000000
RDATE:19391101T000000
RDATE:19400701T000000
RDATE:19411015T000000
RDATE:19431015T000000
RDATE:19461001T000000
RDATE:19631215T000000
RDATE:19641015T000000
RDATE:19651015T000000
RDATE:19661015T000000
RDATE:19671001T000000
RDATE:19681006T000000
END:DAYLIGHT
BEGIN:STANDARD
TZOFFSETFROM:-0300
TZOFFSETTO:-0400
TZNAME:ART
DTSTART:19310401T000000
RDATE:19310401T000000
RDATE:19320301T000000
RDATE:19330301T000000
RDATE:19340301T000000
RDATE:19350301T000000
RDATE:19360301T000000
RDATE:19370301T000000
RDATE:19380301T000000
RDATE:19390301T000000
RDATE:19400301T000000
RDATE:19410615T000000
RDATE:19430801T000000
RDATE:19460301T000000
RDATE:19631001T000000
RDATE:19640301T000000
RDATE:19650301T000000
RDATE:19660301T000000
RDATE:19670402T000000
RDATE:19680407T000000
RDATE:19690406T000000
END:STANDARD
BEGIN:STANDARD
TZOFFSETFROM:-0400
TZOFFSETTO:-0300
TZNAME:ART
DTSTART:19691005T000000
RDATE:19691005T000000
END:STANDARD
BEGIN:DAYLIGHT
TZOFFSETFROM:-0300
TZOFFSETTO:-0200
TZNAME:ARST
DTSTART:19740123T000000
RDATE:19740123T000000
RDATE:19881201T000000
RDATE:19891015T000000
RDATE:19901021T000000
RDATE:19911020T000000
RDATE:19921018T000000
RDATE:20071230T000000
RDATE:20081019T000000
END:DAYLIGHT
BEGIN:STANDARD
TZOFFSETFROM:-0200
TZOFFSETTO:-0300
TZNAME:ART
DTSTART:19740501T000000
RDATE:19740501T000000
RDATE:19890305T000000
RDATE:19900304T000000
RDATE:19910303T000000
RDATE:19920301T000000
RDATE:19930307T000000
RDATE:20080316T000000
RDATE:20090315T000000
END:STANDARD
BEGIN:DAYLIGHT
TZOFFSETFROM:-0300
TZOFFSETTO:-0300
TZNAME:ARST
DTSTART:19991003T000000
RDATE:19991003T000000
END:DAYLIGHT
BEGIN:STANDARD
TZOFFSETFROM:-0300
TZOFFSETTO:-0300
TZNAME:ART
DTSTART:20000303T000000
RDATE:20000303T000000
END:STANDARD
END:VTIMEZONE
BEGIN:VEVENT
UID:ietf-95-7027-dispatch
SUMMARY:dispatch - Dispatch
LOCATION:Buen Ayre C
STATUS:CONFIRMED
CLASS:PUBLIC
DTSTART;TZID=America/Argentina/Buenos_Aires:20160404T100000
DTEND;TZID=America/Argentina/Buenos_Aires:20160404T123000
DTSTAMP:20161222T095703Z
URL:https://datatracker.ietf.org/meeting/95/materials/agenda-95-dispatch
DESCRIPTION:Morning Session I\n
 \n
 Agenda https://datatracker.ietf.org/meeting/95/materials/agenda-95-dispatch\n
 \n
 Session materials: https://datatracker.ietf.org/meeting/95/session/dispatch\n
 \n
 See in schedule: https://datatracker.ietf.org/meeting/95/agenda#row-95-2016-04-04-mon-1000-art-dispatch\n
END:VEVENT
BEGIN:VEVENT
UID:ietf-95-7038-uta
SUMMARY:uta - Using TLS in Applications
LOCATION:Atlantico C
STATUS:CONFIRMED
CLASS:PUBLIC
DTSTART;TZID=America/Argentina/Buenos_Aires:20160404T140000
DTEND;TZID=America/Argentina/Buenos_Aires:20160404T153000
DTSTAMP:20161222T095703Z
URL:https://datatracker.ietf.org/meeting/95/materials/agenda-95-uta
DESCRIPTION:Afternoon Session I\n
 \n
 Agenda https://datatracker.ietf.org/meeting/95/materials/agenda-95-uta\n
 \n
 Session materials: https://datatracker.ietf.org/meeting/95/session/uta\n
 \n
 See in schedule: https://datatracker.ietf.org/meeting/95/agenda#row-95-2016-04-04-mon-1400-art-uta\n
END:VEVENT
BEGIN:VEVENT
UID:ietf-95-7049-httpbis
SUMMARY:httpbis - Hypertext Transfer Protocol
LOCATION:Atlantico B
STATUS:CONFIRMED
CLASS:PUBLIC
DTSTART;TZID=America/Argentina/Buenos_Aires:20160404T155000
DTEND;TZID=America/Argentina/Buenos_Aires:20160404T172000
DTSTAMP:20161222T095703Z
URL:https://datatracker.ietf.org/meeting/95/materials/agenda-95-httpbis
DESCRIPTION:Afternoon Session II\n
 \n
 Agenda https://datatracker.ietf.org/meeting/95/materials/agenda-95-httpbis\n
 \n
 Session materials: https://datatracker.ietf.org/meeting/95/session/httpbis\n
 \n
 See in schedule: https://datatracker.ietf.org/meeting/95/agenda#row-95-2016-04-04-mon-1550-art-httpbis\n
END:VEVENT
BEGIN:VEVENT
UID:ietf-95-7048-perc
SUMMARY:perc - Privacy Enhanced RTP Conferencing 
LOCATION:Buen Ayre A
STATUS:CONFIRMED
CLASS:PUBLIC
DTSTART;TZID=America/Argentina/Buenos_Aires:20160404T155000
DTEND;TZID=America/Argentina/Buenos_Aires:20160404T172000
DTSTAMP:20161222T095703Z
URL:https://datatracker.ietf.org/meeting/95/materials/agenda-95-perc
DESCRIPTION:Afternoon Session II\n
 \n
 Agenda https://datatracker.ietf.org/meeting/95/materials/agenda-95-perc\n
 \n
 Session materials: https://datatracker.ietf.org/meeting/95/session/perc\n
 \n
 See in schedule: https://datatracker.ietf.org/meeting/95/agenda#row-95-2016-04-04-mon-1550-art-perc\n
END:VEVENT
BEGIN:VEVENT
UID:ietf-95-7057-regext
SUMMARY:regext - Registration Protocols Extensions
LOCATION:Quebracho A
STATUS:CONFIRMED
CLASS:PUBLIC
DTSTART;TZID=America/Argentina/Buenos_Aires:20160404T174000
DTEND;TZID=America/Argentina/Buenos_Aires:20160404T194000
DTSTAMP:20161222T095703Z
URL:https://datatracker.ietf.org/meeting/95/materials/agenda-95-regext
DESCRIPTION:Afternoon Session III\n
 \n
 Agenda https://datatracker.ietf.org/meeting/95/materials/agenda-95-regext\n
 \n
 Session materials: https://datatracker.ietf.org/meeting/95/session/regext\n
 \n
 See in schedule: https://datatracker.ietf.org/meeting/95/agenda#row-95-2016-04-04-mon-1740-art-regext\n
END:VEVENT
BEGIN:VEVENT
UID:ietf-95-7058-webpush
SUMMARY:webpush - Web-Based Push Notifications
LOCATION:Quebracho B
STATUS:CONFIRMED
CLASS:PUBLIC
DTSTART;TZID=America/Argentina/Buenos_Aires:20160404T174000
DTEND;TZID=America/Argentina/Buenos_Aires:20160404T194000
DTSTAMP:20161222T095703Z
URL:https://datatracker.ietf.org/meeting/95/materials/agenda-95-webpush
DESCRIPTION:Afternoon Session III\n
 \n
 Agenda https://datatracker.ietf.org/meeting/95/materials/agenda-95-webpush\n
 \n
 Session materials: https://datatracker.ietf.org/meeting/95/session/webpush\n
 \n
 See in schedule: https://datatracker.ietf.org/meeting/95/agenda#row-95-2016-04-04-mon-1740-art-webpush\n
END:VEVENT
BEGIN:VEVENT
UID:ietf-95-7070-mmusic
SUMMARY:mmusic - Multiparty Multimedia Session Control
LOCATION:Quebracho B
STATUS:CONFIRMED
CLASS:PUBLIC
DTSTART;TZID=America/Argentina/Buenos_Aires:20160405T100000
DTEND;TZID=America/Argentina/Buenos_Aires:20160405T123000
DTSTAMP:20161222T095703Z
URL:https://datatracker.ietf.org/meeting/95/materials/agenda-95-mmusic
DESCRIPTION:Morning Session I\n
 \n
 Agenda https://datatracker.ietf.org/meeting/95/materials/agenda-95-mmusic\n
 \n
 Session materials: https://datatracker.ietf.org/meeting/95/session/mmusic\n
 \n
 See in schedule: https://datatracker.ietf.org/meeting/95/agenda#row-95-2016-04-05-tue-1000-art-mmusic\n
END:VEVENT
BEGIN:VEVENT
UID:ietf-95-7100-rtcweb
SUMMARY:rtcweb - Real-Time Communication in WEB-browsers
LOCATION:Pacifico A
STATUS:CONFIRMED
CLASS:PUBLIC
DTSTART;TZID=America/Argentina/Buenos_Aires:20160405T162000
DTEND;TZID=America/Argentina/Buenos_Aires:20160405T172000
DTSTAMP:20161222T095703Z
URL:https://datatracker.ietf.org/meeting/95/materials/agenda-95-rtcweb
DESCRIPTION:Afternoon Session II\n
 \n
 Agenda https://datatracker.ietf.org/meeting/95/materials/agenda-95-rtcweb\n
 \n
 Session materials: https://datatracker.ietf.org/meeting/95/session/rtcweb\n
 \n
 See in schedule: https://datatracker.ietf.org/meeting/95/agenda#row-95-2016-04-05-tue-1620-art-rtcweb\n
END:VEVENT
BEGIN:VEVENT
UID:ietf-95-7098-scim
SUMMARY:scim - System for Cross-domain Identity Management
LOCATION:Atlantico C
STATUS:CONFIRMED
CLASS:PUBLIC
DTSTART;TZID=America/Argentina/Buenos_Aires:20160405T162000
DTEND;TZID=America/Argentina/Buenos_Aires:20160405T172000
DTSTAMP:20161222T095703Z
URL:https://datatracker.ietf.org/meeting/95/materials/agenda-95-scim
DESCRIPTION:Afternoon Session II\n
 \n
 Agenda https://datatracker.ietf.org/meeting/95/materials/agenda-95-scim\n
 \n
 Session materials: https://datatracker.ietf.org/meeting/95/session/scim\n
 \n
 See in schedule: https://datatracker.ietf.org/meeting/95/agenda#row-95-2016-04-05-tue-1620-art-scim\n
END:VEVENT
BEGIN:VEVENT
UID:ietf-95-7110-capport
SUMMARY:capport - Captive Portal Interaction
LOCATION:Atlantico C
STATUS:CONFIRMED
CLASS:PUBLIC
DTSTART;TZID=America/Argentina/Buenos_Aires:20160405T174000
DTEND;TZID=America/Argentina/Buenos_Aires:20160405T191000
DTSTAMP:20161222T095703Z
URL:https://datatracker.ietf.org/meeting/95/materials/agenda-95-capport
DESCRIPTION:Afternoon Session III\n
 \n
 Agenda https://datatracker.ietf.org/meeting/95/materials/agenda-95-capport\n
 \n
 Session materials: https://datatracker.ietf.org/meeting/95/session/capport\n
 \n
 See in schedule: https://datatracker.ietf.org/meeting/95/agenda#row-95-2016-04-05-tue-1740-art-capport\n
END:VEVENT
BEGIN:VEVENT
UID:ietf-95-7107-core
SUMMARY:core - Constrained RESTful Environments
LOCATION:Buen Ayre B
STATUS:CONFIRMED
CLASS:PUBLIC
DTSTART;TZID=America/Argentina/Buenos_Aires:20160405T174000
DTEND;TZID=America/Argentina/Buenos_Aires:20160405T191000
DTSTAMP:20161222T095703Z
URL:https://datatracker.ietf.org/meeting/95/materials/agenda-95-core
DESCRIPTION:Afternoon Session III\n
 \n
 Agenda https://datatracker.ietf.org/meeting/95/materials/agenda-95-core\n
 \n
 Session materials: https://datatracker.ietf.org/meeting/95/session/core\n
 \n
 See in schedule: https://datatracker.ietf.org/meeting/95/agenda#row-95-2016-04-05-tue-1740-art-core\n
END:VEVENT
BEGIN:VEVENT
UID:ietf-95-7106-stir
SUMMARY:stir - Secure Telephone Identity Revisited
LOCATION:Quebracho B
STATUS:CONFIRMED
CLASS:PUBLIC
DTSTART;TZID=America/Argentina/Buenos_Aires:20160405T174000
DTEND;TZID=America/Argentina/Buenos_Aires:20160405T191000
DTSTAMP:20161222T095703Z
URL:https://datatracker.ietf.org/meeting/95/materials/agenda-95-stir
DESCRIPTION:Afternoon Session III\n
 \n
 Agenda https://datatracker.ietf.org/meeting/95/materials/agenda-95-stir\n
 \n
 Session materials: https://datatracker.ietf.org/meeting/95/session/stir\n
 \n
 See in schedule: https://datatracker.ietf.org/meeting/95/agenda#row-95-2016-04-05-tue-1740-art-stir\n
END:VEVENT
BEGIN:VEVENT
UID:ietf-95-7117-ecrit
SUMMARY:ecrit - Emergency Context Resolution with Internet Technologies
LOCATION:Quebracho A
STATUS:CONFIRMED
CLASS:PUBLIC
DTSTART;TZID=America/Argentina/Buenos_Aires:20160406T100000
DTEND;TZID=America/Argentina/Buenos_Aires:20160406T123000
DTSTAMP:20161222T095703Z
URL:https://datatracker.ietf.org/meeting/95/materials/agenda-95-ecrit
DESCRIPTION:Morning Session I\n
 \n
 Agenda https://datatracker.ietf.org/meeting/95/materials/agenda-95-ecrit\n
 \n
 Session materials: https://datatracker.ietf.org/meeting/95/session/ecrit\n
 \n
 See in schedule: https://datatracker.ietf.org/meeting/95/agenda#row-95-2016-04-06-wed-1000-art-ecrit\n
END:VEVENT
BEGIN:VEVENT
UID:ietf-95-7134-avtcore
SUMMARY:avtcore - Audio/Video Transport Core Maintenance
LOCATION:Atlantico C
STATUS:CONFIRMED
CLASS:PUBLIC
DTSTART;TZID=America/Argentina/Buenos_Aires:20160406T140000
DTEND;TZID=America/Argentina/Buenos_Aires:20160406T160000
DTSTAMP:20161222T095703Z
URL:https://datatracker.ietf.org/meeting/95/materials/agenda-95-avtcore
DESCRIPTION:Afternoon Session I\n
 \n
 Agenda https://datatracker.ietf.org/meeting/95/materials/agenda-95-avtcore\n
 \n
 Session materials: https://datatracker.ietf.org/meeting/95/session/avtcore\n
 \n
 See in schedule: https://datatracker.ietf.org/meeting/95/agenda#row-95-2016-04-06-wed-1400-art-avtcore\n
END:VEVENT
BEGIN:VEVENT
UID:ietf-95-7141-xrblock
SUMMARY:xrblock - Metric Blocks for use with RTCP's Extended Report Framework
LOCATION:Quebracho A
STATUS:CONFIRMED
CLASS:PUBLIC
DTSTART;TZID=America/Argentina/Buenos_Aires:20160406T162000
DTEND;TZID=America/Argentina/Buenos_Aires:20160406T172000
DTSTAMP:20161222T095703Z
URL:https://datatracker.ietf.org/meeting/95/materials/agenda-95-xrblock
DESCRIPTION:Afternoon Session II\n
 \n
 Agenda https://datatracker.ietf.org/meeting/95/materials/agenda-95-xrblock\n
 \n
 Session materials: https://datatracker.ietf.org/meeting/95/session/xrblock\n
 \n
 See in schedule: https://datatracker.ietf.org/meeting/95/agenda#row-95-2016-04-06-wed-1620-art-xrblock\n
END:VEVENT
BEGIN:VEVENT
UID:ietf-95-7157-netvc
SUMMARY:netvc - Internet Video Codec
LOCATION:Atlantico B
STATUS:CONFIRMED
CLASS:PUBLIC
DTSTART;TZID=America/Argentina/Buenos_Aires:20160407T100000
DTEND;TZID=America/Argentina/Buenos_Aires:20160407T123000
DTSTAMP:20161222T095703Z
URL:https://datatracker.ietf.org/meeting/95/materials/agenda-95-netvc
DESCRIPTION:Morning Session I\n
 \n
 Agenda https://datatracker.ietf.org/meeting/95/materials/agenda-95-netvc\n
 \n
 Session materials: https://datatracker.ietf.org/meeting/95/session/netvc\n
 \n
 See in schedule: https://datatracker.ietf.org/meeting/95/agenda#row-95-2016-04-07-thu-1000-art-netvc\n
END:VEVENT
BEGIN:VEVENT
UID:ietf-95-7169-cdni
SUMMARY:cdni - Content Delivery Networks Interconnection
LOCATION:Atlantico B
STATUS:CONFIRMED
CLASS:PUBLIC
DTSTART;TZID=America/Argentina/Buenos_Aires:20160407T140000
DTEND;TZID=America/Argentina/Buenos_Aires:20160407T160000
DTSTAMP:20161222T095703Z
URL:https://datatracker.ietf.org/meeting/95/materials/agenda-95-cdni
DESCRIPTION:Afternoon Session I\n
 \n
 Agenda https://datatracker.ietf.org/meeting/95/materials/agenda-95-cdni\n
 \n
 Session materials: https://datatracker.ietf.org/meeting/95/session/cdni\n
 \n
 See in schedule: https://datatracker.ietf.org/meeting/95/agenda#row-95-2016-04-07-thu-1400-art-cdni\n
END:VEVENT
BEGIN:VEVENT
UID:ietf-95-7168-ice
SUMMARY:ice - Interactive Connectivity Establishment
LOCATION:Buen Ayre A
STATUS:CONFIRMED
CLASS:PUBLIC
DTSTART;TZID=America/Argentina/Buenos_Aires:20160407T140000
DTEND;TZID=America/Argentina/Buenos_Aires:20160407T160000
DTSTAMP:20161222T095703Z
URL:https://datatracker.ietf.org/meeting/95/materials/agenda-95-ice
DESCRIPTION:Afternoon Session I\n
 \n
 Agenda https://datatracker.ietf.org/meeting/95/materials/agenda-95-ice\n
 \n
 Session materials: https://datatracker.ietf.org/meeting/95/session/ice\n
 \n
 See in schedule: https://datatracker.ietf.org/meeting/95/agenda#row-95-2016-04-07-thu-1400-art-ice\n
END:VEVENT
BEGIN:VEVENT
UID:ietf-95-7190-slim
SUMMARY:slim - Selection of Language for Internet Media
LOCATION:Quebracho B
STATUS:CONFIRMED
CLASS:PUBLIC
DTSTART;TZID=America/Argentina/Buenos_Aires:20160407T162000
DTEND;TZID=America/Argentina/Buenos_Aires:20160407T172000
DTSTAMP:20161222T095703Z
URL:https://datatracker.ietf.org/meeting/95/materials/agenda-95-slim
DESCRIPTION:Afternoon Session II\n
 \n
 Agenda https://datatracker.ietf.org/meeting/95/materials/agenda-95-slim\n
 \n
 Session materials: https://datatracker.ietf.org/meeting/95/session/slim\n
 \n
 See in schedule: https://datatracker.ietf.org/meeting/95/agenda#row-95-2016-04-07-thu-1620-art-slim\n
END:VEVENT
BEGIN:VEVENT
UID:ietf-95-7192-stir
SUMMARY:stir - Secure Telephone Identity Revisited
LOCATION:Buen Ayre A
STATUS:CONFIRMED
CLASS:PUBLIC
DTSTART;TZID=America/Argentina/Buenos_Aires:20160407T162000
DTEND;TZID=America/Argentina/Buenos_Aires:20160407T172000
DTSTAMP:20161222T095703Z
URL:https://datatracker.ietf.org/meeting/95/materials/agenda-95-stir
DESCRIPTION:Afternoon Session II\n
 \n
 Agenda https://datatracker.ietf.org/meeting/95/materials/agenda-95-stir\n
 \n
 Session materials: https://datatracker.ietf.org/meeting/95/session/stir\n
 \n
 See in schedule: https://datatracker.ietf.org/meeting/95/agenda#row-95-2016-04-07-thu-1620-art-stir\n
END:VEVENT
BEGIN:VEVENT
UID:ietf-95-7180-avtext
SUMMARY:avtext - Audio/Video Transport Extensions
LOCATION:Buen Ayre A
STATUS:CONFIRMED
CLASS:PUBLIC
DTSTART;TZID=America/Argentina/Buenos_Aires:20160407T173000
DTEND;TZID=America/Argentina/Buenos_Aires:20160407T193000
DTSTAMP:20161222T095703Z
URL:https://datatracker.ietf.org/meeting/95/materials/agenda-95-avtext
DESCRIPTION:Afternoon Session III\n
 \n
 Agenda https://datatracker.ietf.org/meeting/95/materials/agenda-95-avtext\n
 \n
 Session materials: https://datatracker.ietf.org/meeting/95/session/avtext\n
 \n
 See in schedule: https://datatracker.ietf.org/meeting/95/agenda#row-95-2016-04-07-thu-1730-art-avtext\n
END:VEVENT
BEGIN:VEVENT
UID:ietf-95-7182-httpbis
SUMMARY:httpbis - Hypertext Transfer Protocol
LOCATION:Atlantico C
STATUS:CONFIRMED
CLASS:PUBLIC
DTSTART;TZID=America/Argentina/Buenos_Aires:20160407T173000
DTEND;TZID=America/Argentina/Buenos_Aires:20160407T193000
DTSTAMP:20161222T095703Z
URL:https://datatracker.ietf.org/meeting/95/materials/agenda-95-httpbis
DESCRIPTION:Afternoon Session III\n
 \n
 Agenda https://datatracker.ietf.org/meeting/95/materials/agenda-95-httpbis\n
 \n
 Session materials: https://datatracker.ietf.org/meeting/95/session/httpbis\n
 \n
 See in schedule: https://datatracker.ietf.org/meeting/95/agenda#row-95-2016-04-07-thu-1730-art-httpbis\n
END:VEVENT
BEGIN:VEVENT
UID:ietf-95-7177-modern
SUMMARY:modern - Managing, Ordering, Distributing, Exposing, & Registering telephone Numbers
LOCATION:Quebracho A
STATUS:CONFIRMED
CLASS:PUBLIC
DTSTART;TZID=America/Argentina/Buenos_Aires:20160407T173000
DTEND;TZID=America/Argentina/Buenos_Aires:20160407T193000
DTSTAMP:20161222T095703Z
URL:https://datatracker.ietf.org/meeting/95/materials/agenda-95-modern
DESCRIPTION:Afternoon Session III\n
 \n
 Agenda https://datatracker.ietf.org/meeting/95/materials/agenda-95-modern\n
 \n
 Session materials: https://datatracker.ietf.org/meeting/95/session/modern\n
 \n
 See in schedule: https://datatracker.ietf.org/meeting/95/agenda#row-95-2016-04-07-thu-1730-art-modern\n
END:VEVENT
BEGIN:VEVENT
UID:ietf-95-7203-core
SUMMARY:core - Constrained RESTful Environments
LOCATION:Buen Ayre B
STATUS:CONFIRMED
CLASS:PUBLIC
DTSTART;TZID=America/Argentina/Buenos_Aires:20160408T100000
DTEND;TZID=America/Argentina/Buenos_Aires:20160408T120000
DTSTAMP:20161222T095703Z
URL:https://datatracker.ietf.org/meeting/95/materials/agenda-95-core
DESCRIPTION:Morning Session I\n
 \n
 Agenda https://datatracker.ietf.org/meeting/95/materials/agenda-95-core\n
 \n
 Session materials: https://datatracker.ietf.org/meeting/95/session/core\n
 \n
 See in schedule: https://datatracker.ietf.org/meeting/95/agenda#row-95-2016-04-08-fri-1000-art-core\n
END:VEVENT
BEGIN:VEVENT
UID:ietf-95-7208-rtcweb
SUMMARY:rtcweb - Real-Time Communication in WEB-browsers
LOCATION:Pacifico A
STATUS:CONFIRMED
CLASS:PUBLIC
DTSTART;TZID=America/Argentina/Buenos_Aires:20160408T100000
DTEND;TZID=America/Argentina/Buenos_Aires:20160408T120000
DTSTAMP:20161222T095703Z
URL:https://datatracker.ietf.org/meeting/95/materials/agenda-95-rtcweb
DESCRIPTION:Morning Session I\n
 \n
 Agenda https://datatracker.ietf.org/meeting/95/materials/agenda-95-rtcweb\n
 \n
 Session materials: https://datatracker.ietf.org/meeting/95/session/rtcweb\n
 \n
 See in schedule: https://datatracker.ietf.org/meeting/95/agenda#row-95-2016-04-08-fri-1000-art-rtcweb\n
END:VEVENT
BEGIN:VEVENT
UID:ietf-95-7217-clue
SUMMARY:clue - ControLling mUltiple streams for tElepresence (CANCELED)
LOCATION:Atlantico B
STATUS:CONFIRMED
CLASS:PUBLIC
DTSTART;TZID=America/Argentina/Buenos_Aires:20160408T122000
DTEND;TZID=America/Argentina/Buenos_Aires:20160408T132000
DTSTAMP:20161222T095703Z
DESCRIPTION:Afternoon Session I\n
 Note: CANCELED\n
 \n
 Session materials: https://datatracker.ietf.org/meeting/95/session/clue\n
 \n
 See in schedule: https://datatracker.ietf.org/meeting/95/agenda#row-95-2016-04-08-fri-1220-art-clue\n
END:VEVENT
BEGIN:VEVENT
UID:ietf-95-7219-sipcore
SUMMARY:sipcore - Session Initiation Protocol Core
LOCATION:Buen Ayre C
STATUS:CONFIRMED
CLASS:PUBLIC
DTSTART;TZID=America/Argentina/Buenos_Aires:20160408T122000
DTEND;TZID=America/Argentina/Buenos_Aires:20160408T132000
DTSTAMP:20161222T095703Z
URL:https://datatracker.ietf.org/meeting/95/materials/agenda-95-sipcore
DESCRIPTION:Afternoon Session I\n
 \n
 Agenda https://datatracker.ietf.org/meeting/95/materials/agenda-95-sipcore\n
 \n
 Session materials: https://datatracker.ietf.org/meeting/95/session/sipcore\n
 \n
 See in schedule: https://datatracker.ietf.org/meeting/95/agenda#row-95-2016-04-08-fri-1220-art-sipcore\n
END:VEVENT
END:VCALENDAR
