BEGIN:VCALENDAR
VERSION:2.0
METHOD:PUBLISH
PRODID:-//IETF//datatracker.ietf.org ical agenda//EN
BEGIN:VTIMEZONE
TZID:America/Argentina/Buenos_Aires
X-LIC-LOCATION:America/Argentina/Buenos_Aires
BEGIN:STANDARD
TZOFFSETFROM:-035348
TZOFFSETTO:-041648
TZNAME:CMT
DTSTART:18941031T000000
RDATE:18941031T000000
END:STANDARD
BEGIN:STANDARD
TZOFFSETFROM:-041648
TZOFFSETTO:-0400
TZNAME:ART
DTSTART:19200501T000000
RDATE:19200501T000000
END:STANDARD
BEGIN:DAYLIGHT
TZOFFSETFROM:-0400
TZOFFSETTO:-0300
TZNAME:ARST
DTSTART:19301201T000000
RDATE:19301201T000000
RDATE:19311015T000000
RDATE:19321101T000000
RDATE:19331101T000000
RDATE:19341101T000000
RDATE:19351101T000000
RDATE:19361101T000000
RDATE:19371101T000000
RDATE:19381101T000000
RDATE:19391101T000000
RDATE:19400701T000000
RDATE:19411015T000000
RDATE:19431015T000000
RDATE:19461001T000000
RDATE:19631215T000000
RDATE:19641015T000000
RDATE:19651015T000000
RDATE:19661015T000000
RDATE:19671001T000000
RDATE:19681006T000000
END:DAYLIGHT
BEGIN:STANDARD
TZOFFSETFROM:-0300
TZOFFSETTO:-0400
TZNAME:ART
DTSTART:19310401T000000
RDATE:19310401T000000
RDATE:19320301T000000
RDATE:19330301T000000
RDATE:19340301T000000
RDATE:19350301T000000
RDATE:19360301T000000
RDATE:19370301T000000
RDATE:19380301T000000
RDATE:19390301T000000
RDATE:19400301T000000
RDATE:19410615T000000
RDATE:19430801T000000
RDATE:19460301T000000
RDATE:19631001T000000
RDATE:19640301T000000
RDATE:19650301T000000
RDATE:19660301T000000
RDATE:19670402T000000
RDATE:19680407T000000
RDATE:19690406T000000
END:STANDARD
BEGIN:STANDARD
TZOFFSETFROM:-0400
TZOFFSETTO:-0300
TZNAME:ART
DTSTART:19691005T000000
RDATE:19691005T000000
END:STANDARD
BEGIN:DAYLIGHT
TZOFFSETFROM:-0300
TZOFFSETTO:-0200
TZNAME:ARST
DTSTART:19740123T000000
RDATE:19740123T000000
RDATE:19881201T000000
RDATE:19891015T000000
RDATE:19901021T000000
RDATE:19911020T000000
RDATE:19921018T000000
RDATE:20071230T000000
RDATE:20081019T000000
END:DAYLIGHT
BEGIN:STANDARD
TZOFFSETFROM:-0200
TZOFFSETTO:-0300
TZNAME:ART
DTSTART:19740501T000000
RDATE:19740501T000000
RDATE:19890305T000000
RDATE:19900304T000000
RDATE:19910303T000000
RDATE:19920301T000000
RDATE:19930307T000000
RDATE:20080316T000000
RDATE:20090315T000000
END:STANDARD
BEGIN:DAYLIGHT
TZOFFSETFROM:-0300
TZOFFSETTO:-0300
TZNAME:ARST
DTSTART:19991003T000000
RDATE:19991003T000000
END:DAYLIGHT
BEGIN:STANDARD
TZOFFSETFROM:-0300
TZOFFSETTO:-0300
TZNAME:ART
DTSTART:20000303T000000
RDATE:20000303T000000
END:STANDARD
END:VTIMEZONE
BEGIN:VEVENT
UID:ietf-95-6957-tools
SUMMARY:Code Sprint
LOCATION:Pacara B
STATUS:CONFIRMED
CLASS:PUBLIC
DTSTART;TZID=America/Argentina/Buenos_Aires:20160402T093000
DTEND;TZID=America/Argentina/Buenos_Aires:20160402T180000
DTSTAMP:20161222T095703Z
DESCRIPTION:Code Sprint\n
 \n
 Session materials: https://datatracker.ietf.org/meeting/95/session/tools\n
 \n
 See in schedule: https://datatracker.ietf.org/meeting/95/agenda#row-95-2016-04-02-sat-0930-tools-code-sprint\n
END:VEVENT
BEGIN:VEVENT
UID:ietf-95-6956-iepg
SUMMARY:IEPG Meeting
LOCATION:Buen Ayre B
STATUS:CONFIRMED
CLASS:PUBLIC
DTSTART;TZID=America/Argentina/Buenos_Aires:20160403T100000
DTEND;TZID=America/Argentina/Buenos_Aires:20160403T120000
DTSTAMP:20161222T095703Z
DESCRIPTION:IEPG Meeting\n
 \n
 Session materials: https://datatracker.ietf.org/meeting/95/session/iepg\n
 \n
 See in schedule: https://datatracker.ietf.org/meeting/95/agenda#row-95-2016-04-03-sun-1000-iepg-iepg-meeting\n
END:VEVENT
BEGIN:VEVENT
UID:ietf-95-7018-edu
SUMMARY:Unwritten Rules of the IETF
LOCATION:Buen Ayre A
STATUS:CONFIRMED
CLASS:PUBLIC
DTSTART;TZID=America/Argentina/Buenos_Aires:20160403T110000
DTEND;TZID=America/Argentina/Buenos_Aires:20160403T120000
DTSTAMP:20161222T095703Z
DESCRIPTION:Unwritten Rules of the IETF\n
 \n
 Session materials: https://datatracker.ietf.org/meeting/95/session/edu\n
 \n
 See in schedule: https://datatracker.ietf.org/meeting/95/agenda#row-95-2016-04-03-sun-1100-edu-unwritten-rules-of-the-ietf\n
END:VEVENT
BEGIN:VEVENT
UID:ietf-95-7019-edu
SUMMARY:Speed Mentoring
LOCATION:Buen Ayre A
STATUS:CONFIRMED
CLASS:PUBLIC
DTSTART;TZID=America/Argentina/Buenos_Aires:20160403T120000
DTEND;TZID=America/Argentina/Buenos_Aires:20160403T130000
DTSTAMP:20161222T095703Z
DESCRIPTION:Speed Mentoring\n
 \n
 Session materials: https://datatracker.ietf.org/meeting/95/session/edu\n
 \n
 See in schedule: https://datatracker.ietf.org/meeting/95/agenda#row-95-2016-04-03-sun-1200-edu-speed-mentoring\n
END:VEVENT
BEGIN:VEVENT
UID:ietf-95-6955-edu
SUMMARY:Newcomers' Orientation
LOCATION:Buen Ayre A
STATUS:CONFIRMED
CLASS:PUBLIC
DTSTART;TZID=America/Argentina/Buenos_Aires:20160403T130000
DTEND;TZID=America/Argentina/Buenos_Aires:20160403T145000
DTSTAMP:20161222T095703Z
DESCRIPTION:Newcomers' Orientation\n
 \n
 Session materials: https://datatracker.ietf.org/meeting/95/session/edu\n
 \n
 See in schedule: https://datatracker.ietf.org/meeting/95/agenda#row-95-2016-04-03-sun-1300-edu-newcomers-orientation\n
END:VEVENT
BEGIN:VEVENT
UID:ietf-95-7015-edu
SUMMARY:Newcomers' Orientation Spanish
LOCATION:Buen Ayre B
STATUS:CONFIRMED
CLASS:PUBLIC
DTSTART;TZID=America/Argentina/Buenos_Aires:20160403T130000
DTEND;TZID=America/Argentina/Buenos_Aires:20160403T145000
DTSTAMP:20161222T095703Z
DESCRIPTION:Newcomers' Orientation Spanish\n
 \n
 Session materials: https://datatracker.ietf.org/meeting/95/session/edu\n
 \n
 See in schedule: https://datatracker.ietf.org/meeting/95/agenda#row-95-2016-04-03-sun-1300-edu-newcomers-orientation-spanish\n
END:VEVENT
BEGIN:VEVENT
UID:ietf-95-7017-edu
SUMMARY:Overview of the ART Area
LOCATION:Atlantico B
STATUS:CONFIRMED
CLASS:PUBLIC
DTSTART;TZID=America/Argentina/Buenos_Aires:20160403T130000
DTEND;TZID=America/Argentina/Buenos_Aires:20160403T145000
DTSTAMP:20161222T095703Z
DESCRIPTION:Overview of the ART Area\n
 \n
 Session materials: https://datatracker.ietf.org/meeting/95/session/edu\n
 \n
 See in schedule: https://datatracker.ietf.org/meeting/95/agenda#row-95-2016-04-03-sun-1300-edu-overview-of-the-art-area\n
END:VEVENT
BEGIN:VEVENT
UID:ietf-95-7016-edu
SUMMARY:IEEE 802 Wireless 
LOCATION:Buen Ayre B
STATUS:CONFIRMED
CLASS:PUBLIC
DTSTART;TZID=America/Argentina/Buenos_Aires:20160403T150000
DTEND;TZID=America/Argentina/Buenos_Aires:20160403T165000
DTSTAMP:20161222T095703Z
DESCRIPTION:IEEE 802 Wireless \n
 \n
 Session materials: https://datatracker.ietf.org/meeting/95/session/edu\n
 \n
 See in schedule: https://datatracker.ietf.org/meeting/95/agenda#row-95-2016-04-03-sun-1500-edu-ieee-802-wireless\n
END:VEVENT
BEGIN:VEVENT
UID:ietf-95-7020-edu
SUMMARY:Journey from I-D to RFC
LOCATION:Buen Ayre A
STATUS:CONFIRMED
CLASS:PUBLIC
DTSTART;TZID=America/Argentina/Buenos_Aires:20160403T150000
DTEND;TZID=America/Argentina/Buenos_Aires:20160403T160000
DTSTAMP:20161222T095703Z
DESCRIPTION:Journey from I-D to RFC\n
 \n
 Session materials: https://datatracker.ietf.org/meeting/95/session/edu\n
 \n
 See in schedule: https://datatracker.ietf.org/meeting/95/agenda#row-95-2016-04-03-sun-1500-edu-journey-from-i-d-to-rfc\n
END:VEVENT
BEGIN:VEVENT
UID:ietf-95-7256-edu
SUMMARY:Speed Mentoring (mentees only) 
LOCATION:Buen Ayre B
STATUS:CONFIRMED
CLASS:PUBLIC
DTSTART;TZID=America/Argentina/Buenos_Aires:20160404T083000
DTEND;TZID=America/Argentina/Buenos_Aires:20160404T093000
DTSTAMP:20161222T095703Z
DESCRIPTION:Speed Mentoring (mentees only) \n
 \n
 Session materials: https://datatracker.ietf.org/meeting/95/session/edu\n
 \n
 See in schedule: https://datatracker.ietf.org/meeting/95/agenda#row-95-2016-04-04-mon-0830-edu-speed-mentoring-mentees-only\n
END:VEVENT
BEGIN:VEVENT
UID:ietf-95-7051-babel
SUMMARY:babel - Babel routing protocol
LOCATION:Buen Ayre C
STATUS:CONFIRMED
CLASS:PUBLIC
DTSTART;TZID=America/Argentina/Buenos_Aires:20160404T155000
DTEND;TZID=America/Argentina/Buenos_Aires:20160404T172000
DTSTAMP:20161222T095703Z
URL:https://datatracker.ietf.org/meeting/95/materials/agenda-95-babel
DESCRIPTION:Afternoon Session II\n
 \n
 Agenda https://datatracker.ietf.org/meeting/95/materials/agenda-95-babel\n
 \n
 Session materials: https://datatracker.ietf.org/meeting/95/session/babel\n
 \n
 See in schedule: https://datatracker.ietf.org/meeting/95/agenda#row-95-2016-04-04-mon-1550-rtg-babel\n
END:VEVENT
BEGIN:VEVENT
UID:ietf-95-7063-lpwan
SUMMARY:lpwan - Low-Power Wide Area Networks 
LOCATION:Buen Ayre C
STATUS:CONFIRMED
CLASS:PUBLIC
DTSTART;TZID=America/Argentina/Buenos_Aires:20160404T174000
DTEND;TZID=America/Argentina/Buenos_Aires:20160404T194000
DTSTAMP:20161222T095703Z
URL:https://datatracker.ietf.org/meeting/95/materials/agenda-95-lpwan
DESCRIPTION:Afternoon Session III\n
 \n
 Agenda https://datatracker.ietf.org/meeting/95/materials/agenda-95-lpwan\n
 \n
 Session materials: https://datatracker.ietf.org/meeting/95/session/lpwan\n
 \n
 See in schedule: https://datatracker.ietf.org/meeting/95/agenda#row-95-2016-04-04-mon-1740-int-lpwan\n
END:VEVENT
BEGIN:VEVENT
UID:ietf-95-7257-edu
SUMMARY:Journey from I-D to RFC (mentees only)
LOCATION:Buen Ayre B
STATUS:CONFIRMED
CLASS:PUBLIC
DTSTART;TZID=America/Argentina/Buenos_Aires:20160405T083000
DTEND;TZID=America/Argentina/Buenos_Aires:20160405T093000
DTSTAMP:20161222T095703Z
DESCRIPTION:Journey from I-D to RFC (mentees only)\n
 \n
 Session materials: https://datatracker.ietf.org/meeting/95/session/edu\n
 \n
 See in schedule: https://datatracker.ietf.org/meeting/95/agenda#row-95-2016-04-05-tue-0830-edu-journey-from-i-d-to-rfc-mentees-only\n
END:VEVENT
BEGIN:VEVENT
UID:ietf-95-7074-arcing
SUMMARY:arcing - Alternative Resolution Contexts for Internet Naming
LOCATION:Atlantico C
STATUS:CONFIRMED
CLASS:PUBLIC
DTSTART;TZID=America/Argentina/Buenos_Aires:20160405T100000
DTEND;TZID=America/Argentina/Buenos_Aires:20160405T123000
DTSTAMP:20161222T095703Z
URL:https://datatracker.ietf.org/meeting/95/materials/agenda-95-arcing
DESCRIPTION:Morning Session I\n
 \n
 Agenda https://datatracker.ietf.org/meeting/95/materials/agenda-95-arcing\n
 \n
 Session materials: https://datatracker.ietf.org/meeting/95/session/arcing\n
 \n
 See in schedule: https://datatracker.ietf.org/meeting/95/agenda#row-95-2016-04-05-tue-1000-int-arcing\n
END:VEVENT
BEGIN:VEVENT
UID:ietf-95-7086-lurk
SUMMARY:lurk - Limited Use of Remote Keys
LOCATION:Atlantico C
STATUS:CONFIRMED
CLASS:PUBLIC
DTSTART;TZID=America/Argentina/Buenos_Aires:20160405T140000
DTEND;TZID=America/Argentina/Buenos_Aires:20160405T160000
DTSTAMP:20161222T095703Z
URL:https://datatracker.ietf.org/meeting/95/materials/agenda-95-lurk
DESCRIPTION:Afternoon Session I\n
 \n
 Agenda https://datatracker.ietf.org/meeting/95/materials/agenda-95-lurk\n
 \n
 Session materials: https://datatracker.ietf.org/meeting/95/session/lurk\n
 \n
 See in schedule: https://datatracker.ietf.org/meeting/95/agenda#row-95-2016-04-05-tue-1400-sec-lurk\n
END:VEVENT
BEGIN:VEVENT
UID:ietf-95-7258-edu
SUMMARY:Unwritten rules of IETF (mentees only)
LOCATION:Buen Ayre B
STATUS:CONFIRMED
CLASS:PUBLIC
DTSTART;TZID=America/Argentina/Buenos_Aires:20160406T083000
DTEND;TZID=America/Argentina/Buenos_Aires:20160406T093000
DTSTAMP:20161222T095703Z
DESCRIPTION:Unwritten rules of IETF (mentees only)\n
 \n
 Session materials: https://datatracker.ietf.org/meeting/95/session/edu\n
 \n
 See in schedule: https://datatracker.ietf.org/meeting/95/agenda#row-95-2016-04-06-wed-0830-edu-unwritten-rules-of-ietf-mentees-only\n
END:VEVENT
BEGIN:VEVENT
UID:ietf-95-7226-edu
SUMMARY:WG Chairs Training (For WG Chairs Only)
LOCATION:Atlantico C
STATUS:CONFIRMED
CLASS:PUBLIC
DTSTART;TZID=America/Argentina/Buenos_Aires:20160406T123000
DTEND;TZID=America/Argentina/Buenos_Aires:20160406T140000
DTSTAMP:20161222T095703Z
DESCRIPTION:WG Chairs Training (For WG Chairs Only)\n
 \n
 Session materials: https://datatracker.ietf.org/meeting/95/session/edu\n
 \n
 See in schedule: https://datatracker.ietf.org/meeting/95/agenda#row-95-2016-04-06-wed-1230-edu-wg-chairs-training-for-wg-chairs-only\n
END:VEVENT
BEGIN:VEVENT
UID:ietf-95-7135-its
SUMMARY:its - Intelligent Transportation Systems
LOCATION:Buen Ayre C
STATUS:CONFIRMED
CLASS:PUBLIC
DTSTART;TZID=America/Argentina/Buenos_Aires:20160406T140000
DTEND;TZID=America/Argentina/Buenos_Aires:20160406T160000
DTSTAMP:20161222T095703Z
URL:https://datatracker.ietf.org/meeting/95/materials/agenda-95-its
DESCRIPTION:Afternoon Session I\n
 \n
 Agenda https://datatracker.ietf.org/meeting/95/materials/agenda-95-its\n
 \n
 Session materials: https://datatracker.ietf.org/meeting/95/session/its\n
 \n
 See in schedule: https://datatracker.ietf.org/meeting/95/agenda#row-95-2016-04-06-wed-1400-int-its\n
END:VEVENT
BEGIN:VEVENT
UID:ietf-95-7225-ietf
SUMMARY:IETF Operations\, Administration\, and Technical Plenary
LOCATION:Pacifico A
STATUS:CONFIRMED
CLASS:PUBLIC
DTSTART;TZID=America/Argentina/Buenos_Aires:20160406T174000
DTEND;TZID=America/Argentina/Buenos_Aires:20160406T201000
DTSTAMP:20161222T095703Z
URL:https://datatracker.ietf.org/meeting/95/materials/agenda-95-ietf-plenary
DESCRIPTION:IETF Operations\, Administration\, and Technical Plenary\n
 \n
 Agenda https://datatracker.ietf.org/meeting/95/materials/agenda-95-ietf-plenary\n
 \n
 Session materials: https://datatracker.ietf.org/meeting/95/session/ietf\n
 \n
 See in schedule: https://datatracker.ietf.org/meeting/95/agenda#row-95-2016-04-06-wed-1740-1plenary-ietf\n
END:VEVENT
BEGIN:VEVENT
UID:ietf-95-7259-edu
SUMMARY:Remote Hubs
LOCATION:Buen Ayre B
STATUS:CONFIRMED
CLASS:PUBLIC
DTSTART;TZID=America/Argentina/Buenos_Aires:20160407T083000
DTEND;TZID=America/Argentina/Buenos_Aires:20160407T093000
DTSTAMP:20161222T095703Z
DESCRIPTION:Remote Hubs\n
 \n
 Session materials: https://datatracker.ietf.org/meeting/95/session/edu\n
 \n
 See in schedule: https://datatracker.ietf.org/meeting/95/agenda#row-95-2016-04-07-thu-0830-edu-remote-hubs\n
END:VEVENT
BEGIN:VEVENT
UID:ietf-95-7160-accord
SUMMARY:accord - Alternatives to Content Classification for Operator Resource Deployment
LOCATION:Pacifico A
STATUS:CONFIRMED
CLASS:PUBLIC
DTSTART;TZID=America/Argentina/Buenos_Aires:20160407T100000
DTEND;TZID=America/Argentina/Buenos_Aires:20160407T123000
DTSTAMP:20161222T095703Z
URL:https://datatracker.ietf.org/meeting/95/materials/agenda-95-accord
DESCRIPTION:Morning Session I\n
 \n
 Agenda https://datatracker.ietf.org/meeting/95/materials/agenda-95-accord\n
 \n
 Session materials: https://datatracker.ietf.org/meeting/95/session/accord\n
 \n
 See in schedule: https://datatracker.ietf.org/meeting/95/agenda#row-95-2016-04-07-thu-1000-tsv-accord\n
END:VEVENT
BEGIN:VEVENT
UID:ietf-95-7196-mtgvenue
SUMMARY:mtgvenue - IAOC Meeting Venue Selection Criteria & Procedures
LOCATION:Pacifico A
STATUS:CONFIRMED
CLASS:PUBLIC
DTSTART;TZID=America/Argentina/Buenos_Aires:20160407T162000
DTEND;TZID=America/Argentina/Buenos_Aires:20160407T172000
DTSTAMP:20161222T095703Z
URL:https://datatracker.ietf.org/meeting/95/materials/agenda-95-mtgvenue
DESCRIPTION:Afternoon Session II\n
 \n
 Agenda https://datatracker.ietf.org/meeting/95/materials/agenda-95-mtgvenue\n
 \n
 Session materials: https://datatracker.ietf.org/meeting/95/session/mtgvenue\n
 \n
 See in schedule: https://datatracker.ietf.org/meeting/95/agenda#row-95-2016-04-07-thu-1620-gen-mtgvenue\n
END:VEVENT
BEGIN:VEVENT
UID:ietf-95-7260-edu
SUMMARY:Mentee and Mentor Feedback
LOCATION:Buen Ayre B
STATUS:CONFIRMED
CLASS:PUBLIC
DTSTART;TZID=America/Argentina/Buenos_Aires:20160408T083000
DTEND;TZID=America/Argentina/Buenos_Aires:20160408T093000
DTSTAMP:20161222T095703Z
DESCRIPTION:Mentee and Mentor Feedback\n
 \n
 Session materials: https://datatracker.ietf.org/meeting/95/session/edu\n
 \n
 See in schedule: https://datatracker.ietf.org/meeting/95/agenda#row-95-2016-04-08-fri-0830-edu-mentee-and-mentor-feedback\n
END:VEVENT
END:VCALENDAR
