BEGIN:VCALENDAR
VERSION:2.0
METHOD:PUBLISH
PRODID:-//IETF//datatracker.ietf.org ical agenda//EN
BEGIN:VTIMEZONE
TZID:America/Argentina/Buenos_Aires
X-LIC-LOCATION:America/Argentina/Buenos_Aires
BEGIN:STANDARD
TZOFFSETFROM:-035348
TZOFFSETTO:-041648
TZNAME:CMT
DTSTART:18941031T000000
RDATE:18941031T000000
END:STANDARD
BEGIN:STANDARD
TZOFFSETFROM:-041648
TZOFFSETTO:-0400
TZNAME:ART
DTSTART:19200501T000000
RDATE:19200501T000000
END:STANDARD
BEGIN:DAYLIGHT
TZOFFSETFROM:-0400
TZOFFSETTO:-0300
TZNAME:ARST
DTSTART:19301201T000000
RDATE:19301201T000000
RDATE:19311015T000000
RDATE:19321101T000000
RDATE:19331101T000000
RDATE:19341101T000000
RDATE:19351101T000000
RDATE:19361101T000000
RDATE:19371101T000000
RDATE:19381101T000000
RDATE:19391101T000000
RDATE:19400701T000000
RDATE:19411015T000000
RDATE:19431015T000000
RDATE:19461001T000000
RDATE:19631215T000000
RDATE:19641015T000000
RDATE:19651015T000000
RDATE:19661015T000000
RDATE:19671001T000000
RDATE:19681006T000000
END:DAYLIGHT
BEGIN:STANDARD
TZOFFSETFROM:-0300
TZOFFSETTO:-0400
TZNAME:ART
DTSTART:19310401T000000
RDATE:19310401T000000
RDATE:19320301T000000
RDATE:19330301T000000
RDATE:19340301T000000
RDATE:19350301T000000
RDATE:19360301T000000
RDATE:19370301T000000
RDATE:19380301T000000
RDATE:19390301T000000
RDATE:19400301T000000
RDATE:19410615T000000
RDATE:19430801T000000
RDATE:19460301T000000
RDATE:19631001T000000
RDATE:19640301T000000
RDATE:19650301T000000
RDATE:19660301T000000
RDATE:19670402T000000
RDATE:19680407T000000
RDATE:19690406T000000
END:STANDARD
BEGIN:STANDARD
TZOFFSETFROM:-0400
TZOFFSETTO:-0300
TZNAME:ART
DTSTART:19691005T000000
RDATE:19691005T000000
END:STANDARD
BEGIN:DAYLIGHT
TZOFFSETFROM:-0300
TZOFFSETTO:-0200
TZNAME:ARST
DTSTART:19740123T000000
RDATE:19740123T000000
RDATE:19881201T000000
RDATE:19891015T000000
RDATE:19901021T000000
RDATE:19911020T000000
RDATE:19921018T000000
RDATE:20071230T000000
RDATE:20081019T000000
END:DAYLIGHT
BEGIN:STANDARD
TZOFFSETFROM:-0200
TZOFFSETTO:-0300
TZNAME:ART
DTSTART:19740501T000000
RDATE:19740501T000000
RDATE:19890305T000000
RDATE:19900304T000000
RDATE:19910303T000000
RDATE:19920301T000000
RDATE:19930307T000000
RDATE:20080316T000000
RDATE:20090315T000000
END:STANDARD
BEGIN:DAYLIGHT
TZOFFSETFROM:-0300
TZOFFSETTO:-0300
TZNAME:ARST
DTSTART:19991003T000000
RDATE:19991003T000000
END:DAYLIGHT
BEGIN:STANDARD
TZOFFSETFROM:-0300
TZOFFSETTO:-0300
TZNAME:ART
DTSTART:20000303T000000
RDATE:20000303T000000
END:STANDARD
END:VTIMEZONE
BEGIN:VEVENT
UID:ietf-95-7021-dmm
SUMMARY:dmm - Distributed Mobility Management
LOCATION:Quebracho A
STATUS:CONFIRMED
CLASS:PUBLIC
DTSTART;TZID=America/Argentina/Buenos_Aires:20160404T100000
DTEND;TZID=America/Argentina/Buenos_Aires:20160404T123000
DTSTAMP:20161222T095703Z
URL:https://datatracker.ietf.org/meeting/95/materials/agenda-95-dmm
DESCRIPTION:Morning Session I\n
 \n
 Agenda https://datatracker.ietf.org/meeting/95/materials/agenda-95-dmm\n
 \n
 Session materials: https://datatracker.ietf.org/meeting/95/session/dmm\n
 \n
 See in schedule: https://datatracker.ietf.org/meeting/95/agenda#row-95-2016-04-04-mon-1000-int-dmm\n
END:VEVENT
BEGIN:VEVENT
UID:ietf-95-7035-6tisch
SUMMARY:6tisch - IPv6 over the TSCH mode of IEEE 802.15.4e
LOCATION:Buen Ayre B
STATUS:CONFIRMED
CLASS:PUBLIC
DTSTART;TZID=America/Argentina/Buenos_Aires:20160404T140000
DTEND;TZID=America/Argentina/Buenos_Aires:20160404T153000
DTSTAMP:20161222T095703Z
URL:https://datatracker.ietf.org/meeting/95/materials/agenda-95-6tisch
DESCRIPTION:Afternoon Session I\n
 \n
 Agenda https://datatracker.ietf.org/meeting/95/materials/agenda-95-6tisch\n
 \n
 Session materials: https://datatracker.ietf.org/meeting/95/session/6tisch\n
 \n
 See in schedule: https://datatracker.ietf.org/meeting/95/agenda#row-95-2016-04-04-mon-1400-int-6tisch\n
END:VEVENT
BEGIN:VEVENT
UID:ietf-95-7047-dnssd
SUMMARY:dnssd - Extensions for Scalable DNS Service Discovery 
LOCATION:Buen Ayre B
STATUS:CONFIRMED
CLASS:PUBLIC
DTSTART;TZID=America/Argentina/Buenos_Aires:20160404T155000
DTEND;TZID=America/Argentina/Buenos_Aires:20160404T172000
DTSTAMP:20161222T095703Z
URL:https://datatracker.ietf.org/meeting/95/materials/agenda-95-dnssd
DESCRIPTION:Afternoon Session II\n
 \n
 Agenda https://datatracker.ietf.org/meeting/95/materials/agenda-95-dnssd\n
 \n
 Session materials: https://datatracker.ietf.org/meeting/95/session/dnssd\n
 \n
 See in schedule: https://datatracker.ietf.org/meeting/95/agenda#row-95-2016-04-04-mon-1550-int-dnssd\n
END:VEVENT
BEGIN:VEVENT
UID:ietf-95-7063-lpwan
SUMMARY:lpwan - Low-Power Wide Area Networks 
LOCATION:Buen Ayre C
STATUS:CONFIRMED
CLASS:PUBLIC
DTSTART;TZID=America/Argentina/Buenos_Aires:20160404T174000
DTEND;TZID=America/Argentina/Buenos_Aires:20160404T194000
DTSTAMP:20161222T095703Z
URL:https://datatracker.ietf.org/meeting/95/materials/agenda-95-lpwan
DESCRIPTION:Afternoon Session III\n
 \n
 Agenda https://datatracker.ietf.org/meeting/95/materials/agenda-95-lpwan\n
 \n
 Session materials: https://datatracker.ietf.org/meeting/95/session/lpwan\n
 \n
 See in schedule: https://datatracker.ietf.org/meeting/95/agenda#row-95-2016-04-04-mon-1740-int-lpwan\n
END:VEVENT
BEGIN:VEVENT
UID:ietf-95-7074-arcing
SUMMARY:arcing - Alternative Resolution Contexts for Internet Naming
LOCATION:Atlantico C
STATUS:CONFIRMED
CLASS:PUBLIC
DTSTART;TZID=America/Argentina/Buenos_Aires:20160405T100000
DTEND;TZID=America/Argentina/Buenos_Aires:20160405T123000
DTSTAMP:20161222T095703Z
URL:https://datatracker.ietf.org/meeting/95/materials/agenda-95-arcing
DESCRIPTION:Morning Session I\n
 \n
 Agenda https://datatracker.ietf.org/meeting/95/materials/agenda-95-arcing\n
 \n
 Session materials: https://datatracker.ietf.org/meeting/95/session/arcing\n
 \n
 See in schedule: https://datatracker.ietf.org/meeting/95/agenda#row-95-2016-04-05-tue-1000-int-arcing\n
END:VEVENT
BEGIN:VEVENT
UID:ietf-95-7088-homenet
SUMMARY:homenet - Home Networking
LOCATION:Pacifico A
STATUS:CONFIRMED
CLASS:PUBLIC
DTSTART;TZID=America/Argentina/Buenos_Aires:20160405T140000
DTEND;TZID=America/Argentina/Buenos_Aires:20160405T160000
DTSTAMP:20161222T095703Z
URL:https://datatracker.ietf.org/meeting/95/materials/agenda-95-homenet
DESCRIPTION:Afternoon Session I\n
 \n
 Agenda https://datatracker.ietf.org/meeting/95/materials/agenda-95-homenet\n
 \n
 Session materials: https://datatracker.ietf.org/meeting/95/session/homenet\n
 \n
 See in schedule: https://datatracker.ietf.org/meeting/95/agenda#row-95-2016-04-05-tue-1400-int-homenet\n
END:VEVENT
BEGIN:VEVENT
UID:ietf-95-7082-ntp
SUMMARY:ntp - Network Time Protocol (Combined with TICTOC)
LOCATION:Quebracho B
STATUS:CONFIRMED
CLASS:PUBLIC
DTSTART;TZID=America/Argentina/Buenos_Aires:20160405T140000
DTEND;TZID=America/Argentina/Buenos_Aires:20160405T160000
DTSTAMP:20161222T095703Z
URL:https://datatracker.ietf.org/meeting/95/materials/agenda-95-ntp
DESCRIPTION:Afternoon Session I\n
 Note: Combined with TICTOC\n
 \n
 Agenda https://datatracker.ietf.org/meeting/95/materials/agenda-95-ntp\n
 \n
 Session materials: https://datatracker.ietf.org/meeting/95/session/ntp\n
 \n
 See in schedule: https://datatracker.ietf.org/meeting/95/agenda#row-95-2016-04-05-tue-1400-int-ntp\n
END:VEVENT
BEGIN:VEVENT
UID:ietf-95-7082-tictoc
SUMMARY:tictoc - Timing over IP Connection and Transfer of Clock (Combined with NTP)
LOCATION:Quebracho B
STATUS:CONFIRMED
CLASS:PUBLIC
DTSTART;TZID=America/Argentina/Buenos_Aires:20160405T140000
DTEND;TZID=America/Argentina/Buenos_Aires:20160405T160000
DTSTAMP:20161222T095703Z
URL:https://datatracker.ietf.org/meeting/95/materials/agenda-95-tictoc
DESCRIPTION:Afternoon Session I\n
 Note: Combined with NTP\n
 \n
 Agenda https://datatracker.ietf.org/meeting/95/materials/agenda-95-tictoc\n
 \n
 Session materials: https://datatracker.ietf.org/meeting/95/session/tictoc\n
 \n
 See in schedule: https://datatracker.ietf.org/meeting/95/agenda#row-95-2016-04-05-tue-1400-int-tictoc\n
END:VEVENT
BEGIN:VEVENT
UID:ietf-95-7099-intarea
SUMMARY:intarea - Internet Area Working Group
LOCATION:Buen Ayre C
STATUS:CONFIRMED
CLASS:PUBLIC
DTSTART;TZID=America/Argentina/Buenos_Aires:20160405T162000
DTEND;TZID=America/Argentina/Buenos_Aires:20160405T172000
DTSTAMP:20161222T095703Z
URL:https://datatracker.ietf.org/meeting/95/materials/agenda-95-intarea
DESCRIPTION:Afternoon Session II\n
 \n
 Agenda https://datatracker.ietf.org/meeting/95/materials/agenda-95-intarea\n
 \n
 Session materials: https://datatracker.ietf.org/meeting/95/session/intarea\n
 \n
 See in schedule: https://datatracker.ietf.org/meeting/95/agenda#row-95-2016-04-05-tue-1620-int-intarea\n
END:VEVENT
BEGIN:VEVENT
UID:ietf-95-7111-sunset4
SUMMARY:sunset4 - Sunsetting IPv4
LOCATION:Buen Ayre C
STATUS:CONFIRMED
CLASS:PUBLIC
DTSTART;TZID=America/Argentina/Buenos_Aires:20160405T174000
DTEND;TZID=America/Argentina/Buenos_Aires:20160405T191000
DTSTAMP:20161222T095703Z
URL:https://datatracker.ietf.org/meeting/95/materials/agenda-95-sunset4
DESCRIPTION:Afternoon Session III\n
 \n
 Agenda https://datatracker.ietf.org/meeting/95/materials/agenda-95-sunset4\n
 \n
 Session materials: https://datatracker.ietf.org/meeting/95/session/sunset4\n
 \n
 See in schedule: https://datatracker.ietf.org/meeting/95/agenda#row-95-2016-04-05-tue-1740-int-sunset4\n
END:VEVENT
BEGIN:VEVENT
UID:ietf-95-7123-6man
SUMMARY:6man - IPv6 Maintenance
LOCATION:Buen Ayre C
STATUS:CONFIRMED
CLASS:PUBLIC
DTSTART;TZID=America/Argentina/Buenos_Aires:20160406T100000
DTEND;TZID=America/Argentina/Buenos_Aires:20160406T123000
DTSTAMP:20161222T095703Z
URL:https://datatracker.ietf.org/meeting/95/materials/agenda-95-6man
DESCRIPTION:Morning Session I\n
 \n
 Agenda https://datatracker.ietf.org/meeting/95/materials/agenda-95-6man\n
 \n
 Session materials: https://datatracker.ietf.org/meeting/95/session/6man\n
 \n
 See in schedule: https://datatracker.ietf.org/meeting/95/agenda#row-95-2016-04-06-wed-1000-int-6man\n
END:VEVENT
BEGIN:VEVENT
UID:ietf-95-7122-dprive
SUMMARY:dprive - DNS PRIVate Exchange (10:00 - 11:00)
LOCATION:Atlantico C
STATUS:CONFIRMED
CLASS:PUBLIC
DTSTART;TZID=America/Argentina/Buenos_Aires:20160406T100000
DTEND;TZID=America/Argentina/Buenos_Aires:20160406T123000
DTSTAMP:20161222T095703Z
URL:https://datatracker.ietf.org/meeting/95/materials/agenda-95-dprive
DESCRIPTION:Morning Session I\n
 Note: 10:00 - 11:00\n
 \n
 Agenda https://datatracker.ietf.org/meeting/95/materials/agenda-95-dprive\n
 \n
 Session materials: https://datatracker.ietf.org/meeting/95/session/dprive\n
 \n
 See in schedule: https://datatracker.ietf.org/meeting/95/agenda#row-95-2016-04-06-wed-1000-int-dprive\n
END:VEVENT
BEGIN:VEVENT
UID:ietf-95-7135-its
SUMMARY:its - Intelligent Transportation Systems
LOCATION:Buen Ayre C
STATUS:CONFIRMED
CLASS:PUBLIC
DTSTART;TZID=America/Argentina/Buenos_Aires:20160406T140000
DTEND;TZID=America/Argentina/Buenos_Aires:20160406T160000
DTSTAMP:20161222T095703Z
URL:https://datatracker.ietf.org/meeting/95/materials/agenda-95-its
DESCRIPTION:Afternoon Session I\n
 \n
 Agenda https://datatracker.ietf.org/meeting/95/materials/agenda-95-its\n
 \n
 Session materials: https://datatracker.ietf.org/meeting/95/session/its\n
 \n
 See in schedule: https://datatracker.ietf.org/meeting/95/agenda#row-95-2016-04-06-wed-1400-int-its\n
END:VEVENT
BEGIN:VEVENT
UID:ietf-95-7166-dhc
SUMMARY:dhc - Dynamic Host Configuration
LOCATION:Quebracho B
STATUS:CONFIRMED
CLASS:PUBLIC
DTSTART;TZID=America/Argentina/Buenos_Aires:20160407T140000
DTEND;TZID=America/Argentina/Buenos_Aires:20160407T160000
DTSTAMP:20161222T095703Z
URL:https://datatracker.ietf.org/meeting/95/materials/agenda-95-dhc
DESCRIPTION:Afternoon Session I\n
 \n
 Agenda https://datatracker.ietf.org/meeting/95/materials/agenda-95-dhc\n
 \n
 Session materials: https://datatracker.ietf.org/meeting/95/session/dhc\n
 \n
 See in schedule: https://datatracker.ietf.org/meeting/95/agenda#row-95-2016-04-07-thu-1400-int-dhc\n
END:VEVENT
BEGIN:VEVENT
UID:ietf-95-7184-6lo
SUMMARY:6lo - IPv6 over Networks of Resource-constrained Nodes
LOCATION:Pacifico A
STATUS:CONFIRMED
CLASS:PUBLIC
DTSTART;TZID=America/Argentina/Buenos_Aires:20160407T173000
DTEND;TZID=America/Argentina/Buenos_Aires:20160407T193000
DTSTAMP:20161222T095703Z
URL:https://datatracker.ietf.org/meeting/95/materials/agenda-95-6lo
DESCRIPTION:Afternoon Session III\n
 \n
 Agenda https://datatracker.ietf.org/meeting/95/materials/agenda-95-6lo\n
 \n
 Session materials: https://datatracker.ietf.org/meeting/95/session/6lo\n
 \n
 See in schedule: https://datatracker.ietf.org/meeting/95/agenda#row-95-2016-04-07-thu-1730-int-6lo\n
END:VEVENT
BEGIN:VEVENT
UID:ietf-95-7179-mif
SUMMARY:mif - Multiple Interfaces
LOCATION:Buen Ayre B
STATUS:CONFIRMED
CLASS:PUBLIC
DTSTART;TZID=America/Argentina/Buenos_Aires:20160407T173000
DTEND;TZID=America/Argentina/Buenos_Aires:20160407T193000
DTSTAMP:20161222T095703Z
URL:https://datatracker.ietf.org/meeting/95/materials/agenda-95-mif
DESCRIPTION:Afternoon Session III\n
 \n
 Agenda https://datatracker.ietf.org/meeting/95/materials/agenda-95-mif\n
 \n
 Session materials: https://datatracker.ietf.org/meeting/95/session/mif\n
 \n
 See in schedule: https://datatracker.ietf.org/meeting/95/agenda#row-95-2016-04-07-thu-1730-int-mif\n
END:VEVENT
END:VCALENDAR
