BEGIN:VCALENDAR
VERSION:2.0
METHOD:PUBLISH
PRODID:-//IETF//datatracker.ietf.org ical agenda//EN
BEGIN:VTIMEZONE
TZID:America/Argentina/Buenos_Aires
X-LIC-LOCATION:America/Argentina/Buenos_Aires
BEGIN:STANDARD
TZOFFSETFROM:-035348
TZOFFSETTO:-041648
TZNAME:CMT
DTSTART:18941031T000000
RDATE:18941031T000000
END:STANDARD
BEGIN:STANDARD
TZOFFSETFROM:-041648
TZOFFSETTO:-0400
TZNAME:ART
DTSTART:19200501T000000
RDATE:19200501T000000
END:STANDARD
BEGIN:DAYLIGHT
TZOFFSETFROM:-0400
TZOFFSETTO:-0300
TZNAME:ARST
DTSTART:19301201T000000
RDATE:19301201T000000
RDATE:19311015T000000
RDATE:19321101T000000
RDATE:19331101T000000
RDATE:19341101T000000
RDATE:19351101T000000
RDATE:19361101T000000
RDATE:19371101T000000
RDATE:19381101T000000
RDATE:19391101T000000
RDATE:19400701T000000
RDATE:19411015T000000
RDATE:19431015T000000
RDATE:19461001T000000
RDATE:19631215T000000
RDATE:19641015T000000
RDATE:19651015T000000
RDATE:19661015T000000
RDATE:19671001T000000
RDATE:19681006T000000
END:DAYLIGHT
BEGIN:STANDARD
TZOFFSETFROM:-0300
TZOFFSETTO:-0400
TZNAME:ART
DTSTART:19310401T000000
RDATE:19310401T000000
RDATE:19320301T000000
RDATE:19330301T000000
RDATE:19340301T000000
RDATE:19350301T000000
RDATE:19360301T000000
RDATE:19370301T000000
RDATE:19380301T000000
RDATE:19390301T000000
RDATE:19400301T000000
RDATE:19410615T000000
RDATE:19430801T000000
RDATE:19460301T000000
RDATE:19631001T000000
RDATE:19640301T000000
RDATE:19650301T000000
RDATE:19660301T000000
RDATE:19670402T000000
RDATE:19680407T000000
RDATE:19690406T000000
END:STANDARD
BEGIN:STANDARD
TZOFFSETFROM:-0400
TZOFFSETTO:-0300
TZNAME:ART
DTSTART:19691005T000000
RDATE:19691005T000000
END:STANDARD
BEGIN:DAYLIGHT
TZOFFSETFROM:-0300
TZOFFSETTO:-0200
TZNAME:ARST
DTSTART:19740123T000000
RDATE:19740123T000000
RDATE:19881201T000000
RDATE:19891015T000000
RDATE:19901021T000000
RDATE:19911020T000000
RDATE:19921018T000000
RDATE:20071230T000000
RDATE:20081019T000000
END:DAYLIGHT
BEGIN:STANDARD
TZOFFSETFROM:-0200
TZOFFSETTO:-0300
TZNAME:ART
DTSTART:19740501T000000
RDATE:19740501T000000
RDATE:19890305T000000
RDATE:19900304T000000
RDATE:19910303T000000
RDATE:19920301T000000
RDATE:19930307T000000
RDATE:20080316T000000
RDATE:20090315T000000
END:STANDARD
BEGIN:DAYLIGHT
TZOFFSETFROM:-0300
TZOFFSETTO:-0300
TZNAME:ARST
DTSTART:19991003T000000
RDATE:19991003T000000
END:DAYLIGHT
BEGIN:STANDARD
TZOFFSETFROM:-0300
TZOFFSETTO:-0300
TZNAME:ART
DTSTART:20000303T000000
RDATE:20000303T000000
END:STANDARD
END:VTIMEZONE
BEGIN:VEVENT
UID:ietf-95-7039-v6ops
SUMMARY:v6ops - IPv6 Operations
LOCATION:Buen Ayre C
STATUS:CONFIRMED
CLASS:PUBLIC
DTSTART;TZID=America/Argentina/Buenos_Aires:20160404T140000
DTEND;TZID=America/Argentina/Buenos_Aires:20160404T153000
DTSTAMP:20161222T095703Z
URL:https://datatracker.ietf.org/meeting/95/materials/agenda-95-v6ops
DESCRIPTION:Afternoon Session I\n
 \n
 Agenda https://datatracker.ietf.org/meeting/95/materials/agenda-95-v6ops\n
 \n
 Session materials: https://datatracker.ietf.org/meeting/95/session/v6ops\n
 \n
 See in schedule: https://datatracker.ietf.org/meeting/95/agenda#row-95-2016-04-04-mon-1400-ops-v6ops\n
END:VEVENT
BEGIN:VEVENT
UID:ietf-95-7050-netmod
SUMMARY:netmod - NETCONF Data Modeling Language
LOCATION:Atlantico C
STATUS:CONFIRMED
CLASS:PUBLIC
DTSTART;TZID=America/Argentina/Buenos_Aires:20160404T155000
DTEND;TZID=America/Argentina/Buenos_Aires:20160404T172000
DTSTAMP:20161222T095703Z
URL:https://datatracker.ietf.org/meeting/95/materials/agenda-95-netmod
DESCRIPTION:Afternoon Session II\n
 \n
 Agenda https://datatracker.ietf.org/meeting/95/materials/agenda-95-netmod\n
 \n
 Session materials: https://datatracker.ietf.org/meeting/95/session/netmod\n
 \n
 See in schedule: https://datatracker.ietf.org/meeting/95/agenda#row-95-2016-04-04-mon-1550-ops-netmod\n
END:VEVENT
BEGIN:VEVENT
UID:ietf-95-7059-anima
SUMMARY:anima - Autonomic Networking Integrated Model and Approach
LOCATION:Buen Ayre B
STATUS:CONFIRMED
CLASS:PUBLIC
DTSTART;TZID=America/Argentina/Buenos_Aires:20160404T174000
DTEND;TZID=America/Argentina/Buenos_Aires:20160404T194000
DTSTAMP:20161222T095703Z
URL:https://datatracker.ietf.org/meeting/95/materials/agenda-95-anima
DESCRIPTION:Afternoon Session III\n
 \n
 Agenda https://datatracker.ietf.org/meeting/95/materials/agenda-95-anima\n
 \n
 Session materials: https://datatracker.ietf.org/meeting/95/session/anima\n
 \n
 See in schedule: https://datatracker.ietf.org/meeting/95/agenda#row-95-2016-04-04-mon-1740-ops-anima\n
END:VEVENT
BEGIN:VEVENT
UID:ietf-95-7062-netmod
SUMMARY:netmod - NETCONF Data Modeling Language
LOCATION:Atlantico C
STATUS:CONFIRMED
CLASS:PUBLIC
DTSTART;TZID=America/Argentina/Buenos_Aires:20160404T174000
DTEND;TZID=America/Argentina/Buenos_Aires:20160404T194000
DTSTAMP:20161222T095703Z
URL:https://datatracker.ietf.org/meeting/95/materials/agenda-95-netmod
DESCRIPTION:Afternoon Session III\n
 \n
 Agenda https://datatracker.ietf.org/meeting/95/materials/agenda-95-netmod\n
 \n
 Session materials: https://datatracker.ietf.org/meeting/95/session/netmod\n
 \n
 See in schedule: https://datatracker.ietf.org/meeting/95/agenda#row-95-2016-04-04-mon-1740-ops-netmod\n
END:VEVENT
BEGIN:VEVENT
UID:ietf-95-7069-lime
SUMMARY:lime - Layer Independent OAM Management in the Multi-Layer Environment
LOCATION:Quebracho A
STATUS:CONFIRMED
CLASS:PUBLIC
DTSTART;TZID=America/Argentina/Buenos_Aires:20160405T100000
DTEND;TZID=America/Argentina/Buenos_Aires:20160405T123000
DTSTAMP:20161222T095703Z
URL:https://datatracker.ietf.org/meeting/95/materials/agenda-95-lime
DESCRIPTION:Morning Session I\n
 \n
 Agenda https://datatracker.ietf.org/meeting/95/materials/agenda-95-lime\n
 \n
 Session materials: https://datatracker.ietf.org/meeting/95/session/lime\n
 \n
 See in schedule: https://datatracker.ietf.org/meeting/95/agenda#row-95-2016-04-05-tue-1000-ops-lime\n
END:VEVENT
BEGIN:VEVENT
UID:ietf-95-7075-v6ops
SUMMARY:v6ops - IPv6 Operations (CANCELED)
LOCATION:Buen Ayre C
STATUS:CONFIRMED
CLASS:PUBLIC
DTSTART;TZID=America/Argentina/Buenos_Aires:20160405T100000
DTEND;TZID=America/Argentina/Buenos_Aires:20160405T123000
DTSTAMP:20161222T095703Z
URL:https://datatracker.ietf.org/meeting/95/materials/agenda-95-v6ops
DESCRIPTION:Morning Session I\n
 Note: CANCELED\n
 \n
 Agenda https://datatracker.ietf.org/meeting/95/materials/agenda-95-v6ops\n
 \n
 Session materials: https://datatracker.ietf.org/meeting/95/session/v6ops\n
 \n
 See in schedule: https://datatracker.ietf.org/meeting/95/agenda#row-95-2016-04-05-tue-1000-ops-v6ops\n
END:VEVENT
BEGIN:VEVENT
UID:ietf-95-7084-lmap
SUMMARY:lmap - Large-Scale Measurement of Broadband Performance
LOCATION:Buen Ayre A
STATUS:CONFIRMED
CLASS:PUBLIC
DTSTART;TZID=America/Argentina/Buenos_Aires:20160405T140000
DTEND;TZID=America/Argentina/Buenos_Aires:20160405T160000
DTSTAMP:20161222T095703Z
URL:https://datatracker.ietf.org/meeting/95/materials/agenda-95-lmap
DESCRIPTION:Afternoon Session I\n
 \n
 Agenda https://datatracker.ietf.org/meeting/95/materials/agenda-95-lmap\n
 \n
 Session materials: https://datatracker.ietf.org/meeting/95/session/lmap\n
 \n
 See in schedule: https://datatracker.ietf.org/meeting/95/agenda#row-95-2016-04-05-tue-1400-ops-lmap\n
END:VEVENT
BEGIN:VEVENT
UID:ietf-95-7096-opsec
SUMMARY:opsec - Operational Security Capabilities for IP Network Infrastructure (Room Change - Moved from Quebracho A)
LOCATION:Buen Ayre A
STATUS:CONFIRMED
CLASS:PUBLIC
DTSTART;TZID=America/Argentina/Buenos_Aires:20160405T162000
DTEND;TZID=America/Argentina/Buenos_Aires:20160405T172000
DTSTAMP:20161222T095703Z
URL:https://datatracker.ietf.org/meeting/95/materials/agenda-95-opsec
DESCRIPTION:Afternoon Session II\n
 Note: Room Change - Moved from Quebracho A\n
 \n
 Agenda https://datatracker.ietf.org/meeting/95/materials/agenda-95-opsec\n
 \n
 Session materials: https://datatracker.ietf.org/meeting/95/session/opsec\n
 \n
 See in schedule: https://datatracker.ietf.org/meeting/95/agenda#row-95-2016-04-05-tue-1620-ops-opsec\n
END:VEVENT
BEGIN:VEVENT
UID:ietf-95-7108-opsec
SUMMARY:opsec - Operational Security Capabilities for IP Network Infrastructure (NEW SESSION)
LOCATION:Buen Ayre A
STATUS:CONFIRMED
CLASS:PUBLIC
DTSTART;TZID=America/Argentina/Buenos_Aires:20160405T174000
DTEND;TZID=America/Argentina/Buenos_Aires:20160405T191000
DTSTAMP:20161222T095703Z
URL:https://datatracker.ietf.org/meeting/95/materials/agenda-95-opsec
DESCRIPTION:Afternoon Session III\n
 Note: NEW SESSION\n
 \n
 Agenda https://datatracker.ietf.org/meeting/95/materials/agenda-95-opsec\n
 \n
 Session materials: https://datatracker.ietf.org/meeting/95/session/opsec\n
 \n
 See in schedule: https://datatracker.ietf.org/meeting/95/agenda#row-95-2016-04-05-tue-1740-ops-opsec\n
END:VEVENT
BEGIN:VEVENT
UID:ietf-95-7120-mboned
SUMMARY:mboned - MBONE Deployment (Combined with PIM)
LOCATION:Buen Ayre A
STATUS:CONFIRMED
CLASS:PUBLIC
DTSTART;TZID=America/Argentina/Buenos_Aires:20160406T100000
DTEND;TZID=America/Argentina/Buenos_Aires:20160406T123000
DTSTAMP:20161222T095703Z
URL:https://datatracker.ietf.org/meeting/95/materials/agenda-95-mboned
DESCRIPTION:Morning Session I\n
 Note: Combined with PIM\n
 \n
 Agenda https://datatracker.ietf.org/meeting/95/materials/agenda-95-mboned\n
 \n
 Session materials: https://datatracker.ietf.org/meeting/95/session/mboned\n
 \n
 See in schedule: https://datatracker.ietf.org/meeting/95/agenda#row-95-2016-04-06-wed-1000-ops-mboned\n
END:VEVENT
BEGIN:VEVENT
UID:ietf-95-7136-opsawg
SUMMARY:opsawg - Operations and Management Area Working Group (Combined with OPSAREA)
LOCATION:Pacifico A
STATUS:CONFIRMED
CLASS:PUBLIC
DTSTART;TZID=America/Argentina/Buenos_Aires:20160406T140000
DTEND;TZID=America/Argentina/Buenos_Aires:20160406T160000
DTSTAMP:20161222T095703Z
URL:https://datatracker.ietf.org/meeting/95/materials/agenda-95-opsawg
DESCRIPTION:Afternoon Session I\n
 Note: Combined with OPSAREA\n
 \n
 Agenda https://datatracker.ietf.org/meeting/95/materials/agenda-95-opsawg\n
 \n
 Session materials: https://datatracker.ietf.org/meeting/95/session/opsawg\n
 \n
 See in schedule: https://datatracker.ietf.org/meeting/95/agenda#row-95-2016-04-06-wed-1400-ops-opsawg\n
END:VEVENT
BEGIN:VEVENT
UID:ietf-95-7145-dnsop
SUMMARY:dnsop - Domain Name System Operations (Moved from Friday 1220)
LOCATION:Atlantico B
STATUS:CONFIRMED
CLASS:PUBLIC
DTSTART;TZID=America/Argentina/Buenos_Aires:20160406T162000
DTEND;TZID=America/Argentina/Buenos_Aires:20160406T172000
DTSTAMP:20161222T095703Z
URL:https://datatracker.ietf.org/meeting/95/materials/agenda-95-dnsop
DESCRIPTION:Afternoon Session II\n
 Note: Moved from Friday 1220\n
 \n
 Agenda https://datatracker.ietf.org/meeting/95/materials/agenda-95-dnsop\n
 \n
 Session materials: https://datatracker.ietf.org/meeting/95/session/dnsop\n
 \n
 See in schedule: https://datatracker.ietf.org/meeting/95/agenda#row-95-2016-04-06-wed-1620-ops-dnsop\n
END:VEVENT
BEGIN:VEVENT
UID:ietf-95-7153-bmwg
SUMMARY:bmwg - Benchmarking Methodology
LOCATION:Quebracho A
STATUS:CONFIRMED
CLASS:PUBLIC
DTSTART;TZID=America/Argentina/Buenos_Aires:20160407T100000
DTEND;TZID=America/Argentina/Buenos_Aires:20160407T123000
DTSTAMP:20161222T095703Z
URL:https://datatracker.ietf.org/meeting/95/materials/agenda-95-bmwg
DESCRIPTION:Morning Session I\n
 \n
 Agenda https://datatracker.ietf.org/meeting/95/materials/agenda-95-bmwg\n
 \n
 Session materials: https://datatracker.ietf.org/meeting/95/session/bmwg\n
 \n
 See in schedule: https://datatracker.ietf.org/meeting/95/agenda#row-95-2016-04-07-thu-1000-ops-bmwg\n
END:VEVENT
BEGIN:VEVENT
UID:ietf-95-7167-netconf
SUMMARY:netconf - Network Configuration
LOCATION:Buen Ayre B
STATUS:CONFIRMED
CLASS:PUBLIC
DTSTART;TZID=America/Argentina/Buenos_Aires:20160407T140000
DTEND;TZID=America/Argentina/Buenos_Aires:20160407T160000
DTSTAMP:20161222T095703Z
URL:https://datatracker.ietf.org/meeting/95/materials/agenda-95-netconf
DESCRIPTION:Afternoon Session I\n
 \n
 Agenda https://datatracker.ietf.org/meeting/95/materials/agenda-95-netconf\n
 \n
 Session materials: https://datatracker.ietf.org/meeting/95/session/netconf\n
 \n
 See in schedule: https://datatracker.ietf.org/meeting/95/agenda#row-95-2016-04-07-thu-1400-ops-netconf\n
END:VEVENT
BEGIN:VEVENT
UID:ietf-95-7194-anima
SUMMARY:anima - Autonomic Networking Integrated Model and Approach
LOCATION:Atlantico C
STATUS:CONFIRMED
CLASS:PUBLIC
DTSTART;TZID=America/Argentina/Buenos_Aires:20160407T162000
DTEND;TZID=America/Argentina/Buenos_Aires:20160407T172000
DTSTAMP:20161222T095703Z
URL:https://datatracker.ietf.org/meeting/95/materials/agenda-95-anima
DESCRIPTION:Afternoon Session II\n
 \n
 Agenda https://datatracker.ietf.org/meeting/95/materials/agenda-95-anima\n
 \n
 Session materials: https://datatracker.ietf.org/meeting/95/session/anima\n
 \n
 See in schedule: https://datatracker.ietf.org/meeting/95/agenda#row-95-2016-04-07-thu-1620-ops-anima\n
END:VEVENT
BEGIN:VEVENT
UID:ietf-95-7191-grow
SUMMARY:grow - Global Routing Operations
LOCATION:Buen Ayre B
STATUS:CONFIRMED
CLASS:PUBLIC
DTSTART;TZID=America/Argentina/Buenos_Aires:20160407T162000
DTEND;TZID=America/Argentina/Buenos_Aires:20160407T172000
DTSTAMP:20161222T095703Z
URL:https://datatracker.ietf.org/meeting/95/materials/agenda-95-grow
DESCRIPTION:Afternoon Session II\n
 \n
 Agenda https://datatracker.ietf.org/meeting/95/materials/agenda-95-grow\n
 \n
 Session materials: https://datatracker.ietf.org/meeting/95/session/grow\n
 \n
 See in schedule: https://datatracker.ietf.org/meeting/95/agenda#row-95-2016-04-07-thu-1620-ops-grow\n
END:VEVENT
BEGIN:VEVENT
UID:ietf-95-7201-dime
SUMMARY:dime - Diameter Maintenance and Extensions
LOCATION:Quebracho A
STATUS:CONFIRMED
CLASS:PUBLIC
DTSTART;TZID=America/Argentina/Buenos_Aires:20160408T100000
DTEND;TZID=America/Argentina/Buenos_Aires:20160408T120000
DTSTAMP:20161222T095703Z
URL:https://datatracker.ietf.org/meeting/95/materials/agenda-95-dime
DESCRIPTION:Morning Session I\n
 \n
 Agenda https://datatracker.ietf.org/meeting/95/materials/agenda-95-dime\n
 \n
 Session materials: https://datatracker.ietf.org/meeting/95/session/dime\n
 \n
 See in schedule: https://datatracker.ietf.org/meeting/95/agenda#row-95-2016-04-08-fri-1000-ops-dime\n
END:VEVENT
BEGIN:VEVENT
UID:ietf-95-7207-dnsop
SUMMARY:dnsop - Domain Name System Operations
LOCATION:Buen Ayre C
STATUS:CONFIRMED
CLASS:PUBLIC
DTSTART;TZID=America/Argentina/Buenos_Aires:20160408T100000
DTEND;TZID=America/Argentina/Buenos_Aires:20160408T120000
DTSTAMP:20161222T095703Z
URL:https://datatracker.ietf.org/meeting/95/materials/agenda-95-dnsop
DESCRIPTION:Morning Session I\n
 \n
 Agenda https://datatracker.ietf.org/meeting/95/materials/agenda-95-dnsop\n
 \n
 Session materials: https://datatracker.ietf.org/meeting/95/session/dnsop\n
 \n
 See in schedule: https://datatracker.ietf.org/meeting/95/agenda#row-95-2016-04-08-fri-1000-ops-dnsop\n
END:VEVENT
BEGIN:VEVENT
UID:ietf-95-7216-radext
SUMMARY:radext - RADIUS EXTensions
LOCATION:Buen Ayre A
STATUS:CONFIRMED
CLASS:PUBLIC
DTSTART;TZID=America/Argentina/Buenos_Aires:20160408T122000
DTEND;TZID=America/Argentina/Buenos_Aires:20160408T132000
DTSTAMP:20161222T095703Z
URL:https://datatracker.ietf.org/meeting/95/materials/agenda-95-radext
DESCRIPTION:Afternoon Session I\n
 \n
 Agenda https://datatracker.ietf.org/meeting/95/materials/agenda-95-radext\n
 \n
 Session materials: https://datatracker.ietf.org/meeting/95/session/radext\n
 \n
 See in schedule: https://datatracker.ietf.org/meeting/95/agenda#row-95-2016-04-08-fri-1220-ops-radext\n
END:VEVENT
BEGIN:VEVENT
UID:ietf-95-7218-supa
SUMMARY:supa - Simplified Use of Policy Abstractions
LOCATION:Atlantico C
STATUS:CONFIRMED
CLASS:PUBLIC
DTSTART;TZID=America/Argentina/Buenos_Aires:20160408T122000
DTEND;TZID=America/Argentina/Buenos_Aires:20160408T132000
DTSTAMP:20161222T095703Z
URL:https://datatracker.ietf.org/meeting/95/materials/agenda-95-supa
DESCRIPTION:Afternoon Session I\n
 \n
 Agenda https://datatracker.ietf.org/meeting/95/materials/agenda-95-supa\n
 \n
 Session materials: https://datatracker.ietf.org/meeting/95/session/supa\n
 \n
 See in schedule: https://datatracker.ietf.org/meeting/95/agenda#row-95-2016-04-08-fri-1220-ops-supa\n
END:VEVENT
END:VCALENDAR
