BEGIN:VCALENDAR
VERSION:2.0
METHOD:PUBLISH
PRODID:-//IETF//datatracker.ietf.org ical agenda//EN
BEGIN:VTIMEZONE
TZID:America/Argentina/Buenos_Aires
X-LIC-LOCATION:America/Argentina/Buenos_Aires
BEGIN:STANDARD
TZOFFSETFROM:-035348
TZOFFSETTO:-041648
TZNAME:CMT
DTSTART:18941031T000000
RDATE:18941031T000000
END:STANDARD
BEGIN:STANDARD
TZOFFSETFROM:-041648
TZOFFSETTO:-0400
TZNAME:ART
DTSTART:19200501T000000
RDATE:19200501T000000
END:STANDARD
BEGIN:DAYLIGHT
TZOFFSETFROM:-0400
TZOFFSETTO:-0300
TZNAME:ARST
DTSTART:19301201T000000
RDATE:19301201T000000
RDATE:19311015T000000
RDATE:19321101T000000
RDATE:19331101T000000
RDATE:19341101T000000
RDATE:19351101T000000
RDATE:19361101T000000
RDATE:19371101T000000
RDATE:19381101T000000
RDATE:19391101T000000
RDATE:19400701T000000
RDATE:19411015T000000
RDATE:19431015T000000
RDATE:19461001T000000
RDATE:19631215T000000
RDATE:19641015T000000
RDATE:19651015T000000
RDATE:19661015T000000
RDATE:19671001T000000
RDATE:19681006T000000
END:DAYLIGHT
BEGIN:STANDARD
TZOFFSETFROM:-0300
TZOFFSETTO:-0400
TZNAME:ART
DTSTART:19310401T000000
RDATE:19310401T000000
RDATE:19320301T000000
RDATE:19330301T000000
RDATE:19340301T000000
RDATE:19350301T000000
RDATE:19360301T000000
RDATE:19370301T000000
RDATE:19380301T000000
RDATE:19390301T000000
RDATE:19400301T000000
RDATE:19410615T000000
RDATE:19430801T000000
RDATE:19460301T000000
RDATE:19631001T000000
RDATE:19640301T000000
RDATE:19650301T000000
RDATE:19660301T000000
RDATE:19670402T000000
RDATE:19680407T000000
RDATE:19690406T000000
END:STANDARD
BEGIN:STANDARD
TZOFFSETFROM:-0400
TZOFFSETTO:-0300
TZNAME:ART
DTSTART:19691005T000000
RDATE:19691005T000000
END:STANDARD
BEGIN:DAYLIGHT
TZOFFSETFROM:-0300
TZOFFSETTO:-0200
TZNAME:ARST
DTSTART:19740123T000000
RDATE:19740123T000000
RDATE:19881201T000000
RDATE:19891015T000000
RDATE:19901021T000000
RDATE:19911020T000000
RDATE:19921018T000000
RDATE:20071230T000000
RDATE:20081019T000000
END:DAYLIGHT
BEGIN:STANDARD
TZOFFSETFROM:-0200
TZOFFSETTO:-0300
TZNAME:ART
DTSTART:19740501T000000
RDATE:19740501T000000
RDATE:19890305T000000
RDATE:19900304T000000
RDATE:19910303T000000
RDATE:19920301T000000
RDATE:19930307T000000
RDATE:20080316T000000
RDATE:20090315T000000
END:STANDARD
BEGIN:DAYLIGHT
TZOFFSETFROM:-0300
TZOFFSETTO:-0300
TZNAME:ARST
DTSTART:19991003T000000
RDATE:19991003T000000
END:DAYLIGHT
BEGIN:STANDARD
TZOFFSETFROM:-0300
TZOFFSETTO:-0300
TZNAME:ART
DTSTART:20000303T000000
RDATE:20000303T000000
END:STANDARD
END:VTIMEZONE
BEGIN:VEVENT
UID:ietf-95-7026-ace
SUMMARY:ace - Authentication and Authorization for Constrained Environments
LOCATION:Atlantico C
STATUS:CONFIRMED
CLASS:PUBLIC
DTSTART;TZID=America/Argentina/Buenos_Aires:20160404T100000
DTEND;TZID=America/Argentina/Buenos_Aires:20160404T123000
DTSTAMP:20161222T095703Z
URL:https://datatracker.ietf.org/meeting/95/materials/agenda-95-ace
DESCRIPTION:Morning Session I\n
 \n
 Agenda https://datatracker.ietf.org/meeting/95/materials/agenda-95-ace\n
 \n
 Session materials: https://datatracker.ietf.org/meeting/95/session/ace\n
 \n
 See in schedule: https://datatracker.ietf.org/meeting/95/agenda#row-95-2016-04-04-mon-1000-sec-ace\n
END:VEVENT
BEGIN:VEVENT
UID:ietf-95-7023-tokbind
SUMMARY:tokbind - Token Binding
LOCATION:Buen Ayre B
STATUS:CONFIRMED
CLASS:PUBLIC
DTSTART;TZID=America/Argentina/Buenos_Aires:20160404T100000
DTEND;TZID=America/Argentina/Buenos_Aires:20160404T123000
DTSTAMP:20161222T095703Z
URL:https://datatracker.ietf.org/meeting/95/materials/agenda-95-tokbind
DESCRIPTION:Morning Session I\n
 \n
 Agenda https://datatracker.ietf.org/meeting/95/materials/agenda-95-tokbind\n
 \n
 Session materials: https://datatracker.ietf.org/meeting/95/session/tokbind\n
 \n
 See in schedule: https://datatracker.ietf.org/meeting/95/agenda#row-95-2016-04-04-mon-1000-sec-tokbind\n
END:VEVENT
BEGIN:VEVENT
UID:ietf-95-7033-ipsecme
SUMMARY:ipsecme - IP Security Maintenance and Extensions
LOCATION:Quebracho A
STATUS:CONFIRMED
CLASS:PUBLIC
DTSTART;TZID=America/Argentina/Buenos_Aires:20160404T140000
DTEND;TZID=America/Argentina/Buenos_Aires:20160404T153000
DTSTAMP:20161222T095703Z
URL:https://datatracker.ietf.org/meeting/95/materials/agenda-95-ipsecme
DESCRIPTION:Afternoon Session I\n
 \n
 Agenda https://datatracker.ietf.org/meeting/95/materials/agenda-95-ipsecme\n
 \n
 Session materials: https://datatracker.ietf.org/meeting/95/session/ipsecme\n
 \n
 See in schedule: https://datatracker.ietf.org/meeting/95/agenda#row-95-2016-04-04-mon-1400-sec-ipsecme\n
END:VEVENT
BEGIN:VEVENT
UID:ietf-95-7046-cose
SUMMARY:cose - CBOR Object Signing and Encryption
LOCATION:Quebracho B
STATUS:CONFIRMED
CLASS:PUBLIC
DTSTART;TZID=America/Argentina/Buenos_Aires:20160404T155000
DTEND;TZID=America/Argentina/Buenos_Aires:20160404T172000
DTSTAMP:20161222T095703Z
URL:https://datatracker.ietf.org/meeting/95/materials/agenda-95-cose
DESCRIPTION:Afternoon Session II\n
 \n
 Agenda https://datatracker.ietf.org/meeting/95/materials/agenda-95-cose\n
 \n
 Session materials: https://datatracker.ietf.org/meeting/95/session/cose\n
 \n
 See in schedule: https://datatracker.ietf.org/meeting/95/agenda#row-95-2016-04-04-mon-1550-sec-cose\n
END:VEVENT
BEGIN:VEVENT
UID:ietf-95-7045-trans
SUMMARY:trans - Public Notary Transparency 
LOCATION:Quebracho A
STATUS:CONFIRMED
CLASS:PUBLIC
DTSTART;TZID=America/Argentina/Buenos_Aires:20160404T155000
DTEND;TZID=America/Argentina/Buenos_Aires:20160404T172000
DTSTAMP:20161222T095703Z
URL:https://datatracker.ietf.org/meeting/95/materials/agenda-95-trans
DESCRIPTION:Afternoon Session II\n
 \n
 Agenda https://datatracker.ietf.org/meeting/95/materials/agenda-95-trans\n
 \n
 Session materials: https://datatracker.ietf.org/meeting/95/session/trans\n
 \n
 See in schedule: https://datatracker.ietf.org/meeting/95/agenda#row-95-2016-04-04-mon-1550-sec-trans\n
END:VEVENT
BEGIN:VEVENT
UID:ietf-95-7060-acme
SUMMARY:acme - Automated Certificate Management Environment
LOCATION:Buen Ayre A
STATUS:CONFIRMED
CLASS:PUBLIC
DTSTART;TZID=America/Argentina/Buenos_Aires:20160404T174000
DTEND;TZID=America/Argentina/Buenos_Aires:20160404T194000
DTSTAMP:20161222T095703Z
URL:https://datatracker.ietf.org/meeting/95/materials/agenda-95-acme
DESCRIPTION:Afternoon Session III\n
 \n
 Agenda https://datatracker.ietf.org/meeting/95/materials/agenda-95-acme\n
 \n
 Session materials: https://datatracker.ietf.org/meeting/95/session/acme\n
 \n
 See in schedule: https://datatracker.ietf.org/meeting/95/agenda#row-95-2016-04-04-mon-1740-sec-acme\n
END:VEVENT
BEGIN:VEVENT
UID:ietf-95-7073-tls
SUMMARY:tls - Transport Layer Security
LOCATION:Atlantico B
STATUS:CONFIRMED
CLASS:PUBLIC
DTSTART;TZID=America/Argentina/Buenos_Aires:20160405T100000
DTEND;TZID=America/Argentina/Buenos_Aires:20160405T123000
DTSTAMP:20161222T095703Z
URL:https://datatracker.ietf.org/meeting/95/materials/agenda-95-tls
DESCRIPTION:Morning Session I\n
 \n
 Agenda https://datatracker.ietf.org/meeting/95/materials/agenda-95-tls\n
 \n
 Session materials: https://datatracker.ietf.org/meeting/95/session/tls\n
 \n
 See in schedule: https://datatracker.ietf.org/meeting/95/agenda#row-95-2016-04-05-tue-1000-sec-tls\n
END:VEVENT
BEGIN:VEVENT
UID:ietf-95-7086-lurk
SUMMARY:lurk - Limited Use of Remote Keys
LOCATION:Atlantico C
STATUS:CONFIRMED
CLASS:PUBLIC
DTSTART;TZID=America/Argentina/Buenos_Aires:20160405T140000
DTEND;TZID=America/Argentina/Buenos_Aires:20160405T160000
DTSTAMP:20161222T095703Z
URL:https://datatracker.ietf.org/meeting/95/materials/agenda-95-lurk
DESCRIPTION:Afternoon Session I\n
 \n
 Agenda https://datatracker.ietf.org/meeting/95/materials/agenda-95-lurk\n
 \n
 Session materials: https://datatracker.ietf.org/meeting/95/session/lurk\n
 \n
 See in schedule: https://datatracker.ietf.org/meeting/95/agenda#row-95-2016-04-05-tue-1400-sec-lurk\n
END:VEVENT
BEGIN:VEVENT
UID:ietf-95-7095-curdle
SUMMARY:curdle - CURves, Deprecating and a Little more Encryption
LOCATION:Buen Ayre B
STATUS:CONFIRMED
CLASS:PUBLIC
DTSTART;TZID=America/Argentina/Buenos_Aires:20160405T162000
DTEND;TZID=America/Argentina/Buenos_Aires:20160405T172000
DTSTAMP:20161222T095703Z
URL:https://datatracker.ietf.org/meeting/95/materials/agenda-95-curdle
DESCRIPTION:Afternoon Session II\n
 \n
 Agenda https://datatracker.ietf.org/meeting/95/materials/agenda-95-curdle\n
 \n
 Session materials: https://datatracker.ietf.org/meeting/95/session/curdle\n
 \n
 See in schedule: https://datatracker.ietf.org/meeting/95/agenda#row-95-2016-04-05-tue-1620-sec-curdle\n
END:VEVENT
BEGIN:VEVENT
UID:ietf-95-7105-mile
SUMMARY:mile - Managed Incident Lightweight Exchange
LOCATION:Quebracho A
STATUS:CONFIRMED
CLASS:PUBLIC
DTSTART;TZID=America/Argentina/Buenos_Aires:20160405T174000
DTEND;TZID=America/Argentina/Buenos_Aires:20160405T191000
DTSTAMP:20161222T095703Z
URL:https://datatracker.ietf.org/meeting/95/materials/agenda-95-mile
DESCRIPTION:Afternoon Session III\n
 \n
 Agenda https://datatracker.ietf.org/meeting/95/materials/agenda-95-mile\n
 \n
 Session materials: https://datatracker.ietf.org/meeting/95/session/mile\n
 \n
 See in schedule: https://datatracker.ietf.org/meeting/95/agenda#row-95-2016-04-05-tue-1740-sec-mile\n
END:VEVENT
BEGIN:VEVENT
UID:ietf-95-7119-oauth
SUMMARY:oauth - Web Authorization Protocol
LOCATION:Buen Ayre B
STATUS:CONFIRMED
CLASS:PUBLIC
DTSTART;TZID=America/Argentina/Buenos_Aires:20160406T100000
DTEND;TZID=America/Argentina/Buenos_Aires:20160406T123000
DTSTAMP:20161222T095703Z
URL:https://datatracker.ietf.org/meeting/95/materials/agenda-95-oauth
DESCRIPTION:Morning Session I\n
 \n
 Agenda https://datatracker.ietf.org/meeting/95/materials/agenda-95-oauth\n
 \n
 Session materials: https://datatracker.ietf.org/meeting/95/session/oauth\n
 \n
 See in schedule: https://datatracker.ietf.org/meeting/95/agenda#row-95-2016-04-06-wed-1000-sec-oauth\n
END:VEVENT
BEGIN:VEVENT
UID:ietf-95-7122-openpgp
SUMMARY:openpgp - Open Specification for Pretty Good Privacy (11:00 - 12:30)
LOCATION:Atlantico C
STATUS:CONFIRMED
CLASS:PUBLIC
DTSTART;TZID=America/Argentina/Buenos_Aires:20160406T100000
DTEND;TZID=America/Argentina/Buenos_Aires:20160406T123000
DTSTAMP:20161222T095703Z
URL:https://datatracker.ietf.org/meeting/95/materials/agenda-95-openpgp
DESCRIPTION:Morning Session I\n
 Note: 11:00 - 12:30\n
 \n
 Agenda https://datatracker.ietf.org/meeting/95/materials/agenda-95-openpgp\n
 \n
 Session materials: https://datatracker.ietf.org/meeting/95/session/openpgp\n
 \n
 See in schedule: https://datatracker.ietf.org/meeting/95/agenda#row-95-2016-04-06-wed-1000-sec-openpgp\n
END:VEVENT
BEGIN:VEVENT
UID:ietf-95-7129-sacm
SUMMARY:sacm - Security Automation and Continuous Monitoring
LOCATION:Quebracho A
STATUS:CONFIRMED
CLASS:PUBLIC
DTSTART;TZID=America/Argentina/Buenos_Aires:20160406T140000
DTEND;TZID=America/Argentina/Buenos_Aires:20160406T160000
DTSTAMP:20161222T095703Z
URL:https://datatracker.ietf.org/meeting/95/materials/agenda-95-sacm
DESCRIPTION:Afternoon Session I\n
 \n
 Agenda https://datatracker.ietf.org/meeting/95/materials/agenda-95-sacm\n
 \n
 Session materials: https://datatracker.ietf.org/meeting/95/session/sacm\n
 \n
 See in schedule: https://datatracker.ietf.org/meeting/95/agenda#row-95-2016-04-06-wed-1400-sec-sacm\n
END:VEVENT
BEGIN:VEVENT
UID:ietf-95-7145-dane
SUMMARY:dane - DNS-based Authentication of Named Entities (CANCELED)
LOCATION:Atlantico B
STATUS:CONFIRMED
CLASS:PUBLIC
DTSTART;TZID=America/Argentina/Buenos_Aires:20160406T162000
DTEND;TZID=America/Argentina/Buenos_Aires:20160406T172000
DTSTAMP:20161222T095703Z
DESCRIPTION:Afternoon Session II\n
 Note: CANCELED\n
 \n
 Session materials: https://datatracker.ietf.org/meeting/95/session/dane\n
 \n
 See in schedule: https://datatracker.ietf.org/meeting/95/agenda#row-95-2016-04-06-wed-1620-sec-dane\n
END:VEVENT
BEGIN:VEVENT
UID:ietf-95-7143-httpauth
SUMMARY:httpauth - Hypertext Transfer Protocol Authentication
LOCATION:Buen Ayre B
STATUS:CONFIRMED
CLASS:PUBLIC
DTSTART;TZID=America/Argentina/Buenos_Aires:20160406T162000
DTEND;TZID=America/Argentina/Buenos_Aires:20160406T172000
DTSTAMP:20161222T095703Z
URL:https://datatracker.ietf.org/meeting/95/materials/agenda-95-httpauth
DESCRIPTION:Afternoon Session II\n
 \n
 Agenda https://datatracker.ietf.org/meeting/95/materials/agenda-95-httpauth\n
 \n
 Session materials: https://datatracker.ietf.org/meeting/95/session/httpauth\n
 \n
 See in schedule: https://datatracker.ietf.org/meeting/95/agenda#row-95-2016-04-06-wed-1620-sec-httpauth\n
END:VEVENT
BEGIN:VEVENT
UID:ietf-95-7158-tls
SUMMARY:tls - Transport Layer Security
LOCATION:Atlantico C
STATUS:CONFIRMED
CLASS:PUBLIC
DTSTART;TZID=America/Argentina/Buenos_Aires:20160407T100000
DTEND;TZID=America/Argentina/Buenos_Aires:20160407T123000
DTSTAMP:20161222T095703Z
URL:https://datatracker.ietf.org/meeting/95/materials/agenda-95-tls
DESCRIPTION:Morning Session I\n
 \n
 Agenda https://datatracker.ietf.org/meeting/95/materials/agenda-95-tls\n
 \n
 Session materials: https://datatracker.ietf.org/meeting/95/session/tls\n
 \n
 See in schedule: https://datatracker.ietf.org/meeting/95/agenda#row-95-2016-04-07-thu-1000-sec-tls\n
END:VEVENT
BEGIN:VEVENT
UID:ietf-95-7172-saag
SUMMARY:saag - Security Area Open Meeting
LOCATION:Pacifico A
STATUS:CONFIRMED
CLASS:PUBLIC
DTSTART;TZID=America/Argentina/Buenos_Aires:20160407T140000
DTEND;TZID=America/Argentina/Buenos_Aires:20160407T160000
DTSTAMP:20161222T095703Z
URL:https://datatracker.ietf.org/meeting/95/materials/agenda-95-saag
DESCRIPTION:Afternoon Session I\n
 \n
 Agenda https://datatracker.ietf.org/meeting/95/materials/agenda-95-saag\n
 \n
 Session materials: https://datatracker.ietf.org/meeting/95/session/saag\n
 \n
 See in schedule: https://datatracker.ietf.org/meeting/95/agenda#row-95-2016-04-07-thu-1400-sec-saag\n
END:VEVENT
BEGIN:VEVENT
UID:ietf-95-7189-kitten
SUMMARY:kitten - Common Authentication Technology Next Generation
LOCATION:Quebracho A
STATUS:CONFIRMED
CLASS:PUBLIC
DTSTART;TZID=America/Argentina/Buenos_Aires:20160407T162000
DTEND;TZID=America/Argentina/Buenos_Aires:20160407T172000
DTSTAMP:20161222T095703Z
URL:https://datatracker.ietf.org/meeting/95/materials/agenda-95-kitten
DESCRIPTION:Afternoon Session II\n
 \n
 Agenda https://datatracker.ietf.org/meeting/95/materials/agenda-95-kitten\n
 \n
 Session materials: https://datatracker.ietf.org/meeting/95/session/kitten\n
 \n
 See in schedule: https://datatracker.ietf.org/meeting/95/agenda#row-95-2016-04-07-thu-1620-sec-kitten\n
END:VEVENT
BEGIN:VEVENT
UID:ietf-95-7178-i2nsf
SUMMARY:i2nsf - Interface to Network Security Functions
LOCATION:Quebracho B
STATUS:CONFIRMED
CLASS:PUBLIC
DTSTART;TZID=America/Argentina/Buenos_Aires:20160407T173000
DTEND;TZID=America/Argentina/Buenos_Aires:20160407T193000
DTSTAMP:20161222T095703Z
URL:https://datatracker.ietf.org/meeting/95/materials/agenda-95-i2nsf
DESCRIPTION:Afternoon Session III\n
 \n
 Agenda https://datatracker.ietf.org/meeting/95/materials/agenda-95-i2nsf\n
 \n
 Session materials: https://datatracker.ietf.org/meeting/95/session/i2nsf\n
 \n
 See in schedule: https://datatracker.ietf.org/meeting/95/agenda#row-95-2016-04-07-thu-1730-sec-i2nsf\n
END:VEVENT
BEGIN:VEVENT
UID:ietf-95-7205-dots
SUMMARY:dots - DDoS Open Threat Signaling
LOCATION:Atlantico B
STATUS:CONFIRMED
CLASS:PUBLIC
DTSTART;TZID=America/Argentina/Buenos_Aires:20160408T100000
DTEND;TZID=America/Argentina/Buenos_Aires:20160408T120000
DTSTAMP:20161222T095703Z
URL:https://datatracker.ietf.org/meeting/95/materials/agenda-95-dots
DESCRIPTION:Morning Session I\n
 \n
 Agenda https://datatracker.ietf.org/meeting/95/materials/agenda-95-dots\n
 \n
 Session materials: https://datatracker.ietf.org/meeting/95/session/dots\n
 \n
 See in schedule: https://datatracker.ietf.org/meeting/95/agenda#row-95-2016-04-08-fri-1000-sec-dots\n
END:VEVENT
BEGIN:VEVENT
UID:ietf-95-7215-sacm
SUMMARY:sacm - Security Automation and Continuous Monitoring
LOCATION:Buen Ayre B
STATUS:CONFIRMED
CLASS:PUBLIC
DTSTART;TZID=America/Argentina/Buenos_Aires:20160408T122000
DTEND;TZID=America/Argentina/Buenos_Aires:20160408T132000
DTSTAMP:20161222T095703Z
URL:https://datatracker.ietf.org/meeting/95/materials/agenda-95-sacm
DESCRIPTION:Afternoon Session I\n
 \n
 Agenda https://datatracker.ietf.org/meeting/95/materials/agenda-95-sacm\n
 \n
 Session materials: https://datatracker.ietf.org/meeting/95/session/sacm\n
 \n
 See in schedule: https://datatracker.ietf.org/meeting/95/agenda#row-95-2016-04-08-fri-1220-sec-sacm\n
END:VEVENT
END:VCALENDAR
