BEGIN:VCALENDAR
VERSION:2.0
METHOD:PUBLISH
PRODID:-//IETF//datatracker.ietf.org ical agenda//EN
BEGIN:VTIMEZONE
TZID:Asia/Seoul
X-LIC-LOCATION:Asia/Seoul
BEGIN:STANDARD
TZOFFSETFROM:+082752
TZOFFSETTO:+0830
TZNAME:KST
DTSTART:19080401T000000
RDATE:19080401T000000
END:STANDARD
BEGIN:STANDARD
TZOFFSETFROM:+0830
TZOFFSETTO:+0900
TZNAME:JCST
DTSTART:19120101T000000
RDATE:19120101T000000
END:STANDARD
BEGIN:STANDARD
TZOFFSETFROM:+0900
TZOFFSETTO:+0900
TZNAME:JST
DTSTART:19371001T000000
RDATE:19371001T000000
END:STANDARD
BEGIN:STANDARD
TZOFFSETFROM:+0900
TZOFFSETTO:+0900
TZNAME:KST
DTSTART:19450908T000000
RDATE:19450908T000000
END:STANDARD
BEGIN:STANDARD
TZOFFSETFROM:+0900
TZOFFSETTO:+0830
TZNAME:KST
DTSTART:19540321T000000
RDATE:19540321T000000
END:STANDARD
BEGIN:DAYLIGHT
TZOFFSETFROM:+0830
TZOFFSETTO:+0930
TZNAME:KDT
DTSTART:19550505T000000
RDATE:19550505T000000
RDATE:19560520T000000
RDATE:19570505T000000
RDATE:19580504T000000
RDATE:19590503T000000
RDATE:19600501T000000
END:DAYLIGHT
BEGIN:STANDARD
TZOFFSETFROM:+0930
TZOFFSETTO:+0830
TZNAME:KST
DTSTART:19550909T000000
RDATE:19550909T000000
RDATE:19560930T000000
RDATE:19570922T000000
RDATE:19580921T000000
RDATE:19590920T000000
RDATE:19600918T000000
END:STANDARD
BEGIN:STANDARD
TZOFFSETFROM:+0830
TZOFFSETTO:+0900
TZNAME:KST
DTSTART:19610810T000000
RDATE:19610810T000000
END:STANDARD
BEGIN:DAYLIGHT
TZOFFSETFROM:+0900
TZOFFSETTO:+1000
TZNAME:KDT
DTSTART:19870510T020000
RDATE:19870510T020000
RDATE:19880508T020000
END:DAYLIGHT
BEGIN:STANDARD
TZOFFSETFROM:+1000
TZOFFSETTO:+0900
TZNAME:KST
DTSTART:19871011T030000
RDATE:19871011T030000
RDATE:19881009T030000
END:STANDARD
END:VTIMEZONE
BEGIN:VEVENT
UID:ietf-97-7952-dispatch
SUMMARY:dispatch - Dispatch (09:30-11:00)
LOCATION:Grand Ballroom 2
STATUS:CONFIRMED
CLASS:PUBLIC
DTSTART;TZID=Asia/Seoul:20161114T093000
DTEND;TZID=Asia/Seoul:20161114T120000
DTSTAMP:20161222T095703Z
URL:https://datatracker.ietf.org/meeting/97/materials/agenda-97-dispatch-07
DESCRIPTION:Morning Session I\n
 Note: 09:30-11:00\n
 \n
 Meetecho: http://www.meetecho.com/ietf97/dispatch/\n
 \n
 Agenda https://datatracker.ietf.org/meeting/97/materials/agenda-97-dispatch-07\n
 \n
 Session materials: https://datatracker.ietf.org/meeting/97/session/dispatch\n
 \n
 See in schedule: https://datatracker.ietf.org/meeting/97/agenda#row-97-2016-11-14-mon-0930-art-dispatch\n
END:VEVENT
BEGIN:VEVENT
UID:ietf-97-7952-sipbrandy
SUMMARY:sipbrandy - SIP Best-practice Recommendations Against Network Dangers to privacY (11:00-12:00)
LOCATION:Grand Ballroom 2
STATUS:CONFIRMED
CLASS:PUBLIC
DTSTART;TZID=Asia/Seoul:20161114T093000
DTEND;TZID=Asia/Seoul:20161114T120000
DTSTAMP:20161222T095703Z
URL:https://datatracker.ietf.org/meeting/97/materials/agenda-97-sipbrandy-00
DESCRIPTION:Morning Session I\n
 Note: 11:00-12:00\n
 \n
 Meetecho: http://www.meetecho.com/ietf97/sipbrandy/\n
 \n
 Agenda https://datatracker.ietf.org/meeting/97/materials/agenda-97-sipbrandy-00\n
 \n
 Session materials: https://datatracker.ietf.org/meeting/97/session/sipbrandy\n
 \n
 See in schedule: https://datatracker.ietf.org/meeting/97/agenda#row-97-2016-11-14-mon-0930-art-sipbrandy\n
END:VEVENT
BEGIN:VEVENT
UID:ietf-97-7973-ice
SUMMARY:ice - Interactive Connectivity Establishment
LOCATION:Studio 3
STATUS:CONFIRMED
CLASS:PUBLIC
DTSTART;TZID=Asia/Seoul:20161114T133000
DTEND;TZID=Asia/Seoul:20161114T153000
DTSTAMP:20161222T095703Z
URL:https://datatracker.ietf.org/meeting/97/materials/agenda-97-ice-02
DESCRIPTION:Afternoon Session I\n
 \n
 Meetecho: http://www.meetecho.com/ietf97/ice/\n
 \n
 Agenda https://datatracker.ietf.org/meeting/97/materials/agenda-97-ice-02\n
 \n
 Session materials: https://datatracker.ietf.org/meeting/97/session/ice\n
 \n
 See in schedule: https://datatracker.ietf.org/meeting/97/agenda#row-97-2016-11-14-mon-1330-art-ice\n
END:VEVENT
BEGIN:VEVENT
UID:ietf-97-7977-rtcweb
SUMMARY:rtcweb - Real-Time Communication in WEB-browsers
LOCATION:Grand Ballroom 3
STATUS:CONFIRMED
CLASS:PUBLIC
DTSTART;TZID=Asia/Seoul:20161114T155000
DTEND;TZID=Asia/Seoul:20161114T175000
DTSTAMP:20161222T095703Z
URL:https://datatracker.ietf.org/meeting/97/materials/agenda-97-rtcweb-01
DESCRIPTION:Afternoon Session II\n
 \n
 Meetecho: http://www.meetecho.com/ietf97/rtcweb/\n
 \n
 Agenda https://datatracker.ietf.org/meeting/97/materials/agenda-97-rtcweb-01\n
 \n
 Session materials: https://datatracker.ietf.org/meeting/97/session/rtcweb\n
 \n
 See in schedule: https://datatracker.ietf.org/meeting/97/agenda#row-97-2016-11-14-mon-1550-art-rtcweb\n
END:VEVENT
BEGIN:VEVENT
UID:ietf-97-7990-modern
SUMMARY:modern - Managing, Ordering, Distributing, Exposing, & Registering telephone Numbers (09:30-11:00)
LOCATION:Studio 4
STATUS:CONFIRMED
CLASS:PUBLIC
DTSTART;TZID=Asia/Seoul:20161115T093000
DTEND;TZID=Asia/Seoul:20161115T120000
DTSTAMP:20161222T095703Z
URL:https://datatracker.ietf.org/meeting/97/materials/agenda-97-modern-01
DESCRIPTION:Morning Session I\n
 Note: 09:30-11:00\n
 \n
 Meetecho: http://www.meetecho.com/ietf97/modern/\n
 \n
 Agenda https://datatracker.ietf.org/meeting/97/materials/agenda-97-modern-01\n
 \n
 Session materials: https://datatracker.ietf.org/meeting/97/session/modern\n
 \n
 See in schedule: https://datatracker.ietf.org/meeting/97/agenda#row-97-2016-11-15-tue-0930-art-modern\n
END:VEVENT
BEGIN:VEVENT
UID:ietf-97-8003-httpbis
SUMMARY:httpbis - Hypertext Transfer Protocol
LOCATION:Park Ballroom 2
STATUS:CONFIRMED
CLASS:PUBLIC
DTSTART;TZID=Asia/Seoul:20161115T133000
DTEND;TZID=Asia/Seoul:20161115T153000
DTSTAMP:20161222T095703Z
URL:https://datatracker.ietf.org/meeting/97/materials/agenda-97-httpbis-02
DESCRIPTION:Afternoon Session I\n
 \n
 Meetecho: http://www.meetecho.com/ietf97/httpbis/\n
 \n
 Agenda https://datatracker.ietf.org/meeting/97/materials/agenda-97-httpbis-02\n
 \n
 Session materials: https://datatracker.ietf.org/meeting/97/session/httpbis\n
 \n
 See in schedule: https://datatracker.ietf.org/meeting/97/agenda#row-97-2016-11-15-tue-1330-art-httpbis\n
END:VEVENT
BEGIN:VEVENT
UID:ietf-97-8006-perc
SUMMARY:perc - Privacy Enhanced RTP Conferencing 
LOCATION:Studio 4
STATUS:CONFIRMED
CLASS:PUBLIC
DTSTART;TZID=Asia/Seoul:20161115T133000
DTEND;TZID=Asia/Seoul:20161115T153000
DTSTAMP:20161222T095703Z
URL:https://datatracker.ietf.org/meeting/97/materials/agenda-97-perc-00
DESCRIPTION:Afternoon Session I\n
 \n
 Meetecho: http://www.meetecho.com/ietf97/perc/\n
 \n
 Agenda https://datatracker.ietf.org/meeting/97/materials/agenda-97-perc-00\n
 \n
 Session materials: https://datatracker.ietf.org/meeting/97/session/perc\n
 \n
 See in schedule: https://datatracker.ietf.org/meeting/97/agenda#row-97-2016-11-15-tue-1330-art-perc\n
END:VEVENT
BEGIN:VEVENT
UID:ietf-97-8013-netvc
SUMMARY:netvc - Internet Video Codec
LOCATION:Studio 3
STATUS:CONFIRMED
CLASS:PUBLIC
DTSTART;TZID=Asia/Seoul:20161115T155000
DTEND;TZID=Asia/Seoul:20161115T182000
DTSTAMP:20161222T095703Z
URL:https://datatracker.ietf.org/meeting/97/materials/agenda-97-netvc-04
DESCRIPTION:Afternoon Session II\n
 \n
 Meetecho: http://www.meetecho.com/ietf97/netvc/\n
 \n
 Agenda https://datatracker.ietf.org/meeting/97/materials/agenda-97-netvc-04\n
 \n
 Session materials: https://datatracker.ietf.org/meeting/97/session/netvc\n
 \n
 See in schedule: https://datatracker.ietf.org/meeting/97/agenda#row-97-2016-11-15-tue-1550-art-netvc\n
END:VEVENT
BEGIN:VEVENT
UID:ietf-97-8019-stir
SUMMARY:stir - Secure Telephone Identity Revisited
LOCATION:Park Ballroom 2
STATUS:CONFIRMED
CLASS:PUBLIC
DTSTART;TZID=Asia/Seoul:20161116T093000
DTEND;TZID=Asia/Seoul:20161116T110000
DTSTAMP:20161222T095703Z
URL:https://datatracker.ietf.org/meeting/97/materials/agenda-97-stir-01
DESCRIPTION:Morning Session I\n
 \n
 Meetecho: http://www.meetecho.com/ietf97/stir/\n
 \n
 Agenda https://datatracker.ietf.org/meeting/97/materials/agenda-97-stir-01\n
 \n
 Session materials: https://datatracker.ietf.org/meeting/97/session/stir\n
 \n
 See in schedule: https://datatracker.ietf.org/meeting/97/agenda#row-97-2016-11-16-wed-0930-art-stir\n
END:VEVENT
BEGIN:VEVENT
UID:ietf-97-8062-mmusic
SUMMARY:mmusic - Multiparty Multimedia Session Control
LOCATION:Studio 4
STATUS:CONFIRMED
CLASS:PUBLIC
DTSTART;TZID=Asia/Seoul:20161116T111000
DTEND;TZID=Asia/Seoul:20161116T121000
DTSTAMP:20161222T095703Z
URL:https://datatracker.ietf.org/meeting/97/materials/agenda-97-mmusic-01
DESCRIPTION:Morning Session II\n
 \n
 Meetecho: http://www.meetecho.com/ietf97/mmusic/\n
 \n
 Agenda https://datatracker.ietf.org/meeting/97/materials/agenda-97-mmusic-01\n
 \n
 Session materials: https://datatracker.ietf.org/meeting/97/session/mmusic\n
 \n
 See in schedule: https://datatracker.ietf.org/meeting/97/agenda#row-97-2016-11-16-wed-1110-art-mmusic\n
END:VEVENT
BEGIN:VEVENT
UID:ietf-97-8028-core
SUMMARY:core - Constrained RESTful Environments
LOCATION:Studio 2
STATUS:CONFIRMED
CLASS:PUBLIC
DTSTART;TZID=Asia/Seoul:20161116T133000
DTEND;TZID=Asia/Seoul:20161116T150000
DTSTAMP:20161222T095703Z
URL:https://datatracker.ietf.org/meeting/97/materials/agenda-97-core-01
DESCRIPTION:Afternoon Session I\n
 \n
 Meetecho: http://www.meetecho.com/ietf97/core/\n
 \n
 Agenda https://datatracker.ietf.org/meeting/97/materials/agenda-97-core-01\n
 \n
 Session materials: https://datatracker.ietf.org/meeting/97/session/core\n
 \n
 See in schedule: https://datatracker.ietf.org/meeting/97/agenda#row-97-2016-11-16-wed-1330-art-core\n
END:VEVENT
BEGIN:VEVENT
UID:ietf-97-8038-rtcweb
SUMMARY:rtcweb - Real-Time Communication in WEB-browsers
LOCATION:Studio 4
STATUS:CONFIRMED
CLASS:PUBLIC
DTSTART;TZID=Asia/Seoul:20161116T152000
DTEND;TZID=Asia/Seoul:20161116T162000
DTSTAMP:20161222T095703Z
URL:https://datatracker.ietf.org/meeting/97/materials/agenda-97-rtcweb-01
DESCRIPTION:Afternoon Session II\n
 \n
 Meetecho: http://www.meetecho.com/ietf97/rtcweb/\n
 \n
 Agenda https://datatracker.ietf.org/meeting/97/materials/agenda-97-rtcweb-01\n
 \n
 Session materials: https://datatracker.ietf.org/meeting/97/session/rtcweb\n
 \n
 See in schedule: https://datatracker.ietf.org/meeting/97/agenda#row-97-2016-11-16-wed-1520-art-rtcweb\n
END:VEVENT
BEGIN:VEVENT
UID:ietf-97-8043-avtcore
SUMMARY:avtcore - Audio/Video Transport Core Maintenance (10:15-11:00)
LOCATION:Park Ballroom 2
STATUS:CONFIRMED
CLASS:PUBLIC
DTSTART;TZID=Asia/Seoul:20161117T093000
DTEND;TZID=Asia/Seoul:20161117T110000
DTSTAMP:20161222T095703Z
URL:https://datatracker.ietf.org/meeting/97/materials/agenda-97-avtcore-00
DESCRIPTION:Morning Session I\n
 Note: 10:15-11:00\n
 \n
 Meetecho: http://www.meetecho.com/ietf97/avtcore/\n
 \n
 Agenda https://datatracker.ietf.org/meeting/97/materials/agenda-97-avtcore-00\n
 \n
 Session materials: https://datatracker.ietf.org/meeting/97/session/avtcore\n
 \n
 See in schedule: https://datatracker.ietf.org/meeting/97/agenda#row-97-2016-11-17-thu-0930-art-avtcore\n
END:VEVENT
BEGIN:VEVENT
UID:ietf-97-8043-avtext
SUMMARY:avtext - Audio/Video Transport Extensions (09:30-10:15)
LOCATION:Park Ballroom 2
STATUS:CONFIRMED
CLASS:PUBLIC
DTSTART;TZID=Asia/Seoul:20161117T093000
DTEND;TZID=Asia/Seoul:20161117T110000
DTSTAMP:20161222T095703Z
URL:https://datatracker.ietf.org/meeting/97/materials/agenda-97-avtext-01
DESCRIPTION:Morning Session I\n
 Note: 09:30-10:15\n
 \n
 Meetecho: http://www.meetecho.com/ietf97/avtext/\n
 \n
 Agenda https://datatracker.ietf.org/meeting/97/materials/agenda-97-avtext-01\n
 \n
 Session materials: https://datatracker.ietf.org/meeting/97/session/avtext\n
 \n
 See in schedule: https://datatracker.ietf.org/meeting/97/agenda#row-97-2016-11-17-thu-0930-art-avtext\n
END:VEVENT
BEGIN:VEVENT
UID:ietf-97-8050-httpbis
SUMMARY:httpbis - Hypertext Transfer Protocol
LOCATION:Park Ballroom 1
STATUS:CONFIRMED
CLASS:PUBLIC
DTSTART;TZID=Asia/Seoul:20161117T111000
DTEND;TZID=Asia/Seoul:20161117T121000
DTSTAMP:20161222T095703Z
URL:https://datatracker.ietf.org/meeting/97/materials/agenda-97-httpbis-02
DESCRIPTION:Morning Session II\n
 \n
 Meetecho: http://www.meetecho.com/ietf97/httpbis/\n
 \n
 Agenda https://datatracker.ietf.org/meeting/97/materials/agenda-97-httpbis-02\n
 \n
 Session materials: https://datatracker.ietf.org/meeting/97/session/httpbis\n
 \n
 See in schedule: https://datatracker.ietf.org/meeting/97/agenda#row-97-2016-11-17-thu-1110-art-httpbis\n
END:VEVENT
BEGIN:VEVENT
UID:ietf-97-8051-payload
SUMMARY:payload - Audio/Video Transport Payloads
LOCATION:Park Ballroom 2
STATUS:CONFIRMED
CLASS:PUBLIC
DTSTART;TZID=Asia/Seoul:20161117T111000
DTEND;TZID=Asia/Seoul:20161117T121000
DTSTAMP:20161222T095703Z
URL:https://datatracker.ietf.org/meeting/97/materials/agenda-97-payload-00
DESCRIPTION:Morning Session II\n
 \n
 Meetecho: http://www.meetecho.com/ietf97/payload/\n
 \n
 Agenda https://datatracker.ietf.org/meeting/97/materials/agenda-97-payload-00\n
 \n
 Session materials: https://datatracker.ietf.org/meeting/97/session/payload\n
 \n
 See in schedule: https://datatracker.ietf.org/meeting/97/agenda#row-97-2016-11-17-thu-1110-art-payload\n
END:VEVENT
BEGIN:VEVENT
UID:ietf-97-8084-core
SUMMARY:core - Constrained RESTful Environments
LOCATION:Studio 2
STATUS:CONFIRMED
CLASS:PUBLIC
DTSTART;TZID=Asia/Seoul:20161118T093000
DTEND;TZID=Asia/Seoul:20161118T113000
DTSTAMP:20161222T095703Z
URL:https://datatracker.ietf.org/meeting/97/materials/agenda-97-core-01
DESCRIPTION:Morning Session I\n
 \n
 Meetecho: http://www.meetecho.com/ietf97/core/\n
 \n
 Agenda https://datatracker.ietf.org/meeting/97/materials/agenda-97-core-01\n
 \n
 Session materials: https://datatracker.ietf.org/meeting/97/session/core\n
 \n
 See in schedule: https://datatracker.ietf.org/meeting/97/agenda#row-97-2016-11-18-fri-0930-art-core\n
END:VEVENT
BEGIN:VEVENT
UID:ietf-97-8085-regext
SUMMARY:regext - Registration Protocols Extensions
LOCATION:Studio 3
STATUS:CONFIRMED
CLASS:PUBLIC
DTSTART;TZID=Asia/Seoul:20161118T093000
DTEND;TZID=Asia/Seoul:20161118T113000
DTSTAMP:20161222T095703Z
URL:https://datatracker.ietf.org/meeting/97/materials/agenda-97-regext-02
DESCRIPTION:Morning Session I\n
 \n
 Meetecho: http://www.meetecho.com/ietf97/regext/\n
 \n
 Agenda https://datatracker.ietf.org/meeting/97/materials/agenda-97-regext-02\n
 \n
 Session materials: https://datatracker.ietf.org/meeting/97/session/regext\n
 \n
 See in schedule: https://datatracker.ietf.org/meeting/97/agenda#row-97-2016-11-18-fri-0930-art-regext\n
END:VEVENT
BEGIN:VEVENT
UID:ietf-97-8089-rtcweb
SUMMARY:rtcweb - Real-Time Communication in WEB-browsers
LOCATION:Grand Ballroom 3
STATUS:CONFIRMED
CLASS:PUBLIC
DTSTART;TZID=Asia/Seoul:20161118T115000
DTEND;TZID=Asia/Seoul:20161118T132000
DTSTAMP:20161222T095703Z
DESCRIPTION:Afternoon Session I\n
 \n
 Meetecho: http://www.meetecho.com/ietf97/rtcweb/\n
 \n
 Session materials: https://datatracker.ietf.org/meeting/97/session/rtcweb\n
 \n
 See in schedule: https://datatracker.ietf.org/meeting/97/agenda#row-97-2016-11-18-fri-1150-art-rtcweb\n
END:VEVENT
END:VCALENDAR
