BEGIN:VCALENDAR
VERSION:2.0
METHOD:PUBLISH
PRODID:-//IETF//datatracker.ietf.org ical agenda//EN
BEGIN:VTIMEZONE
TZID:Asia/Seoul
X-LIC-LOCATION:Asia/Seoul
BEGIN:STANDARD
TZOFFSETFROM:+082752
TZOFFSETTO:+0830
TZNAME:KST
DTSTART:19080401T000000
RDATE:19080401T000000
END:STANDARD
BEGIN:STANDARD
TZOFFSETFROM:+0830
TZOFFSETTO:+0900
TZNAME:JCST
DTSTART:19120101T000000
RDATE:19120101T000000
END:STANDARD
BEGIN:STANDARD
TZOFFSETFROM:+0900
TZOFFSETTO:+0900
TZNAME:JST
DTSTART:19371001T000000
RDATE:19371001T000000
END:STANDARD
BEGIN:STANDARD
TZOFFSETFROM:+0900
TZOFFSETTO:+0900
TZNAME:KST
DTSTART:19450908T000000
RDATE:19450908T000000
END:STANDARD
BEGIN:STANDARD
TZOFFSETFROM:+0900
TZOFFSETTO:+0830
TZNAME:KST
DTSTART:19540321T000000
RDATE:19540321T000000
END:STANDARD
BEGIN:DAYLIGHT
TZOFFSETFROM:+0830
TZOFFSETTO:+0930
TZNAME:KDT
DTSTART:19550505T000000
RDATE:19550505T000000
RDATE:19560520T000000
RDATE:19570505T000000
RDATE:19580504T000000
RDATE:19590503T000000
RDATE:19600501T000000
END:DAYLIGHT
BEGIN:STANDARD
TZOFFSETFROM:+0930
TZOFFSETTO:+0830
TZNAME:KST
DTSTART:19550909T000000
RDATE:19550909T000000
RDATE:19560930T000000
RDATE:19570922T000000
RDATE:19580921T000000
RDATE:19590920T000000
RDATE:19600918T000000
END:STANDARD
BEGIN:STANDARD
TZOFFSETFROM:+0830
TZOFFSETTO:+0900
TZNAME:KST
DTSTART:19610810T000000
RDATE:19610810T000000
END:STANDARD
BEGIN:DAYLIGHT
TZOFFSETFROM:+0900
TZOFFSETTO:+1000
TZNAME:KDT
DTSTART:19870510T020000
RDATE:19870510T020000
RDATE:19880508T020000
END:DAYLIGHT
BEGIN:STANDARD
TZOFFSETFROM:+1000
TZOFFSETTO:+0900
TZNAME:KST
DTSTART:19871011T030000
RDATE:19871011T030000
RDATE:19881009T030000
END:STANDARD
END:VTIMEZONE
BEGIN:VEVENT
UID:ietf-97-8170-hackathon
SUMMARY:IETF Hackathon
LOCATION:Park Ballroom 1
STATUS:CONFIRMED
CLASS:PUBLIC
DTSTART;TZID=Asia/Seoul:20161112T090000
DTEND;TZID=Asia/Seoul:20161112T210000
DTSTAMP:20161222T095703Z
URL:https://datatracker.ietf.org/meeting/97/materials/agenda-97-hackathon-00
DESCRIPTION:IETF Hackathon\n
 \n
 Meetecho: http://www.meetecho.com/ietf97/hackathon/\n
 \n
 Agenda https://datatracker.ietf.org/meeting/97/materials/agenda-97-hackathon-00\n
 \n
 Session materials: https://datatracker.ietf.org/meeting/97/session/hackathon\n
 \n
 See in schedule: https://datatracker.ietf.org/meeting/97/agenda#row-97-2016-11-12-sat-0900-hackathon-ietf-hackathon\n
END:VEVENT
BEGIN:VEVENT
UID:ietf-97-8171-hackathon
SUMMARY:IETF Hackathon
LOCATION:Park Ballroom 1
STATUS:CONFIRMED
CLASS:PUBLIC
DTSTART;TZID=Asia/Seoul:20161113T090000
DTEND;TZID=Asia/Seoul:20161113T160000
DTSTAMP:20161222T095703Z
URL:https://datatracker.ietf.org/meeting/97/materials/agenda-97-hackathon-00
DESCRIPTION:IETF Hackathon\n
 \n
 Meetecho: http://www.meetecho.com/ietf97/hackathon/\n
 \n
 Agenda https://datatracker.ietf.org/meeting/97/materials/agenda-97-hackathon-00\n
 \n
 Session materials: https://datatracker.ietf.org/meeting/97/session/hackathon\n
 \n
 See in schedule: https://datatracker.ietf.org/meeting/97/agenda#row-97-2016-11-13-sun-0900-hackathon-ietf-hackathon\n
END:VEVENT
BEGIN:VEVENT
UID:ietf-97-8183-iepg
SUMMARY:IEPG Meeting
LOCATION:Studio 4
STATUS:CONFIRMED
CLASS:PUBLIC
DTSTART;TZID=Asia/Seoul:20161113T100000
DTEND;TZID=Asia/Seoul:20161113T120000
DTSTAMP:20161222T095703Z
DESCRIPTION:IEPG Meeting\n
 \n
 Meetecho: http://www.meetecho.com/ietf97/iepg/\n
 \n
 Session materials: https://datatracker.ietf.org/meeting/97/session/iepg\n
 \n
 See in schedule: https://datatracker.ietf.org/meeting/97/agenda#row-97-2016-11-13-sun-1000-iepg-iepg-meeting\n
END:VEVENT
BEGIN:VEVENT
UID:ietf-97-8176-edu
SUMMARY:IEEE 802.11 and 802.15 Wireless Tutorial
LOCATION:Studio 3
STATUS:CONFIRMED
CLASS:PUBLIC
DTSTART;TZID=Asia/Seoul:20161113T123000
DTEND;TZID=Asia/Seoul:20161113T133000
DTSTAMP:20161222T095703Z
DESCRIPTION:IEEE 802.11 and 802.15 Wireless Tutorial\n
 \n
 Meetecho: http://www.meetecho.com/ietf97/edu/\n
 \n
 Session materials: https://datatracker.ietf.org/meeting/97/session/edu\n
 \n
 See in schedule: https://datatracker.ietf.org/meeting/97/agenda#row-97-2016-11-13-sun-1230-edu-ieee-80211-and-80215-wireless-tutorial\n
END:VEVENT
BEGIN:VEVENT
UID:ietf-97-8132-edu
SUMMARY:Newcomer's Tutorial
LOCATION:Studio 4
STATUS:CONFIRMED
CLASS:PUBLIC
DTSTART;TZID=Asia/Seoul:20161113T123000
DTEND;TZID=Asia/Seoul:20161113T133000
DTSTAMP:20161222T095703Z
DESCRIPTION:Newcomer's Tutorial\n
 \n
 Meetecho: http://www.meetecho.com/ietf97/edu/\n
 \n
 Session materials: https://datatracker.ietf.org/meeting/97/session/edu\n
 \n
 See in schedule: https://datatracker.ietf.org/meeting/97/agenda#row-97-2016-11-13-sun-1230-edu-newcomers-tutorial\n
END:VEVENT
BEGIN:VEVENT
UID:ietf-97-8133-edu
SUMMARY:Newcomer's Tutorial Korean
LOCATION:Studio 2
STATUS:CONFIRMED
CLASS:PUBLIC
DTSTART;TZID=Asia/Seoul:20161113T123000
DTEND;TZID=Asia/Seoul:20161113T133000
DTSTAMP:20161222T095703Z
DESCRIPTION:Newcomer's Tutorial Korean\n
 \n
 Meetecho: http://www.meetecho.com/ietf97/edu/\n
 \n
 Session materials: https://datatracker.ietf.org/meeting/97/session/edu\n
 \n
 See in schedule: https://datatracker.ietf.org/meeting/97/agenda#row-97-2016-11-13-sun-1230-edu-newcomers-tutorial-korean\n
END:VEVENT
BEGIN:VEVENT
UID:ietf-97-8135-edu
SUMMARY:DNS Privacy Tutorial
LOCATION:Studio 3
STATUS:CONFIRMED
CLASS:PUBLIC
DTSTART;TZID=Asia/Seoul:20161113T134500
DTEND;TZID=Asia/Seoul:20161113T144500
DTSTAMP:20161222T095703Z
DESCRIPTION:DNS Privacy Tutorial\n
 \n
 Meetecho: http://www.meetecho.com/ietf97/edu/\n
 \n
 Session materials: https://datatracker.ietf.org/meeting/97/session/edu\n
 \n
 See in schedule: https://datatracker.ietf.org/meeting/97/agenda#row-97-2016-11-13-sun-1345-edu-dns-privacy-tutorial\n
END:VEVENT
BEGIN:VEVENT
UID:ietf-97-8136-edu
SUMMARY:Introduction to Operations and Management Area
LOCATION:Studio 2
STATUS:CONFIRMED
CLASS:PUBLIC
DTSTART;TZID=Asia/Seoul:20161113T134500
DTEND;TZID=Asia/Seoul:20161113T144500
DTSTAMP:20161222T095703Z
DESCRIPTION:Introduction to Operations and Management Area\n
 \n
 Meetecho: http://www.meetecho.com/ietf97/edu/\n
 \n
 Session materials: https://datatracker.ietf.org/meeting/97/session/edu\n
 \n
 See in schedule: https://datatracker.ietf.org/meeting/97/agenda#row-97-2016-11-13-sun-1345-edu-introduction-to-operations-and-management-area\n
END:VEVENT
BEGIN:VEVENT
UID:ietf-97-8137-edu
SUMMARY:Speed Mentoring
LOCATION:Grand Ballroom 1
STATUS:CONFIRMED
CLASS:PUBLIC
DTSTART;TZID=Asia/Seoul:20161113T150000
DTEND;TZID=Asia/Seoul:20161113T160000
DTSTAMP:20161222T095703Z
DESCRIPTION:Speed Mentoring\n
 \n
 Meetecho: http://www.meetecho.com/ietf97/edu/\n
 \n
 Session materials: https://datatracker.ietf.org/meeting/97/session/edu\n
 \n
 See in schedule: https://datatracker.ietf.org/meeting/97/agenda#row-97-2016-11-13-sun-1500-edu-speed-mentoring\n
END:VEVENT
BEGIN:VEVENT
UID:ietf-97-8138-edu
SUMMARY:Newcomers' Meet and Greet (open to Newcomers\, WG chairs and Mentors only)
LOCATION:Atrio Restaurant
STATUS:CONFIRMED
CLASS:PUBLIC
DTSTART;TZID=Asia/Seoul:20161113T160000
DTEND;TZID=Asia/Seoul:20161113T170000
DTSTAMP:20161222T095703Z
DESCRIPTION:Newcomers' Meet and Greet (open to Newcomers\, WG chairs and Mentors only)\n
 \n
 Session materials: https://datatracker.ietf.org/meeting/97/session/edu\n
 \n
 See in schedule: https://datatracker.ietf.org/meeting/97/agenda#row-97-2016-11-13-sun-1600-edu-newcomers-meet-and-greet-open-to-newcomers-wg-chairs-and-mentors-only\n
END:VEVENT
BEGIN:VEVENT
UID:ietf-97-8015-dnsbundled
SUMMARY:dnsbundled - Bundled Domains
LOCATION:Grand Ballroom 1
STATUS:CONFIRMED
CLASS:PUBLIC
DTSTART;TZID=Asia/Seoul:20161116T093000
DTEND;TZID=Asia/Seoul:20161116T110000
DTSTAMP:20161222T095703Z
URL:https://datatracker.ietf.org/meeting/97/materials/agenda-97-dnsbundled-02
DESCRIPTION:Morning Session I\n
 \n
 Meetecho: http://www.meetecho.com/ietf97/dnsbundled/\n
 \n
 Agenda https://datatracker.ietf.org/meeting/97/materials/agenda-97-dnsbundled-02\n
 \n
 Session materials: https://datatracker.ietf.org/meeting/97/session/dnsbundled\n
 \n
 See in schedule: https://datatracker.ietf.org/meeting/97/agenda#row-97-2016-11-16-wed-0930-int-dnsbundled\n
END:VEVENT
BEGIN:VEVENT
UID:ietf-97-8191-edu
SUMMARY:WG Chairs Forum (For WG Chairs Only)
LOCATION:Park Ballroom 1
STATUS:CONFIRMED
CLASS:PUBLIC
DTSTART;TZID=Asia/Seoul:20161116T121000
DTEND;TZID=Asia/Seoul:20161116T133000
DTSTAMP:20161222T095703Z
DESCRIPTION:WG Chairs Forum (For WG Chairs Only)\n
 \n
 Meetecho: http://www.meetecho.com/ietf97/edu/\n
 \n
 Session materials: https://datatracker.ietf.org/meeting/97/session/edu\n
 \n
 See in schedule: https://datatracker.ietf.org/meeting/97/agenda#row-97-2016-11-16-wed-1210-edu-wg-chairs-forum-for-wg-chairs-only\n
END:VEVENT
BEGIN:VEVENT
UID:ietf-97-8169-ietf
SUMMARY:IETF Operations\, Administration\, and Technical Plenary
LOCATION:Grand Ballrooms
STATUS:CONFIRMED
CLASS:PUBLIC
DTSTART;TZID=Asia/Seoul:20161116T164000
DTEND;TZID=Asia/Seoul:20161116T191000
DTSTAMP:20161222T095703Z
URL:https://datatracker.ietf.org/meeting/97/materials/agenda-97-ietf-sessb-02
DESCRIPTION:IETF Operations\, Administration\, and Technical Plenary\n
 \n
 Meetecho: http://www.meetecho.com/ietf97/plenary\n
 \n
 Agenda https://datatracker.ietf.org/meeting/97/materials/agenda-97-ietf-sessb-02\n
 \n
 Session materials: https://datatracker.ietf.org/meeting/97/session/ietf\n
 \n
 See in schedule: https://datatracker.ietf.org/meeting/97/agenda#row-97-2016-11-16-wed-1640-1plenary-ietf\n
END:VEVENT
BEGIN:VEVENT
UID:ietf-97-8173-edu
SUMMARY:Thursday Lunch Speaker Series
LOCATION:Park Ballroom 1
STATUS:CONFIRMED
CLASS:PUBLIC
DTSTART;TZID=Asia/Seoul:20161117T123000
DTEND;TZID=Asia/Seoul:20161117T131500
DTSTAMP:20161222T095703Z
URL:https://datatracker.ietf.org/meeting/97/materials/agenda-97-ietf-sessb-02
DESCRIPTION:Thursday Lunch Speaker Series\n
 \n
 Meetecho: http://www.meetecho.com/ietf97/edu/\n
 \n
 Agenda https://datatracker.ietf.org/meeting/97/materials/agenda-97-ietf-sessb-02\n
 \n
 Session materials: https://datatracker.ietf.org/meeting/97/session/edu\n
 \n
 See in schedule: https://datatracker.ietf.org/meeting/97/agenda#row-97-2016-11-17-thu-1230-edu-thursday-lunch-speaker-series\n
END:VEVENT
BEGIN:VEVENT
UID:ietf-97-8066-banana
SUMMARY:banana - BANdwidth Aggregation for interNet Access
LOCATION:Park Ballroom 1
STATUS:CONFIRMED
CLASS:PUBLIC
DTSTART;TZID=Asia/Seoul:20161117T133000
DTEND;TZID=Asia/Seoul:20161117T150000
DTSTAMP:20161222T095703Z
URL:https://datatracker.ietf.org/meeting/97/materials/agenda-97-banana-01
DESCRIPTION:Afternoon Session I\n
 \n
 Meetecho: http://www.meetecho.com/ietf97/banana/\n
 \n
 Agenda https://datatracker.ietf.org/meeting/97/materials/agenda-97-banana-01\n
 \n
 Session materials: https://datatracker.ietf.org/meeting/97/session/banana\n
 \n
 See in schedule: https://datatracker.ietf.org/meeting/97/agenda#row-97-2016-11-17-thu-1330-int-banana\n
END:VEVENT
BEGIN:VEVENT
UID:ietf-97-8185-edu
SUMMARY:Newcomers Feedback Session
LOCATION:Studio 3
STATUS:CONFIRMED
CLASS:PUBLIC
DTSTART;TZID=Asia/Seoul:20161117T180000
DTEND;TZID=Asia/Seoul:20161117T190000
DTSTAMP:20161222T095703Z
DESCRIPTION:Newcomers Feedback Session\n
 \n
 Meetecho: http://www.meetecho.com/ietf97/edu/\n
 \n
 Session materials: https://datatracker.ietf.org/meeting/97/session/edu\n
 \n
 See in schedule: https://datatracker.ietf.org/meeting/97/agenda#row-97-2016-11-17-thu-1800-edu-newcomers-feedback-session\n
END:VEVENT
END:VCALENDAR
