BEGIN:VCALENDAR
VERSION:2.0
METHOD:PUBLISH
PRODID:-//IETF//datatracker.ietf.org ical agenda//EN
BEGIN:VTIMEZONE
TZID:Asia/Seoul
X-LIC-LOCATION:Asia/Seoul
BEGIN:STANDARD
TZOFFSETFROM:+082752
TZOFFSETTO:+0830
TZNAME:KST
DTSTART:19080401T000000
RDATE:19080401T000000
END:STANDARD
BEGIN:STANDARD
TZOFFSETFROM:+0830
TZOFFSETTO:+0900
TZNAME:JCST
DTSTART:19120101T000000
RDATE:19120101T000000
END:STANDARD
BEGIN:STANDARD
TZOFFSETFROM:+0900
TZOFFSETTO:+0900
TZNAME:JST
DTSTART:19371001T000000
RDATE:19371001T000000
END:STANDARD
BEGIN:STANDARD
TZOFFSETFROM:+0900
TZOFFSETTO:+0900
TZNAME:KST
DTSTART:19450908T000000
RDATE:19450908T000000
END:STANDARD
BEGIN:STANDARD
TZOFFSETFROM:+0900
TZOFFSETTO:+0830
TZNAME:KST
DTSTART:19540321T000000
RDATE:19540321T000000
END:STANDARD
BEGIN:DAYLIGHT
TZOFFSETFROM:+0830
TZOFFSETTO:+0930
TZNAME:KDT
DTSTART:19550505T000000
RDATE:19550505T000000
RDATE:19560520T000000
RDATE:19570505T000000
RDATE:19580504T000000
RDATE:19590503T000000
RDATE:19600501T000000
END:DAYLIGHT
BEGIN:STANDARD
TZOFFSETFROM:+0930
TZOFFSETTO:+0830
TZNAME:KST
DTSTART:19550909T000000
RDATE:19550909T000000
RDATE:19560930T000000
RDATE:19570922T000000
RDATE:19580921T000000
RDATE:19590920T000000
RDATE:19600918T000000
END:STANDARD
BEGIN:STANDARD
TZOFFSETFROM:+0830
TZOFFSETTO:+0900
TZNAME:KST
DTSTART:19610810T000000
RDATE:19610810T000000
END:STANDARD
BEGIN:DAYLIGHT
TZOFFSETFROM:+0900
TZOFFSETTO:+1000
TZNAME:KDT
DTSTART:19870510T020000
RDATE:19870510T020000
RDATE:19880508T020000
END:DAYLIGHT
BEGIN:STANDARD
TZOFFSETFROM:+1000
TZOFFSETTO:+0900
TZNAME:KST
DTSTART:19871011T030000
RDATE:19871011T030000
RDATE:19881009T030000
END:STANDARD
END:VTIMEZONE
BEGIN:VEVENT
UID:ietf-97-8144-iab
SUMMARY:IAB Meeting
LOCATION:Park Ballroom 3
STATUS:CONFIRMED
CLASS:PUBLIC
DTSTART;TZID=Asia/Seoul:20161113T140000
DTEND;TZID=Asia/Seoul:20161113T170000
DTSTAMP:20161222T095703Z
DESCRIPTION:IAB Meeting\n
 \n
 Session materials: https://datatracker.ietf.org/meeting/97/session/iab\n
 \n
 See in schedule: https://datatracker.ietf.org/meeting/97/agenda#row-97-2016-11-13-sun-1400\n
END:VEVENT
BEGIN:VEVENT
UID:ietf-97-8164-iab
SUMMARY:IAB Breakfast
LOCATION:Park Studio
STATUS:CONFIRMED
CLASS:PUBLIC
DTSTART;TZID=Asia/Seoul:20161116T073000
DTEND;TZID=Asia/Seoul:20161116T093000
DTSTAMP:20161222T095703Z
DESCRIPTION:IAB Breakfast\n
 \n
 Session materials: https://datatracker.ietf.org/meeting/97/session/iab\n
 \n
 See in schedule: https://datatracker.ietf.org/meeting/97/agenda#row-97-2016-11-16-wed-0730\n
END:VEVENT
BEGIN:VEVENT
UID:ietf-97-8165-iab
SUMMARY:IAB Breakfast
LOCATION:Park Studio
STATUS:CONFIRMED
CLASS:PUBLIC
DTSTART;TZID=Asia/Seoul:20161117T073000
DTEND;TZID=Asia/Seoul:20161117T093000
DTSTAMP:20161222T095703Z
DESCRIPTION:IAB Breakfast\n
 \n
 Session materials: https://datatracker.ietf.org/meeting/97/session/iab\n
 \n
 See in schedule: https://datatracker.ietf.org/meeting/97/agenda#row-97-2016-11-17-thu-0730\n
END:VEVENT
END:VCALENDAR
