BEGIN:VCALENDAR
VERSION:2.0
METHOD:PUBLISH
PRODID:-//IETF//datatracker.ietf.org ical agenda//EN
BEGIN:VTIMEZONE
TZID:Asia/Seoul
X-LIC-LOCATION:Asia/Seoul
BEGIN:STANDARD
TZOFFSETFROM:+082752
TZOFFSETTO:+0830
TZNAME:KST
DTSTART:19080401T000000
RDATE:19080401T000000
END:STANDARD
BEGIN:STANDARD
TZOFFSETFROM:+0830
TZOFFSETTO:+0900
TZNAME:JCST
DTSTART:19120101T000000
RDATE:19120101T000000
END:STANDARD
BEGIN:STANDARD
TZOFFSETFROM:+0900
TZOFFSETTO:+0900
TZNAME:JST
DTSTART:19371001T000000
RDATE:19371001T000000
END:STANDARD
BEGIN:STANDARD
TZOFFSETFROM:+0900
TZOFFSETTO:+0900
TZNAME:KST
DTSTART:19450908T000000
RDATE:19450908T000000
END:STANDARD
BEGIN:STANDARD
TZOFFSETFROM:+0900
TZOFFSETTO:+0830
TZNAME:KST
DTSTART:19540321T000000
RDATE:19540321T000000
END:STANDARD
BEGIN:DAYLIGHT
TZOFFSETFROM:+0830
TZOFFSETTO:+0930
TZNAME:KDT
DTSTART:19550505T000000
RDATE:19550505T000000
RDATE:19560520T000000
RDATE:19570505T000000
RDATE:19580504T000000
RDATE:19590503T000000
RDATE:19600501T000000
END:DAYLIGHT
BEGIN:STANDARD
TZOFFSETFROM:+0930
TZOFFSETTO:+0830
TZNAME:KST
DTSTART:19550909T000000
RDATE:19550909T000000
RDATE:19560930T000000
RDATE:19570922T000000
RDATE:19580921T000000
RDATE:19590920T000000
RDATE:19600918T000000
END:STANDARD
BEGIN:STANDARD
TZOFFSETFROM:+0830
TZOFFSETTO:+0900
TZNAME:KST
DTSTART:19610810T000000
RDATE:19610810T000000
END:STANDARD
BEGIN:DAYLIGHT
TZOFFSETFROM:+0900
TZOFFSETTO:+1000
TZNAME:KDT
DTSTART:19870510T020000
RDATE:19870510T020000
RDATE:19880508T020000
END:DAYLIGHT
BEGIN:STANDARD
TZOFFSETFROM:+1000
TZOFFSETTO:+0900
TZNAME:KST
DTSTART:19871011T030000
RDATE:19871011T030000
RDATE:19881009T030000
END:STANDARD
END:VTIMEZONE
BEGIN:VEVENT
UID:ietf-97-7958-dmm
SUMMARY:dmm - Distributed Mobility Management
LOCATION:Studio 4
STATUS:CONFIRMED
CLASS:PUBLIC
DTSTART;TZID=Asia/Seoul:20161114T093000
DTEND;TZID=Asia/Seoul:20161114T120000
DTSTAMP:20161222T095703Z
URL:https://datatracker.ietf.org/meeting/97/materials/agenda-97-dmm-05
DESCRIPTION:Morning Session I\n
 \n
 Meetecho: http://www.meetecho.com/ietf97/dmm/\n
 \n
 Agenda https://datatracker.ietf.org/meeting/97/materials/agenda-97-dmm-05\n
 \n
 Session materials: https://datatracker.ietf.org/meeting/97/session/dmm\n
 \n
 See in schedule: https://datatracker.ietf.org/meeting/97/agenda#row-97-2016-11-14-mon-0930-int-dmm\n
END:VEVENT
BEGIN:VEVENT
UID:ietf-97-7976-lpwan
SUMMARY:lpwan - IPv6 over Low Power Wide-Area Networks
LOCATION:Grand Ballroom 2
STATUS:CONFIRMED
CLASS:PUBLIC
DTSTART;TZID=Asia/Seoul:20161114T155000
DTEND;TZID=Asia/Seoul:20161114T175000
DTSTAMP:20161222T095703Z
URL:https://datatracker.ietf.org/meeting/97/materials/agenda-97-lpwan-04
DESCRIPTION:Afternoon Session II\n
 \n
 Meetecho: http://www.meetecho.com/ietf97/lpwan/\n
 \n
 Agenda https://datatracker.ietf.org/meeting/97/materials/agenda-97-lpwan-04\n
 \n
 Session materials: https://datatracker.ietf.org/meeting/97/session/lpwan\n
 \n
 See in schedule: https://datatracker.ietf.org/meeting/97/agenda#row-97-2016-11-14-mon-1550-int-lpwan\n
END:VEVENT
BEGIN:VEVENT
UID:ietf-97-7984-6man
SUMMARY:6man - IPv6 Maintenance
LOCATION:Grand Ballroom 2
STATUS:CONFIRMED
CLASS:PUBLIC
DTSTART;TZID=Asia/Seoul:20161115T093000
DTEND;TZID=Asia/Seoul:20161115T120000
DTSTAMP:20161222T095703Z
URL:https://datatracker.ietf.org/meeting/97/materials/agenda-97-6man-04
DESCRIPTION:Morning Session I\n
 \n
 Meetecho: http://www.meetecho.com/ietf97/6man/\n
 \n
 Agenda https://datatracker.ietf.org/meeting/97/materials/agenda-97-6man-04\n
 \n
 Session materials: https://datatracker.ietf.org/meeting/97/session/6man\n
 \n
 See in schedule: https://datatracker.ietf.org/meeting/97/agenda#row-97-2016-11-15-tue-0930-int-6man\n
END:VEVENT
BEGIN:VEVENT
UID:ietf-97-8005-ntp
SUMMARY:ntp - Network Time Protocol (Joint session with TICTOC)
LOCATION:Studio 3
STATUS:CONFIRMED
CLASS:PUBLIC
DTSTART;TZID=Asia/Seoul:20161115T133000
DTEND;TZID=Asia/Seoul:20161115T153000
DTSTAMP:20161222T095703Z
URL:https://datatracker.ietf.org/meeting/97/materials/agenda-97-ntp-01
DESCRIPTION:Afternoon Session I\n
 Note: Joint session with TICTOC\n
 \n
 Meetecho: http://www.meetecho.com/ietf97/ntp/\n
 \n
 Agenda https://datatracker.ietf.org/meeting/97/materials/agenda-97-ntp-01\n
 \n
 Session materials: https://datatracker.ietf.org/meeting/97/session/ntp\n
 \n
 See in schedule: https://datatracker.ietf.org/meeting/97/agenda#row-97-2016-11-15-tue-1330-int-ntp\n
END:VEVENT
BEGIN:VEVENT
UID:ietf-97-8005-tictoc
SUMMARY:tictoc - Timing over IP Connection and Transfer of Clock (Joint session with NTP)
LOCATION:Studio 3
STATUS:CONFIRMED
CLASS:PUBLIC
DTSTART;TZID=Asia/Seoul:20161115T133000
DTEND;TZID=Asia/Seoul:20161115T153000
DTSTAMP:20161222T095703Z
URL:https://datatracker.ietf.org/meeting/97/materials/agenda-97-tictoc-01
DESCRIPTION:Afternoon Session I\n
 Note: Joint session with NTP\n
 \n
 Meetecho: http://www.meetecho.com/ietf97/tictoc/\n
 \n
 Agenda https://datatracker.ietf.org/meeting/97/materials/agenda-97-tictoc-01\n
 \n
 Session materials: https://datatracker.ietf.org/meeting/97/session/tictoc\n
 \n
 See in schedule: https://datatracker.ietf.org/meeting/97/agenda#row-97-2016-11-15-tue-1330-int-tictoc\n
END:VEVENT
BEGIN:VEVENT
UID:ietf-97-8008-6lo
SUMMARY:6lo - IPv6 over Networks of Resource-constrained Nodes
LOCATION:Grand Ballroom 2
STATUS:CONFIRMED
CLASS:PUBLIC
DTSTART;TZID=Asia/Seoul:20161115T155000
DTEND;TZID=Asia/Seoul:20161115T182000
DTSTAMP:20161222T095703Z
URL:https://datatracker.ietf.org/meeting/97/materials/agenda-97-6lo-06
DESCRIPTION:Afternoon Session II\n
 \n
 Meetecho: http://www.meetecho.com/ietf97/6lo/\n
 \n
 Agenda https://datatracker.ietf.org/meeting/97/materials/agenda-97-6lo-06\n
 \n
 Session materials: https://datatracker.ietf.org/meeting/97/session/6lo\n
 \n
 See in schedule: https://datatracker.ietf.org/meeting/97/agenda#row-97-2016-11-15-tue-1550-int-6lo\n
END:VEVENT
BEGIN:VEVENT
UID:ietf-97-8015-dnsbundled
SUMMARY:dnsbundled - Bundled Domains
LOCATION:Grand Ballroom 1
STATUS:CONFIRMED
CLASS:PUBLIC
DTSTART;TZID=Asia/Seoul:20161116T093000
DTEND;TZID=Asia/Seoul:20161116T110000
DTSTAMP:20161222T095703Z
URL:https://datatracker.ietf.org/meeting/97/materials/agenda-97-dnsbundled-02
DESCRIPTION:Morning Session I\n
 \n
 Meetecho: http://www.meetecho.com/ietf97/dnsbundled/\n
 \n
 Agenda https://datatracker.ietf.org/meeting/97/materials/agenda-97-dnsbundled-02\n
 \n
 Session materials: https://datatracker.ietf.org/meeting/97/session/dnsbundled\n
 \n
 See in schedule: https://datatracker.ietf.org/meeting/97/agenda#row-97-2016-11-16-wed-0930-int-dnsbundled\n
END:VEVENT
BEGIN:VEVENT
UID:ietf-97-8023-homenet
SUMMARY:homenet - Home Networking
LOCATION:Grand Ballroom 1
STATUS:CONFIRMED
CLASS:PUBLIC
DTSTART;TZID=Asia/Seoul:20161116T133000
DTEND;TZID=Asia/Seoul:20161116T150000
DTSTAMP:20161222T095703Z
URL:https://datatracker.ietf.org/meeting/97/materials/agenda-97-homenet-01
DESCRIPTION:Afternoon Session I\n
 \n
 Meetecho: http://www.meetecho.com/ietf97/homenet/\n
 \n
 Agenda https://datatracker.ietf.org/meeting/97/materials/agenda-97-homenet-01\n
 \n
 Session materials: https://datatracker.ietf.org/meeting/97/session/homenet\n
 \n
 See in schedule: https://datatracker.ietf.org/meeting/97/agenda#row-97-2016-11-16-wed-1330-int-homenet\n
END:VEVENT
BEGIN:VEVENT
UID:ietf-97-8025-ipwave
SUMMARY:ipwave - IP Wireless Access in Vehicular Environments
LOCATION:Grand Ballroom 3
STATUS:CONFIRMED
CLASS:PUBLIC
DTSTART;TZID=Asia/Seoul:20161116T133000
DTEND;TZID=Asia/Seoul:20161116T150000
DTSTAMP:20161222T095703Z
URL:https://datatracker.ietf.org/meeting/97/materials/agenda-97-ipwave-06
DESCRIPTION:Afternoon Session I\n
 \n
 Meetecho: http://www.meetecho.com/ietf97/ipwave/\n
 \n
 Agenda https://datatracker.ietf.org/meeting/97/materials/agenda-97-ipwave-06\n
 \n
 Session materials: https://datatracker.ietf.org/meeting/97/session/ipwave\n
 \n
 See in schedule: https://datatracker.ietf.org/meeting/97/agenda#row-97-2016-11-16-wed-1330-int-ipwave\n
END:VEVENT
BEGIN:VEVENT
UID:ietf-97-8035-intarea
SUMMARY:intarea - Internet Area Working Group
LOCATION:Park Ballroom 2
STATUS:CONFIRMED
CLASS:PUBLIC
DTSTART;TZID=Asia/Seoul:20161116T152000
DTEND;TZID=Asia/Seoul:20161116T162000
DTSTAMP:20161222T095703Z
URL:https://datatracker.ietf.org/meeting/97/materials/agenda-97-intarea-03
DESCRIPTION:Afternoon Session II\n
 \n
 Meetecho: http://www.meetecho.com/ietf97/intarea/\n
 \n
 Agenda https://datatracker.ietf.org/meeting/97/materials/agenda-97-intarea-03\n
 \n
 Session materials: https://datatracker.ietf.org/meeting/97/session/intarea\n
 \n
 See in schedule: https://datatracker.ietf.org/meeting/97/agenda#row-97-2016-11-16-wed-1520-int-intarea\n
END:VEVENT
BEGIN:VEVENT
UID:ietf-97-8042-6tisch
SUMMARY:6tisch - IPv6 over the TSCH mode of IEEE 802.15.4e
LOCATION:Park Ballroom 1
STATUS:CONFIRMED
CLASS:PUBLIC
DTSTART;TZID=Asia/Seoul:20161117T093000
DTEND;TZID=Asia/Seoul:20161117T110000
DTSTAMP:20161222T095703Z
URL:https://datatracker.ietf.org/meeting/97/materials/agenda-97-6tisch-04
DESCRIPTION:Morning Session I\n
 \n
 Meetecho: http://www.meetecho.com/ietf97/6tisch/\n
 \n
 Agenda https://datatracker.ietf.org/meeting/97/materials/agenda-97-6tisch-04\n
 \n
 Session materials: https://datatracker.ietf.org/meeting/97/session/6tisch\n
 \n
 See in schedule: https://datatracker.ietf.org/meeting/97/agenda#row-97-2016-11-17-thu-0930-int-6tisch\n
END:VEVENT
BEGIN:VEVENT
UID:ietf-97-8046-dnssd
SUMMARY:dnssd - Extensions for Scalable DNS Service Discovery 
LOCATION:Studio 4
STATUS:CONFIRMED
CLASS:PUBLIC
DTSTART;TZID=Asia/Seoul:20161117T093000
DTEND;TZID=Asia/Seoul:20161117T110000
DTSTAMP:20161222T095703Z
URL:https://datatracker.ietf.org/meeting/97/materials/agenda-97-dnssd-03
DESCRIPTION:Morning Session I\n
 \n
 Meetecho: http://www.meetecho.com/ietf97/dnssd/\n
 \n
 Agenda https://datatracker.ietf.org/meeting/97/materials/agenda-97-dnssd-03\n
 \n
 Session materials: https://datatracker.ietf.org/meeting/97/session/dnssd\n
 \n
 See in schedule: https://datatracker.ietf.org/meeting/97/agenda#row-97-2016-11-17-thu-0930-int-dnssd\n
END:VEVENT
BEGIN:VEVENT
UID:ietf-97-8049-lwig
SUMMARY:lwig - Light-Weight Implementation Guidance
LOCATION:Grand Ballroom 3
STATUS:CONFIRMED
CLASS:PUBLIC
DTSTART;TZID=Asia/Seoul:20161117T111000
DTEND;TZID=Asia/Seoul:20161117T121000
DTSTAMP:20161222T095703Z
URL:https://datatracker.ietf.org/meeting/97/materials/agenda-97-lwig-00
DESCRIPTION:Morning Session II\n
 \n
 Meetecho: http://www.meetecho.com/ietf97/lwig/\n
 \n
 Agenda https://datatracker.ietf.org/meeting/97/materials/agenda-97-lwig-00\n
 \n
 Session materials: https://datatracker.ietf.org/meeting/97/session/lwig\n
 \n
 See in schedule: https://datatracker.ietf.org/meeting/97/agenda#row-97-2016-11-17-thu-1110-int-lwig\n
END:VEVENT
BEGIN:VEVENT
UID:ietf-97-8052-sunset4
SUMMARY:sunset4 - Sunsetting IPv4
LOCATION:Studio 2
STATUS:CONFIRMED
CLASS:PUBLIC
DTSTART;TZID=Asia/Seoul:20161117T111000
DTEND;TZID=Asia/Seoul:20161117T121000
DTSTAMP:20161222T095703Z
URL:https://datatracker.ietf.org/meeting/97/materials/agenda-97-sunset4-01
DESCRIPTION:Morning Session II\n
 \n
 Meetecho: http://www.meetecho.com/ietf97/sunset4/\n
 \n
 Agenda https://datatracker.ietf.org/meeting/97/materials/agenda-97-sunset4-01\n
 \n
 Session materials: https://datatracker.ietf.org/meeting/97/session/sunset4\n
 \n
 See in schedule: https://datatracker.ietf.org/meeting/97/agenda#row-97-2016-11-17-thu-1110-int-sunset4\n
END:VEVENT
BEGIN:VEVENT
UID:ietf-97-8066-banana
SUMMARY:banana - BANdwidth Aggregation for interNet Access
LOCATION:Park Ballroom 1
STATUS:CONFIRMED
CLASS:PUBLIC
DTSTART;TZID=Asia/Seoul:20161117T133000
DTEND;TZID=Asia/Seoul:20161117T150000
DTSTAMP:20161222T095703Z
URL:https://datatracker.ietf.org/meeting/97/materials/agenda-97-banana-01
DESCRIPTION:Afternoon Session I\n
 \n
 Meetecho: http://www.meetecho.com/ietf97/banana/\n
 \n
 Agenda https://datatracker.ietf.org/meeting/97/materials/agenda-97-banana-01\n
 \n
 Session materials: https://datatracker.ietf.org/meeting/97/session/banana\n
 \n
 See in schedule: https://datatracker.ietf.org/meeting/97/agenda#row-97-2016-11-17-thu-1330-int-banana\n
END:VEVENT
BEGIN:VEVENT
UID:ietf-97-8091-dhc
SUMMARY:dhc - Dynamic Host Configuration
LOCATION:Park Ballroom 2
STATUS:CONFIRMED
CLASS:PUBLIC
DTSTART;TZID=Asia/Seoul:20161118T115000
DTEND;TZID=Asia/Seoul:20161118T132000
DTSTAMP:20161222T095703Z
URL:https://datatracker.ietf.org/meeting/97/materials/agenda-97-dhc-01
DESCRIPTION:Afternoon Session I\n
 \n
 Meetecho: http://www.meetecho.com/ietf97/dhc/\n
 \n
 Agenda https://datatracker.ietf.org/meeting/97/materials/agenda-97-dhc-01\n
 \n
 Session materials: https://datatracker.ietf.org/meeting/97/session/dhc\n
 \n
 See in schedule: https://datatracker.ietf.org/meeting/97/agenda#row-97-2016-11-18-fri-1150-int-dhc\n
END:VEVENT
BEGIN:VEVENT
UID:ietf-97-8087-dprive
SUMMARY:dprive - DNS PRIVate Exchange
LOCATION:Grand Ballroom 1
STATUS:CONFIRMED
CLASS:PUBLIC
DTSTART;TZID=Asia/Seoul:20161118T115000
DTEND;TZID=Asia/Seoul:20161118T132000
DTSTAMP:20161222T095703Z
URL:https://datatracker.ietf.org/meeting/97/materials/agenda-97-dprive-00
DESCRIPTION:Afternoon Session I\n
 \n
 Meetecho: http://www.meetecho.com/ietf97/dprive/\n
 \n
 Agenda https://datatracker.ietf.org/meeting/97/materials/agenda-97-dprive-00\n
 \n
 Session materials: https://datatracker.ietf.org/meeting/97/session/dprive\n
 \n
 See in schedule: https://datatracker.ietf.org/meeting/97/agenda#row-97-2016-11-18-fri-1150-int-dprive\n
END:VEVENT
END:VCALENDAR
