BEGIN:VCALENDAR
VERSION:2.0
METHOD:PUBLISH
PRODID:-//IETF//datatracker.ietf.org ical agenda//EN
BEGIN:VTIMEZONE
TZID:Asia/Seoul
X-LIC-LOCATION:Asia/Seoul
BEGIN:STANDARD
TZOFFSETFROM:+082752
TZOFFSETTO:+0830
TZNAME:KST
DTSTART:19080401T000000
RDATE:19080401T000000
END:STANDARD
BEGIN:STANDARD
TZOFFSETFROM:+0830
TZOFFSETTO:+0900
TZNAME:JCST
DTSTART:19120101T000000
RDATE:19120101T000000
END:STANDARD
BEGIN:STANDARD
TZOFFSETFROM:+0900
TZOFFSETTO:+0900
TZNAME:JST
DTSTART:19371001T000000
RDATE:19371001T000000
END:STANDARD
BEGIN:STANDARD
TZOFFSETFROM:+0900
TZOFFSETTO:+0900
TZNAME:KST
DTSTART:19450908T000000
RDATE:19450908T000000
END:STANDARD
BEGIN:STANDARD
TZOFFSETFROM:+0900
TZOFFSETTO:+0830
TZNAME:KST
DTSTART:19540321T000000
RDATE:19540321T000000
END:STANDARD
BEGIN:DAYLIGHT
TZOFFSETFROM:+0830
TZOFFSETTO:+0930
TZNAME:KDT
DTSTART:19550505T000000
RDATE:19550505T000000
RDATE:19560520T000000
RDATE:19570505T000000
RDATE:19580504T000000
RDATE:19590503T000000
RDATE:19600501T000000
END:DAYLIGHT
BEGIN:STANDARD
TZOFFSETFROM:+0930
TZOFFSETTO:+0830
TZNAME:KST
DTSTART:19550909T000000
RDATE:19550909T000000
RDATE:19560930T000000
RDATE:19570922T000000
RDATE:19580921T000000
RDATE:19590920T000000
RDATE:19600918T000000
END:STANDARD
BEGIN:STANDARD
TZOFFSETFROM:+0830
TZOFFSETTO:+0900
TZNAME:KST
DTSTART:19610810T000000
RDATE:19610810T000000
END:STANDARD
BEGIN:DAYLIGHT
TZOFFSETFROM:+0900
TZOFFSETTO:+1000
TZNAME:KDT
DTSTART:19870510T020000
RDATE:19870510T020000
RDATE:19880508T020000
END:DAYLIGHT
BEGIN:STANDARD
TZOFFSETFROM:+1000
TZOFFSETTO:+0900
TZNAME:KST
DTSTART:19871011T030000
RDATE:19871011T030000
RDATE:19881009T030000
END:STANDARD
END:VTIMEZONE
BEGIN:VEVENT
UID:ietf-97-7954-hrpc
SUMMARY:hrpc - Human Rights Protocol Considerations
LOCATION:Park Ballroom 1
STATUS:CONFIRMED
CLASS:PUBLIC
DTSTART;TZID=Asia/Seoul:20161114T093000
DTEND;TZID=Asia/Seoul:20161114T120000
DTSTAMP:20161222T095703Z
URL:https://datatracker.ietf.org/meeting/97/materials/agenda-97-hrpc-03
DESCRIPTION:Morning Session I\n
 \n
 Meetecho: http://www.meetecho.com/ietf97/hrpc/\n
 \n
 Agenda https://datatracker.ietf.org/meeting/97/materials/agenda-97-hrpc-03\n
 \n
 Session materials: https://datatracker.ietf.org/meeting/97/session/hrpc\n
 \n
 See in schedule: https://datatracker.ietf.org/meeting/97/agenda#row-97-2016-11-14-mon-0930-irtf-hrpc\n
END:VEVENT
BEGIN:VEVENT
UID:ietf-97-7970-cfrg
SUMMARY:cfrg - Crypto Forum
LOCATION:Park Ballroom 1
STATUS:CONFIRMED
CLASS:PUBLIC
DTSTART;TZID=Asia/Seoul:20161114T133000
DTEND;TZID=Asia/Seoul:20161114T153000
DTSTAMP:20161222T095703Z
URL:https://datatracker.ietf.org/meeting/97/materials/agenda-97-cfrg-01
DESCRIPTION:Afternoon Session I\n
 \n
 Meetecho: http://www.meetecho.com/ietf97/cfrg/\n
 \n
 Agenda https://datatracker.ietf.org/meeting/97/materials/agenda-97-cfrg-01\n
 \n
 Session materials: https://datatracker.ietf.org/meeting/97/session/cfrg\n
 \n
 See in schedule: https://datatracker.ietf.org/meeting/97/agenda#row-97-2016-11-14-mon-1330-irtf-cfrg\n
END:VEVENT
BEGIN:VEVENT
UID:ietf-97-7967-sdnrg
SUMMARY:sdnrg - Software Defined Networking
LOCATION:Grand Ballroom 1
STATUS:CONFIRMED
CLASS:PUBLIC
DTSTART;TZID=Asia/Seoul:20161114T133000
DTEND;TZID=Asia/Seoul:20161114T153000
DTSTAMP:20161222T095703Z
URL:https://datatracker.ietf.org/meeting/97/materials/agenda-97-sdnrg-07
DESCRIPTION:Afternoon Session I\n
 \n
 Meetecho: http://www.meetecho.com/ietf97/sdnrg/\n
 \n
 Agenda https://datatracker.ietf.org/meeting/97/materials/agenda-97-sdnrg-07\n
 \n
 Session materials: https://datatracker.ietf.org/meeting/97/session/sdnrg\n
 \n
 See in schedule: https://datatracker.ietf.org/meeting/97/agenda#row-97-2016-11-14-mon-1330-irtf-sdnrg\n
END:VEVENT
BEGIN:VEVENT
UID:ietf-97-7975-irtfopen
SUMMARY:irtfopen - IRTF Open Meeting
LOCATION:Grand Ballroom 1
STATUS:CONFIRMED
CLASS:PUBLIC
DTSTART;TZID=Asia/Seoul:20161114T155000
DTEND;TZID=Asia/Seoul:20161114T175000
DTSTAMP:20161222T095703Z
URL:https://datatracker.ietf.org/meeting/97/materials/agenda-97-irtfopen-00
DESCRIPTION:Afternoon Session II\n
 \n
 Meetecho: http://www.meetecho.com/ietf97/irtfopen/\n
 \n
 Agenda https://datatracker.ietf.org/meeting/97/materials/agenda-97-irtfopen-00\n
 \n
 Session materials: https://datatracker.ietf.org/meeting/97/session/irtfopen\n
 \n
 See in schedule: https://datatracker.ietf.org/meeting/97/agenda#row-97-2016-11-14-mon-1550-irtf-irtfopen\n
END:VEVENT
BEGIN:VEVENT
UID:ietf-97-7988-nmrg
SUMMARY:nmrg - Network Management
LOCATION:Studio 2
STATUS:CONFIRMED
CLASS:PUBLIC
DTSTART;TZID=Asia/Seoul:20161115T093000
DTEND;TZID=Asia/Seoul:20161115T120000
DTSTAMP:20161222T095703Z
URL:https://datatracker.ietf.org/meeting/97/materials/agenda-97-nmrg-02
DESCRIPTION:Morning Session I\n
 \n
 Meetecho: http://www.meetecho.com/ietf97/nmrg/\n
 \n
 Agenda https://datatracker.ietf.org/meeting/97/materials/agenda-97-nmrg-02\n
 \n
 Session materials: https://datatracker.ietf.org/meeting/97/session/nmrg\n
 \n
 See in schedule: https://datatracker.ietf.org/meeting/97/agenda#row-97-2016-11-15-tue-0930-irtf-nmrg\n
END:VEVENT
BEGIN:VEVENT
UID:ietf-97-8014-iccrg
SUMMARY:iccrg - Internet Congestion Control
LOCATION:Studio 4
STATUS:CONFIRMED
CLASS:PUBLIC
DTSTART;TZID=Asia/Seoul:20161115T155000
DTEND;TZID=Asia/Seoul:20161115T182000
DTSTAMP:20161222T095703Z
URL:https://datatracker.ietf.org/meeting/97/materials/agenda-97-iccrg-03
DESCRIPTION:Afternoon Session II\n
 \n
 Meetecho: http://www.meetecho.com/ietf97/iccrg/\n
 \n
 Agenda https://datatracker.ietf.org/meeting/97/materials/agenda-97-iccrg-03\n
 \n
 Session materials: https://datatracker.ietf.org/meeting/97/session/iccrg\n
 \n
 See in schedule: https://datatracker.ietf.org/meeting/97/agenda#row-97-2016-11-15-tue-1550-irtf-iccrg\n
END:VEVENT
BEGIN:VEVENT
UID:ietf-97-8007-nfvrg
SUMMARY:nfvrg - Network Function Virtualization
LOCATION:Grand Ballroom 1
STATUS:CONFIRMED
CLASS:PUBLIC
DTSTART;TZID=Asia/Seoul:20161115T155000
DTEND;TZID=Asia/Seoul:20161115T182000
DTSTAMP:20161222T095703Z
URL:https://datatracker.ietf.org/meeting/97/materials/agenda-97-nfvrg-01
DESCRIPTION:Afternoon Session II\n
 \n
 Meetecho: http://www.meetecho.com/ietf97/nfvrg/\n
 \n
 Agenda https://datatracker.ietf.org/meeting/97/materials/agenda-97-nfvrg-01\n
 \n
 Session materials: https://datatracker.ietf.org/meeting/97/session/nfvrg\n
 \n
 See in schedule: https://datatracker.ietf.org/meeting/97/agenda#row-97-2016-11-15-tue-1550-irtf-nfvrg\n
END:VEVENT
BEGIN:VEVENT
UID:ietf-97-8029-nwcrg
SUMMARY:nwcrg - Network Coding
LOCATION:Studio 3
STATUS:CONFIRMED
CLASS:PUBLIC
DTSTART;TZID=Asia/Seoul:20161116T133000
DTEND;TZID=Asia/Seoul:20161116T150000
DTSTAMP:20161222T095703Z
URL:https://datatracker.ietf.org/meeting/97/materials/agenda-97-nwcrg-02
DESCRIPTION:Afternoon Session I\n
 \n
 Meetecho: http://www.meetecho.com/ietf97/nwcrg/\n
 \n
 Agenda https://datatracker.ietf.org/meeting/97/materials/agenda-97-nwcrg-02\n
 \n
 Session materials: https://datatracker.ietf.org/meeting/97/session/nwcrg\n
 \n
 See in schedule: https://datatracker.ietf.org/meeting/97/agenda#row-97-2016-11-16-wed-1330-irtf-nwcrg\n
END:VEVENT
BEGIN:VEVENT
UID:ietf-97-8034-t2trg
SUMMARY:t2trg - Thing-to-Thing
LOCATION:Park Ballroom 1
STATUS:CONFIRMED
CLASS:PUBLIC
DTSTART;TZID=Asia/Seoul:20161116T152000
DTEND;TZID=Asia/Seoul:20161116T162000
DTSTAMP:20161222T095703Z
URL:https://datatracker.ietf.org/meeting/97/materials/agenda-97-t2trg-05
DESCRIPTION:Afternoon Session II\n
 \n
 Meetecho: http://www.meetecho.com/ietf97/t2trg/\n
 \n
 Agenda https://datatracker.ietf.org/meeting/97/materials/agenda-97-t2trg-05\n
 \n
 Session materials: https://datatracker.ietf.org/meeting/97/session/t2trg\n
 \n
 See in schedule: https://datatracker.ietf.org/meeting/97/agenda#row-97-2016-11-16-wed-1520-irtf-t2trg\n
END:VEVENT
BEGIN:VEVENT
UID:ietf-97-8040-maprg
SUMMARY:maprg - Measurement and Analysis for Protocols
LOCATION:Grand Ballroom 2
STATUS:CONFIRMED
CLASS:PUBLIC
DTSTART;TZID=Asia/Seoul:20161117T093000
DTEND;TZID=Asia/Seoul:20161117T110000
DTSTAMP:20161222T095703Z
URL:https://datatracker.ietf.org/meeting/97/materials/agenda-97-maprg-09
DESCRIPTION:Morning Session I\n
 \n
 Meetecho: http://www.meetecho.com/ietf97/maprg/\n
 \n
 Agenda https://datatracker.ietf.org/meeting/97/materials/agenda-97-maprg-09\n
 \n
 Session materials: https://datatracker.ietf.org/meeting/97/session/maprg\n
 \n
 See in schedule: https://datatracker.ietf.org/meeting/97/agenda#row-97-2016-11-17-thu-0930-irtf-maprg\n
END:VEVENT
BEGIN:VEVENT
UID:ietf-97-8070-nmlrg
SUMMARY:nmlrg - Proposed Network Machine Learning Research Group
LOCATION:Studio 4
STATUS:CONFIRMED
CLASS:PUBLIC
DTSTART;TZID=Asia/Seoul:20161117T133000
DTEND;TZID=Asia/Seoul:20161117T150000
DTSTAMP:20161222T095703Z
URL:https://datatracker.ietf.org/meeting/97/materials/agenda-97-nmlrg-06
DESCRIPTION:Afternoon Session I\n
 \n
 Meetecho: http://www.meetecho.com/ietf97/nmlrg/\n
 \n
 Agenda https://datatracker.ietf.org/meeting/97/materials/agenda-97-nmlrg-06\n
 \n
 Session materials: https://datatracker.ietf.org/meeting/97/session/nmlrg\n
 \n
 See in schedule: https://datatracker.ietf.org/meeting/97/agenda#row-97-2016-11-17-thu-1330-irtf-nmlrg\n
END:VEVENT
BEGIN:VEVENT
UID:ietf-97-8081-icnrg
SUMMARY:icnrg - Information-Centric Networking
LOCATION:Grand Ballroom 3
STATUS:CONFIRMED
CLASS:PUBLIC
DTSTART;TZID=Asia/Seoul:20161118T093000
DTEND;TZID=Asia/Seoul:20161118T113000
DTSTAMP:20161222T095703Z
URL:https://datatracker.ietf.org/meeting/97/materials/agenda-97-icnrg-03
DESCRIPTION:Morning Session I\n
 \n
 Meetecho: http://www.meetecho.com/ietf97/icnrg/\n
 \n
 Agenda https://datatracker.ietf.org/meeting/97/materials/agenda-97-icnrg-03\n
 \n
 Session materials: https://datatracker.ietf.org/meeting/97/session/icnrg\n
 \n
 See in schedule: https://datatracker.ietf.org/meeting/97/agenda#row-97-2016-11-18-fri-0930-irtf-icnrg\n
END:VEVENT
END:VCALENDAR
