BEGIN:VCALENDAR
VERSION:2.0
METHOD:PUBLISH
PRODID:-//IETF//datatracker.ietf.org ical agenda//EN
BEGIN:VTIMEZONE
TZID:Asia/Seoul
X-LIC-LOCATION:Asia/Seoul
BEGIN:STANDARD
TZOFFSETFROM:+082752
TZOFFSETTO:+0830
TZNAME:KST
DTSTART:19080401T000000
RDATE:19080401T000000
END:STANDARD
BEGIN:STANDARD
TZOFFSETFROM:+0830
TZOFFSETTO:+0900
TZNAME:JCST
DTSTART:19120101T000000
RDATE:19120101T000000
END:STANDARD
BEGIN:STANDARD
TZOFFSETFROM:+0900
TZOFFSETTO:+0900
TZNAME:JST
DTSTART:19371001T000000
RDATE:19371001T000000
END:STANDARD
BEGIN:STANDARD
TZOFFSETFROM:+0900
TZOFFSETTO:+0900
TZNAME:KST
DTSTART:19450908T000000
RDATE:19450908T000000
END:STANDARD
BEGIN:STANDARD
TZOFFSETFROM:+0900
TZOFFSETTO:+0830
TZNAME:KST
DTSTART:19540321T000000
RDATE:19540321T000000
END:STANDARD
BEGIN:DAYLIGHT
TZOFFSETFROM:+0830
TZOFFSETTO:+0930
TZNAME:KDT
DTSTART:19550505T000000
RDATE:19550505T000000
RDATE:19560520T000000
RDATE:19570505T000000
RDATE:19580504T000000
RDATE:19590503T000000
RDATE:19600501T000000
END:DAYLIGHT
BEGIN:STANDARD
TZOFFSETFROM:+0930
TZOFFSETTO:+0830
TZNAME:KST
DTSTART:19550909T000000
RDATE:19550909T000000
RDATE:19560930T000000
RDATE:19570922T000000
RDATE:19580921T000000
RDATE:19590920T000000
RDATE:19600918T000000
END:STANDARD
BEGIN:STANDARD
TZOFFSETFROM:+0830
TZOFFSETTO:+0900
TZNAME:KST
DTSTART:19610810T000000
RDATE:19610810T000000
END:STANDARD
BEGIN:DAYLIGHT
TZOFFSETFROM:+0900
TZOFFSETTO:+1000
TZNAME:KDT
DTSTART:19870510T020000
RDATE:19870510T020000
RDATE:19880508T020000
END:DAYLIGHT
BEGIN:STANDARD
TZOFFSETFROM:+1000
TZOFFSETTO:+0900
TZNAME:KST
DTSTART:19871011T030000
RDATE:19871011T030000
RDATE:19881009T030000
END:STANDARD
END:VTIMEZONE
BEGIN:VEVENT
UID:ietf-97-7956-mboned
SUMMARY:mboned - MBONE Deployment (Joint session with PIM)
LOCATION:Studio 2
STATUS:CONFIRMED
CLASS:PUBLIC
DTSTART;TZID=Asia/Seoul:20161114T093000
DTEND;TZID=Asia/Seoul:20161114T120000
DTSTAMP:20161222T095703Z
URL:https://datatracker.ietf.org/meeting/97/materials/agenda-97-mboned-00
DESCRIPTION:Morning Session I\n
 Note: Joint session with PIM\n
 \n
 Meetecho: http://www.meetecho.com/ietf97/mboned/\n
 \n
 Agenda https://datatracker.ietf.org/meeting/97/materials/agenda-97-mboned-00\n
 \n
 Session materials: https://datatracker.ietf.org/meeting/97/session/mboned\n
 \n
 See in schedule: https://datatracker.ietf.org/meeting/97/agenda#row-97-2016-11-14-mon-0930-ops-mboned\n
END:VEVENT
BEGIN:VEVENT
UID:ietf-97-7974-lime
SUMMARY:lime - Layer Independent OAM Management in the Multi-Layer Environment
LOCATION:Studio 4
STATUS:CONFIRMED
CLASS:PUBLIC
DTSTART;TZID=Asia/Seoul:20161114T133000
DTEND;TZID=Asia/Seoul:20161114T153000
DTSTAMP:20161222T095703Z
URL:https://datatracker.ietf.org/meeting/97/materials/agenda-97-lime-03
DESCRIPTION:Afternoon Session I\n
 \n
 Meetecho: http://www.meetecho.com/ietf97/lime/\n
 \n
 Agenda https://datatracker.ietf.org/meeting/97/materials/agenda-97-lime-03\n
 \n
 Session materials: https://datatracker.ietf.org/meeting/97/session/lime\n
 \n
 See in schedule: https://datatracker.ietf.org/meeting/97/agenda#row-97-2016-11-14-mon-1330-ops-lime\n
END:VEVENT
BEGIN:VEVENT
UID:ietf-97-7968-v6ops
SUMMARY:v6ops - IPv6 Operations
LOCATION:Grand Ballroom 2
STATUS:CONFIRMED
CLASS:PUBLIC
DTSTART;TZID=Asia/Seoul:20161114T133000
DTEND;TZID=Asia/Seoul:20161114T153000
DTSTAMP:20161222T095703Z
URL:https://datatracker.ietf.org/meeting/97/materials/agenda-97-v6ops-00
DESCRIPTION:Afternoon Session I\n
 \n
 Meetecho: http://www.meetecho.com/ietf97/v6ops/\n
 \n
 Agenda https://datatracker.ietf.org/meeting/97/materials/agenda-97-v6ops-00\n
 \n
 Session materials: https://datatracker.ietf.org/meeting/97/session/v6ops\n
 \n
 See in schedule: https://datatracker.ietf.org/meeting/97/agenda#row-97-2016-11-14-mon-1330-ops-v6ops\n
END:VEVENT
BEGIN:VEVENT
UID:ietf-97-7989-bmwg
SUMMARY:bmwg - Benchmarking Methodology
LOCATION:Studio 3
STATUS:CONFIRMED
CLASS:PUBLIC
DTSTART;TZID=Asia/Seoul:20161115T093000
DTEND;TZID=Asia/Seoul:20161115T120000
DTSTAMP:20161222T095703Z
URL:https://datatracker.ietf.org/meeting/97/materials/agenda-97-bmwg-03
DESCRIPTION:Morning Session I\n
 \n
 Meetecho: http://www.meetecho.com/ietf97/bmwg/\n
 \n
 Agenda https://datatracker.ietf.org/meeting/97/materials/agenda-97-bmwg-03\n
 \n
 Session materials: https://datatracker.ietf.org/meeting/97/session/bmwg\n
 \n
 See in schedule: https://datatracker.ietf.org/meeting/97/agenda#row-97-2016-11-15-tue-0930-ops-bmwg\n
END:VEVENT
BEGIN:VEVENT
UID:ietf-97-7999-dnsop
SUMMARY:dnsop - Domain Name System Operations
LOCATION:Grand Ballroom 1
STATUS:CONFIRMED
CLASS:PUBLIC
DTSTART;TZID=Asia/Seoul:20161115T133000
DTEND;TZID=Asia/Seoul:20161115T153000
DTSTAMP:20161222T095703Z
URL:https://datatracker.ietf.org/meeting/97/materials/agenda-97-dnsop-05
DESCRIPTION:Afternoon Session I\n
 \n
 Meetecho: http://www.meetecho.com/ietf97/dnsop/\n
 \n
 Agenda https://datatracker.ietf.org/meeting/97/materials/agenda-97-dnsop-05\n
 \n
 Session materials: https://datatracker.ietf.org/meeting/97/session/dnsop\n
 \n
 See in schedule: https://datatracker.ietf.org/meeting/97/agenda#row-97-2016-11-15-tue-1330-ops-dnsop\n
END:VEVENT
BEGIN:VEVENT
UID:ietf-97-8001-netmod
SUMMARY:netmod - NETCONF Data Modeling Language
LOCATION:Grand Ballroom 3
STATUS:CONFIRMED
CLASS:PUBLIC
DTSTART;TZID=Asia/Seoul:20161115T133000
DTEND;TZID=Asia/Seoul:20161115T153000
DTSTAMP:20161222T095703Z
URL:https://datatracker.ietf.org/meeting/97/materials/agenda-97-netmod-08
DESCRIPTION:Afternoon Session I\n
 \n
 Meetecho: http://www.meetecho.com/ietf97/netmod/\n
 \n
 Agenda https://datatracker.ietf.org/meeting/97/materials/agenda-97-netmod-08\n
 \n
 Session materials: https://datatracker.ietf.org/meeting/97/session/netmod\n
 \n
 See in schedule: https://datatracker.ietf.org/meeting/97/agenda#row-97-2016-11-15-tue-1330-ops-netmod\n
END:VEVENT
BEGIN:VEVENT
UID:ietf-97-8011-opsawg
SUMMARY:opsawg - Operations and Management Area Working Group (Joint session with OPSAREA)
LOCATION:Park Ballroom 2
STATUS:CONFIRMED
CLASS:PUBLIC
DTSTART;TZID=Asia/Seoul:20161115T155000
DTEND;TZID=Asia/Seoul:20161115T182000
DTSTAMP:20161222T095703Z
URL:https://datatracker.ietf.org/meeting/97/materials/agenda-97-opsawg-05
DESCRIPTION:Afternoon Session II\n
 Note: Joint session with OPSAREA\n
 \n
 Meetecho: http://www.meetecho.com/ietf97/opsawg/\n
 \n
 Agenda https://datatracker.ietf.org/meeting/97/materials/agenda-97-opsawg-05\n
 \n
 Session materials: https://datatracker.ietf.org/meeting/97/session/opsawg\n
 \n
 See in schedule: https://datatracker.ietf.org/meeting/97/agenda#row-97-2016-11-15-tue-1550-ops-opsawg\n
END:VEVENT
BEGIN:VEVENT
UID:ietf-97-8017-anima
SUMMARY:anima - Autonomic Networking Integrated Model and Approach
LOCATION:Grand Ballroom 3
STATUS:CONFIRMED
CLASS:PUBLIC
DTSTART;TZID=Asia/Seoul:20161116T093000
DTEND;TZID=Asia/Seoul:20161116T110000
DTSTAMP:20161222T095703Z
URL:https://datatracker.ietf.org/meeting/97/materials/agenda-97-anima-05
DESCRIPTION:Morning Session I\n
 \n
 Meetecho: http://www.meetecho.com/ietf97/anima/\n
 \n
 Agenda https://datatracker.ietf.org/meeting/97/materials/agenda-97-anima-05\n
 \n
 Session materials: https://datatracker.ietf.org/meeting/97/session/anima\n
 \n
 See in schedule: https://datatracker.ietf.org/meeting/97/agenda#row-97-2016-11-16-wed-0930-ops-anima\n
END:VEVENT
BEGIN:VEVENT
UID:ietf-97-8021-radext
SUMMARY:radext - RADIUS EXTensions
LOCATION:Studio 3
STATUS:CONFIRMED
CLASS:PUBLIC
DTSTART;TZID=Asia/Seoul:20161116T093000
DTEND;TZID=Asia/Seoul:20161116T110000
DTSTAMP:20161222T095703Z
URL:https://datatracker.ietf.org/meeting/97/materials/agenda-97-radext-02
DESCRIPTION:Morning Session I\n
 \n
 Meetecho: http://www.meetecho.com/ietf97/radext/\n
 \n
 Agenda https://datatracker.ietf.org/meeting/97/materials/agenda-97-radext-02\n
 \n
 Session materials: https://datatracker.ietf.org/meeting/97/session/radext\n
 \n
 See in schedule: https://datatracker.ietf.org/meeting/97/agenda#row-97-2016-11-16-wed-0930-ops-radext\n
END:VEVENT
BEGIN:VEVENT
UID:ietf-97-8056-grow
SUMMARY:grow - Global Routing Operations
LOCATION:Grand Ballroom 2
STATUS:CONFIRMED
CLASS:PUBLIC
DTSTART;TZID=Asia/Seoul:20161116T111000
DTEND;TZID=Asia/Seoul:20161116T121000
DTSTAMP:20161222T095703Z
URL:https://datatracker.ietf.org/meeting/97/materials/agenda-97-grow-02
DESCRIPTION:Morning Session II\n
 \n
 Meetecho: http://www.meetecho.com/ietf97/grow/\n
 \n
 Agenda https://datatracker.ietf.org/meeting/97/materials/agenda-97-grow-02\n
 \n
 Session materials: https://datatracker.ietf.org/meeting/97/session/grow\n
 \n
 See in schedule: https://datatracker.ietf.org/meeting/97/agenda#row-97-2016-11-16-wed-1110-ops-grow\n
END:VEVENT
BEGIN:VEVENT
UID:ietf-97-8044-l2sm
SUMMARY:l2sm - L2VPN Service Model
LOCATION:Studio 2
STATUS:CONFIRMED
CLASS:PUBLIC
DTSTART;TZID=Asia/Seoul:20161117T093000
DTEND;TZID=Asia/Seoul:20161117T110000
DTSTAMP:20161222T095703Z
URL:https://datatracker.ietf.org/meeting/97/materials/agenda-97-l2sm-01
DESCRIPTION:Morning Session I\n
 \n
 Meetecho: http://www.meetecho.com/ietf97/l2sm/\n
 \n
 Agenda https://datatracker.ietf.org/meeting/97/materials/agenda-97-l2sm-01\n
 \n
 Session materials: https://datatracker.ietf.org/meeting/97/session/l2sm\n
 \n
 See in schedule: https://datatracker.ietf.org/meeting/97/agenda#row-97-2016-11-17-thu-0930-ops-l2sm\n
END:VEVENT
BEGIN:VEVENT
UID:ietf-97-8048-netmod
SUMMARY:netmod - NETCONF Data Modeling Language
LOCATION:Grand Ballroom 2
STATUS:CONFIRMED
CLASS:PUBLIC
DTSTART;TZID=Asia/Seoul:20161117T111000
DTEND;TZID=Asia/Seoul:20161117T121000
DTSTAMP:20161222T095703Z
URL:https://datatracker.ietf.org/meeting/97/materials/agenda-97-netmod-08
DESCRIPTION:Morning Session II\n
 \n
 Meetecho: http://www.meetecho.com/ietf97/netmod/\n
 \n
 Agenda https://datatracker.ietf.org/meeting/97/materials/agenda-97-netmod-08\n
 \n
 Session materials: https://datatracker.ietf.org/meeting/97/session/netmod\n
 \n
 See in schedule: https://datatracker.ietf.org/meeting/97/agenda#row-97-2016-11-17-thu-1110-ops-netmod\n
END:VEVENT
BEGIN:VEVENT
UID:ietf-97-8069-lmap
SUMMARY:lmap - Large-Scale Measurement of Broadband Performance
LOCATION:Studio 3
STATUS:CONFIRMED
CLASS:PUBLIC
DTSTART;TZID=Asia/Seoul:20161117T133000
DTEND;TZID=Asia/Seoul:20161117T150000
DTSTAMP:20161222T095703Z
URL:https://datatracker.ietf.org/meeting/97/materials/agenda-97-lmap-00
DESCRIPTION:Afternoon Session I\n
 \n
 Meetecho: http://www.meetecho.com/ietf97/lmap/\n
 \n
 Agenda https://datatracker.ietf.org/meeting/97/materials/agenda-97-lmap-00\n
 \n
 Session materials: https://datatracker.ietf.org/meeting/97/session/lmap\n
 \n
 See in schedule: https://datatracker.ietf.org/meeting/97/agenda#row-97-2016-11-17-thu-1330-ops-lmap\n
END:VEVENT
BEGIN:VEVENT
UID:ietf-97-8075-netconf
SUMMARY:netconf - Network Configuration
LOCATION:Park Ballroom 2
STATUS:CONFIRMED
CLASS:PUBLIC
DTSTART;TZID=Asia/Seoul:20161117T152000
DTEND;TZID=Asia/Seoul:20161117T175000
DTSTAMP:20161222T095703Z
URL:https://datatracker.ietf.org/meeting/97/materials/agenda-97-netconf-05
DESCRIPTION:Afternoon Session II\n
 \n
 Meetecho: http://www.meetecho.com/ietf97/netconf/\n
 \n
 Agenda https://datatracker.ietf.org/meeting/97/materials/agenda-97-netconf-05\n
 \n
 Session materials: https://datatracker.ietf.org/meeting/97/session/netconf\n
 \n
 See in schedule: https://datatracker.ietf.org/meeting/97/agenda#row-97-2016-11-17-thu-1520-ops-netconf\n
END:VEVENT
BEGIN:VEVENT
UID:ietf-97-8083-anima
SUMMARY:anima - Autonomic Networking Integrated Model and Approach
LOCATION:Park Ballroom 2
STATUS:CONFIRMED
CLASS:PUBLIC
DTSTART;TZID=Asia/Seoul:20161118T093000
DTEND;TZID=Asia/Seoul:20161118T113000
DTSTAMP:20161222T095703Z
URL:https://datatracker.ietf.org/meeting/97/materials/agenda-97-anima-05
DESCRIPTION:Morning Session I\n
 \n
 Meetecho: http://www.meetecho.com/ietf97/anima/\n
 \n
 Agenda https://datatracker.ietf.org/meeting/97/materials/agenda-97-anima-05\n
 \n
 Session materials: https://datatracker.ietf.org/meeting/97/session/anima\n
 \n
 See in schedule: https://datatracker.ietf.org/meeting/97/agenda#row-97-2016-11-18-fri-0930-ops-anima\n
END:VEVENT
BEGIN:VEVENT
UID:ietf-97-8088-supa
SUMMARY:supa - Simplified Use of Policy Abstractions
LOCATION:Grand Ballroom 2
STATUS:CONFIRMED
CLASS:PUBLIC
DTSTART;TZID=Asia/Seoul:20161118T115000
DTEND;TZID=Asia/Seoul:20161118T132000
DTSTAMP:20161222T095703Z
URL:https://datatracker.ietf.org/meeting/97/materials/agenda-97-supa-03
DESCRIPTION:Afternoon Session I\n
 \n
 Meetecho: http://www.meetecho.com/ietf97/supa/\n
 \n
 Agenda https://datatracker.ietf.org/meeting/97/materials/agenda-97-supa-03\n
 \n
 Session materials: https://datatracker.ietf.org/meeting/97/session/supa\n
 \n
 See in schedule: https://datatracker.ietf.org/meeting/97/agenda#row-97-2016-11-18-fri-1150-ops-supa\n
END:VEVENT
END:VCALENDAR
