BEGIN:VCALENDAR
VERSION:2.0
METHOD:PUBLISH
PRODID:-//IETF//datatracker.ietf.org ical agenda//EN
BEGIN:VTIMEZONE
TZID:Asia/Seoul
X-LIC-LOCATION:Asia/Seoul
BEGIN:STANDARD
TZOFFSETFROM:+082752
TZOFFSETTO:+0830
TZNAME:KST
DTSTART:19080401T000000
RDATE:19080401T000000
END:STANDARD
BEGIN:STANDARD
TZOFFSETFROM:+0830
TZOFFSETTO:+0900
TZNAME:JCST
DTSTART:19120101T000000
RDATE:19120101T000000
END:STANDARD
BEGIN:STANDARD
TZOFFSETFROM:+0900
TZOFFSETTO:+0900
TZNAME:JST
DTSTART:19371001T000000
RDATE:19371001T000000
END:STANDARD
BEGIN:STANDARD
TZOFFSETFROM:+0900
TZOFFSETTO:+0900
TZNAME:KST
DTSTART:19450908T000000
RDATE:19450908T000000
END:STANDARD
BEGIN:STANDARD
TZOFFSETFROM:+0900
TZOFFSETTO:+0830
TZNAME:KST
DTSTART:19540321T000000
RDATE:19540321T000000
END:STANDARD
BEGIN:DAYLIGHT
TZOFFSETFROM:+0830
TZOFFSETTO:+0930
TZNAME:KDT
DTSTART:19550505T000000
RDATE:19550505T000000
RDATE:19560520T000000
RDATE:19570505T000000
RDATE:19580504T000000
RDATE:19590503T000000
RDATE:19600501T000000
END:DAYLIGHT
BEGIN:STANDARD
TZOFFSETFROM:+0930
TZOFFSETTO:+0830
TZNAME:KST
DTSTART:19550909T000000
RDATE:19550909T000000
RDATE:19560930T000000
RDATE:19570922T000000
RDATE:19580921T000000
RDATE:19590920T000000
RDATE:19600918T000000
END:STANDARD
BEGIN:STANDARD
TZOFFSETFROM:+0830
TZOFFSETTO:+0900
TZNAME:KST
DTSTART:19610810T000000
RDATE:19610810T000000
END:STANDARD
BEGIN:DAYLIGHT
TZOFFSETFROM:+0900
TZOFFSETTO:+1000
TZNAME:KDT
DTSTART:19870510T020000
RDATE:19870510T020000
RDATE:19880508T020000
END:DAYLIGHT
BEGIN:STANDARD
TZOFFSETFROM:+1000
TZOFFSETTO:+0900
TZNAME:KST
DTSTART:19871011T030000
RDATE:19871011T030000
RDATE:19881009T030000
END:STANDARD
END:VTIMEZONE
BEGIN:VEVENT
UID:ietf-97-7956-pim
SUMMARY:pim - Protocols for IP Multicast (Joint session with MBONED)
LOCATION:Studio 2
STATUS:CONFIRMED
CLASS:PUBLIC
DTSTART;TZID=Asia/Seoul:20161114T093000
DTEND;TZID=Asia/Seoul:20161114T120000
DTSTAMP:20161222T095703Z
URL:https://datatracker.ietf.org/meeting/97/materials/agenda-97-pim-01
DESCRIPTION:Morning Session I\n
 Note: Joint session with MBONED\n
 \n
 Meetecho: http://www.meetecho.com/ietf97/pim/\n
 \n
 Agenda https://datatracker.ietf.org/meeting/97/materials/agenda-97-pim-01\n
 \n
 Session materials: https://datatracker.ietf.org/meeting/97/session/pim\n
 \n
 See in schedule: https://datatracker.ietf.org/meeting/97/agenda#row-97-2016-11-14-mon-0930-rtg-pim\n
END:VEVENT
BEGIN:VEVENT
UID:ietf-97-7951-sfc
SUMMARY:sfc - Service Function Chaining
LOCATION:Grand Ballroom 1
STATUS:CONFIRMED
CLASS:PUBLIC
DTSTART;TZID=Asia/Seoul:20161114T093000
DTEND;TZID=Asia/Seoul:20161114T120000
DTSTAMP:20161222T095703Z
URL:https://datatracker.ietf.org/meeting/97/materials/agenda-97-sfc-02
DESCRIPTION:Morning Session I\n
 \n
 Meetecho: http://www.meetecho.com/ietf97/sfc/\n
 \n
 Agenda https://datatracker.ietf.org/meeting/97/materials/agenda-97-sfc-02\n
 \n
 Session materials: https://datatracker.ietf.org/meeting/97/session/sfc\n
 \n
 See in schedule: https://datatracker.ietf.org/meeting/97/agenda#row-97-2016-11-14-mon-0930-rtg-sfc\n
END:VEVENT
BEGIN:VEVENT
UID:ietf-97-7953-teas
SUMMARY:teas - Traffic Engineering Architecture and Signaling
LOCATION:Grand Ballroom 3
STATUS:CONFIRMED
CLASS:PUBLIC
DTSTART;TZID=Asia/Seoul:20161114T093000
DTEND;TZID=Asia/Seoul:20161114T120000
DTSTAMP:20161222T095703Z
URL:https://datatracker.ietf.org/meeting/97/materials/agenda-97-teas-03
DESCRIPTION:Morning Session I\n
 \n
 Meetecho: http://www.meetecho.com/ietf97/teas/\n
 \n
 Agenda https://datatracker.ietf.org/meeting/97/materials/agenda-97-teas-03\n
 \n
 Session materials: https://datatracker.ietf.org/meeting/97/session/teas\n
 \n
 See in schedule: https://datatracker.ietf.org/meeting/97/agenda#row-97-2016-11-14-mon-0930-rtg-teas\n
END:VEVENT
BEGIN:VEVENT
UID:ietf-97-7969-bess
SUMMARY:bess - BGP Enabled ServiceS
LOCATION:Grand Ballroom 3
STATUS:CONFIRMED
CLASS:PUBLIC
DTSTART;TZID=Asia/Seoul:20161114T133000
DTEND;TZID=Asia/Seoul:20161114T153000
DTSTAMP:20161222T095703Z
URL:https://datatracker.ietf.org/meeting/97/materials/agenda-97-bess-03
DESCRIPTION:Afternoon Session I\n
 \n
 Meetecho: http://www.meetecho.com/ietf97/bess/\n
 \n
 Agenda https://datatracker.ietf.org/meeting/97/materials/agenda-97-bess-03\n
 \n
 Session materials: https://datatracker.ietf.org/meeting/97/session/bess\n
 \n
 See in schedule: https://datatracker.ietf.org/meeting/97/agenda#row-97-2016-11-14-mon-1330-rtg-bess\n
END:VEVENT
BEGIN:VEVENT
UID:ietf-97-7972-i2rs
SUMMARY:i2rs - Interface to the Routing System (CANCELLED)
LOCATION:Studio 2
STATUS:CONFIRMED
CLASS:PUBLIC
DTSTART;TZID=Asia/Seoul:20161114T133000
DTEND;TZID=Asia/Seoul:20161114T153000
DTSTAMP:20161222T095703Z
URL:https://datatracker.ietf.org/meeting/97/materials/agenda-97-i2rs-04
DESCRIPTION:Afternoon Session I\n
 Note: CANCELLED\n
 \n
 Meetecho: http://www.meetecho.com/ietf97/i2rs/\n
 \n
 Agenda https://datatracker.ietf.org/meeting/97/materials/agenda-97-i2rs-04\n
 \n
 Session materials: https://datatracker.ietf.org/meeting/97/session/i2rs\n
 \n
 See in schedule: https://datatracker.ietf.org/meeting/97/agenda#row-97-2016-11-14-mon-1330-rtg-i2rs\n
END:VEVENT
BEGIN:VEVENT
UID:ietf-97-7981-bier
SUMMARY:bier - Bit Indexed Explicit Replication
LOCATION:Studio 3
STATUS:CONFIRMED
CLASS:PUBLIC
DTSTART;TZID=Asia/Seoul:20161114T155000
DTEND;TZID=Asia/Seoul:20161114T175000
DTSTAMP:20161222T095703Z
URL:https://datatracker.ietf.org/meeting/97/materials/agenda-97-bier-00
DESCRIPTION:Afternoon Session II\n
 \n
 Meetecho: http://www.meetecho.com/ietf97/bier/\n
 \n
 Agenda https://datatracker.ietf.org/meeting/97/materials/agenda-97-bier-00\n
 \n
 Session materials: https://datatracker.ietf.org/meeting/97/session/bier\n
 \n
 See in schedule: https://datatracker.ietf.org/meeting/97/agenda#row-97-2016-11-14-mon-1550-rtg-bier\n
END:VEVENT
BEGIN:VEVENT
UID:ietf-97-7979-ccamp
SUMMARY:ccamp - Common Control and Measurement Plane (Joint session with TEAS, MPLS, and PCE)
LOCATION:Park Ballroom 2
STATUS:CONFIRMED
CLASS:PUBLIC
DTSTART;TZID=Asia/Seoul:20161114T155000
DTEND;TZID=Asia/Seoul:20161114T175000
DTSTAMP:20161222T095703Z
URL:https://datatracker.ietf.org/meeting/97/materials/agenda-97-ccamp-02
DESCRIPTION:Afternoon Session II\n
 Note: Joint session with TEAS\, MPLS\, and PCE\n
 \n
 Meetecho: http://www.meetecho.com/ietf97/ccamp/\n
 \n
 Agenda https://datatracker.ietf.org/meeting/97/materials/agenda-97-ccamp-02\n
 \n
 Session materials: https://datatracker.ietf.org/meeting/97/session/ccamp\n
 \n
 See in schedule: https://datatracker.ietf.org/meeting/97/agenda#row-97-2016-11-14-mon-1550-rtg-ccamp\n
END:VEVENT
BEGIN:VEVENT
UID:ietf-97-7986-detnet
SUMMARY:detnet - Deterministic Networking
LOCATION:Park Ballroom 1
STATUS:CONFIRMED
CLASS:PUBLIC
DTSTART;TZID=Asia/Seoul:20161115T093000
DTEND;TZID=Asia/Seoul:20161115T120000
DTSTAMP:20161222T095703Z
URL:https://datatracker.ietf.org/meeting/97/materials/agenda-97-detnet-01
DESCRIPTION:Morning Session I\n
 \n
 Meetecho: http://www.meetecho.com/ietf97/detnet/\n
 \n
 Agenda https://datatracker.ietf.org/meeting/97/materials/agenda-97-detnet-01\n
 \n
 Session materials: https://datatracker.ietf.org/meeting/97/session/detnet\n
 \n
 See in schedule: https://datatracker.ietf.org/meeting/97/agenda#row-97-2016-11-15-tue-0930-rtg-detnet\n
END:VEVENT
BEGIN:VEVENT
UID:ietf-97-7985-rtgwg
SUMMARY:rtgwg - Routing Area Working Group
LOCATION:Grand Ballroom 3
STATUS:CONFIRMED
CLASS:PUBLIC
DTSTART;TZID=Asia/Seoul:20161115T093000
DTEND;TZID=Asia/Seoul:20161115T120000
DTSTAMP:20161222T095703Z
URL:https://datatracker.ietf.org/meeting/97/materials/agenda-97-rtgwg-07
DESCRIPTION:Morning Session I\n
 \n
 Meetecho: http://www.meetecho.com/ietf97/rtgwg/\n
 \n
 Agenda https://datatracker.ietf.org/meeting/97/materials/agenda-97-rtgwg-07\n
 \n
 Session materials: https://datatracker.ietf.org/meeting/97/session/rtgwg\n
 \n
 See in schedule: https://datatracker.ietf.org/meeting/97/agenda#row-97-2016-11-15-tue-0930-rtg-rtgwg\n
END:VEVENT
BEGIN:VEVENT
UID:ietf-97-8000-rtgarea
SUMMARY:rtgarea - Routing Area Open Meeting
LOCATION:Grand Ballroom 2
STATUS:CONFIRMED
CLASS:PUBLIC
DTSTART;TZID=Asia/Seoul:20161115T133000
DTEND;TZID=Asia/Seoul:20161115T153000
DTSTAMP:20161222T095703Z
URL:https://datatracker.ietf.org/meeting/97/materials/agenda-97-rtgarea-01
DESCRIPTION:Afternoon Session I\n
 \n
 Meetecho: http://www.meetecho.com/ietf97/rtgarea/\n
 \n
 Agenda https://datatracker.ietf.org/meeting/97/materials/agenda-97-rtgarea-01\n
 \n
 Session materials: https://datatracker.ietf.org/meeting/97/session/rtgarea\n
 \n
 See in schedule: https://datatracker.ietf.org/meeting/97/agenda#row-97-2016-11-15-tue-1330-rtg-rtgarea\n
END:VEVENT
BEGIN:VEVENT
UID:ietf-97-8009-idr
SUMMARY:idr - Inter-Domain Routing
LOCATION:Grand Ballroom 3
STATUS:CONFIRMED
CLASS:PUBLIC
DTSTART;TZID=Asia/Seoul:20161115T155000
DTEND;TZID=Asia/Seoul:20161115T182000
DTSTAMP:20161222T095703Z
URL:https://datatracker.ietf.org/meeting/97/materials/agenda-97-idr-04
DESCRIPTION:Afternoon Session II\n
 \n
 Meetecho: http://www.meetecho.com/ietf97/idr/\n
 \n
 Agenda https://datatracker.ietf.org/meeting/97/materials/agenda-97-idr-04\n
 \n
 Session materials: https://datatracker.ietf.org/meeting/97/session/idr\n
 \n
 See in schedule: https://datatracker.ietf.org/meeting/97/agenda#row-97-2016-11-15-tue-1550-rtg-idr\n
END:VEVENT
BEGIN:VEVENT
UID:ietf-97-8022-lisp
SUMMARY:lisp - Locator/ID Separation Protocol
LOCATION:Studio 4
STATUS:CONFIRMED
CLASS:PUBLIC
DTSTART;TZID=Asia/Seoul:20161116T093000
DTEND;TZID=Asia/Seoul:20161116T110000
DTSTAMP:20161222T095703Z
URL:https://datatracker.ietf.org/meeting/97/materials/agenda-97-lisp-01
DESCRIPTION:Morning Session I\n
 \n
 Meetecho: http://www.meetecho.com/ietf97/lisp/\n
 \n
 Agenda https://datatracker.ietf.org/meeting/97/materials/agenda-97-lisp-01\n
 \n
 Session materials: https://datatracker.ietf.org/meeting/97/session/lisp\n
 \n
 See in schedule: https://datatracker.ietf.org/meeting/97/agenda#row-97-2016-11-16-wed-0930-rtg-lisp\n
END:VEVENT
BEGIN:VEVENT
UID:ietf-97-8020-manet
SUMMARY:manet - Mobile Ad-hoc Networks
LOCATION:Studio 2
STATUS:CONFIRMED
CLASS:PUBLIC
DTSTART;TZID=Asia/Seoul:20161116T093000
DTEND;TZID=Asia/Seoul:20161116T110000
DTSTAMP:20161222T095703Z
URL:https://datatracker.ietf.org/meeting/97/materials/agenda-97-manet-00
DESCRIPTION:Morning Session I\n
 \n
 Meetecho: http://www.meetecho.com/ietf97/manet/\n
 \n
 Agenda https://datatracker.ietf.org/meeting/97/materials/agenda-97-manet-00\n
 \n
 Session materials: https://datatracker.ietf.org/meeting/97/session/manet\n
 \n
 See in schedule: https://datatracker.ietf.org/meeting/97/agenda#row-97-2016-11-16-wed-0930-rtg-manet\n
END:VEVENT
BEGIN:VEVENT
UID:ietf-97-8018-ospf
SUMMARY:ospf - Open Shortest Path First IGP
LOCATION:Park Ballroom 1
STATUS:CONFIRMED
CLASS:PUBLIC
DTSTART;TZID=Asia/Seoul:20161116T093000
DTEND;TZID=Asia/Seoul:20161116T110000
DTSTAMP:20161222T095703Z
URL:https://datatracker.ietf.org/meeting/97/materials/agenda-97-ospf-02
DESCRIPTION:Morning Session I\n
 \n
 Meetecho: http://www.meetecho.com/ietf97/ospf/\n
 \n
 Agenda https://datatracker.ietf.org/meeting/97/materials/agenda-97-ospf-02\n
 \n
 Session materials: https://datatracker.ietf.org/meeting/97/session/ospf\n
 \n
 See in schedule: https://datatracker.ietf.org/meeting/97/agenda#row-97-2016-11-16-wed-0930-rtg-ospf\n
END:VEVENT
BEGIN:VEVENT
UID:ietf-97-8058-isis
SUMMARY:isis - IS-IS for IP Internets
LOCATION:Park Ballroom 1
STATUS:CONFIRMED
CLASS:PUBLIC
DTSTART;TZID=Asia/Seoul:20161116T111000
DTEND;TZID=Asia/Seoul:20161116T121000
DTSTAMP:20161222T095703Z
URL:https://datatracker.ietf.org/meeting/97/materials/agenda-97-isis-04
DESCRIPTION:Morning Session II\n
 \n
 Meetecho: http://www.meetecho.com/ietf97/isis/\n
 \n
 Agenda https://datatracker.ietf.org/meeting/97/materials/agenda-97-isis-04\n
 \n
 Session materials: https://datatracker.ietf.org/meeting/97/session/isis\n
 \n
 See in schedule: https://datatracker.ietf.org/meeting/97/agenda#row-97-2016-11-16-wed-1110-rtg-isis\n
END:VEVENT
BEGIN:VEVENT
UID:ietf-97-8059-roll
SUMMARY:roll - Routing Over Low power and Lossy networks
LOCATION:Park Ballroom 2
STATUS:CONFIRMED
CLASS:PUBLIC
DTSTART;TZID=Asia/Seoul:20161116T111000
DTEND;TZID=Asia/Seoul:20161116T121000
DTSTAMP:20161222T095703Z
URL:https://datatracker.ietf.org/meeting/97/materials/agenda-97-roll-03
DESCRIPTION:Morning Session II\n
 \n
 Meetecho: http://www.meetecho.com/ietf97/roll/\n
 \n
 Agenda https://datatracker.ietf.org/meeting/97/materials/agenda-97-roll-03\n
 \n
 Session materials: https://datatracker.ietf.org/meeting/97/session/roll\n
 \n
 See in schedule: https://datatracker.ietf.org/meeting/97/agenda#row-97-2016-11-16-wed-1110-rtg-roll\n
END:VEVENT
BEGIN:VEVENT
UID:ietf-97-8060-trill
SUMMARY:trill - Transparent Interconnection of Lots of Links
LOCATION:Studio 2
STATUS:CONFIRMED
CLASS:PUBLIC
DTSTART;TZID=Asia/Seoul:20161116T111000
DTEND;TZID=Asia/Seoul:20161116T121000
DTSTAMP:20161222T095703Z
URL:https://datatracker.ietf.org/meeting/97/materials/agenda-97-trill-03
DESCRIPTION:Morning Session II\n
 \n
 Meetecho: http://www.meetecho.com/ietf97/trill/\n
 \n
 Agenda https://datatracker.ietf.org/meeting/97/materials/agenda-97-trill-03\n
 \n
 Session materials: https://datatracker.ietf.org/meeting/97/session/trill\n
 \n
 See in schedule: https://datatracker.ietf.org/meeting/97/agenda#row-97-2016-11-16-wed-1110-rtg-trill\n
END:VEVENT
BEGIN:VEVENT
UID:ietf-97-8027-nvo3
SUMMARY:nvo3 - Network Virtualization Overlays
LOCATION:Park Ballroom 2
STATUS:CONFIRMED
CLASS:PUBLIC
DTSTART;TZID=Asia/Seoul:20161116T133000
DTEND;TZID=Asia/Seoul:20161116T150000
DTSTAMP:20161222T095703Z
URL:https://datatracker.ietf.org/meeting/97/materials/agenda-97-nvo3-02
DESCRIPTION:Afternoon Session I\n
 \n
 Meetecho: http://www.meetecho.com/ietf97/nvo3/\n
 \n
 Agenda https://datatracker.ietf.org/meeting/97/materials/agenda-97-nvo3-02\n
 \n
 Session materials: https://datatracker.ietf.org/meeting/97/session/nvo3\n
 \n
 See in schedule: https://datatracker.ietf.org/meeting/97/agenda#row-97-2016-11-16-wed-1330-rtg-nvo3\n
END:VEVENT
BEGIN:VEVENT
UID:ietf-97-8026-pce
SUMMARY:pce - Path Computation Element
LOCATION:Park Ballroom 1
STATUS:CONFIRMED
CLASS:PUBLIC
DTSTART;TZID=Asia/Seoul:20161116T133000
DTEND;TZID=Asia/Seoul:20161116T150000
DTSTAMP:20161222T095703Z
URL:https://datatracker.ietf.org/meeting/97/materials/agenda-97-pce-03
DESCRIPTION:Afternoon Session I\n
 \n
 Meetecho: http://www.meetecho.com/ietf97/pce/\n
 \n
 Agenda https://datatracker.ietf.org/meeting/97/materials/agenda-97-pce-03\n
 \n
 Session materials: https://datatracker.ietf.org/meeting/97/session/pce\n
 \n
 See in schedule: https://datatracker.ietf.org/meeting/97/agenda#row-97-2016-11-16-wed-1330-rtg-pce\n
END:VEVENT
BEGIN:VEVENT
UID:ietf-97-8036-i2rs
SUMMARY:i2rs - Interface to the Routing System
LOCATION:Studio 2
STATUS:CONFIRMED
CLASS:PUBLIC
DTSTART;TZID=Asia/Seoul:20161116T152000
DTEND;TZID=Asia/Seoul:20161116T162000
DTSTAMP:20161222T095703Z
URL:https://datatracker.ietf.org/meeting/97/materials/agenda-97-i2rs-04
DESCRIPTION:Afternoon Session II\n
 \n
 Meetecho: http://www.meetecho.com/ietf97/i2rs/\n
 \n
 Agenda https://datatracker.ietf.org/meeting/97/materials/agenda-97-i2rs-04\n
 \n
 Session materials: https://datatracker.ietf.org/meeting/97/session/i2rs\n
 \n
 See in schedule: https://datatracker.ietf.org/meeting/97/agenda#row-97-2016-11-16-wed-1520-rtg-i2rs\n
END:VEVENT
BEGIN:VEVENT
UID:ietf-97-8041-spring
SUMMARY:spring - Source Packet Routing in Networking
LOCATION:Grand Ballroom 3
STATUS:CONFIRMED
CLASS:PUBLIC
DTSTART;TZID=Asia/Seoul:20161117T093000
DTEND;TZID=Asia/Seoul:20161117T110000
DTSTAMP:20161222T095703Z
URL:https://datatracker.ietf.org/meeting/97/materials/agenda-97-spring-03
DESCRIPTION:Morning Session I\n
 \n
 Meetecho: http://www.meetecho.com/ietf97/spring/\n
 \n
 Agenda https://datatracker.ietf.org/meeting/97/materials/agenda-97-spring-03\n
 \n
 Session materials: https://datatracker.ietf.org/meeting/97/session/spring\n
 \n
 See in schedule: https://datatracker.ietf.org/meeting/97/agenda#row-97-2016-11-17-thu-0930-rtg-spring\n
END:VEVENT
BEGIN:VEVENT
UID:ietf-97-8068-ccamp
SUMMARY:ccamp - Common Control and Measurement Plane
LOCATION:Studio 2
STATUS:CONFIRMED
CLASS:PUBLIC
DTSTART;TZID=Asia/Seoul:20161117T133000
DTEND;TZID=Asia/Seoul:20161117T150000
DTSTAMP:20161222T095703Z
URL:https://datatracker.ietf.org/meeting/97/materials/agenda-97-ccamp-02
DESCRIPTION:Afternoon Session I\n
 \n
 Meetecho: http://www.meetecho.com/ietf97/ccamp/\n
 \n
 Agenda https://datatracker.ietf.org/meeting/97/materials/agenda-97-ccamp-02\n
 \n
 Session materials: https://datatracker.ietf.org/meeting/97/session/ccamp\n
 \n
 See in schedule: https://datatracker.ietf.org/meeting/97/agenda#row-97-2016-11-17-thu-1330-rtg-ccamp\n
END:VEVENT
BEGIN:VEVENT
UID:ietf-97-8067-nvo3
SUMMARY:nvo3 - Network Virtualization Overlays
LOCATION:Park Ballroom 2
STATUS:CONFIRMED
CLASS:PUBLIC
DTSTART;TZID=Asia/Seoul:20161117T133000
DTEND;TZID=Asia/Seoul:20161117T150000
DTSTAMP:20161222T095703Z
URL:https://datatracker.ietf.org/meeting/97/materials/agenda-97-nvo3-02
DESCRIPTION:Afternoon Session I\n
 \n
 Meetecho: http://www.meetecho.com/ietf97/nvo3/\n
 \n
 Agenda https://datatracker.ietf.org/meeting/97/materials/agenda-97-nvo3-02\n
 \n
 Session materials: https://datatracker.ietf.org/meeting/97/session/nvo3\n
 \n
 See in schedule: https://datatracker.ietf.org/meeting/97/agenda#row-97-2016-11-17-thu-1330-rtg-nvo3\n
END:VEVENT
BEGIN:VEVENT
UID:ietf-97-8074-mpls
SUMMARY:mpls - Multiprotocol Label Switching
LOCATION:Park Ballroom 1
STATUS:CONFIRMED
CLASS:PUBLIC
DTSTART;TZID=Asia/Seoul:20161117T152000
DTEND;TZID=Asia/Seoul:20161117T175000
DTSTAMP:20161222T095703Z
URL:https://datatracker.ietf.org/meeting/97/materials/agenda-97-mpls-02
DESCRIPTION:Afternoon Session II\n
 \n
 Meetecho: http://www.meetecho.com/ietf97/mpls/\n
 \n
 Agenda https://datatracker.ietf.org/meeting/97/materials/agenda-97-mpls-02\n
 \n
 Session materials: https://datatracker.ietf.org/meeting/97/session/mpls\n
 \n
 See in schedule: https://datatracker.ietf.org/meeting/97/agenda#row-97-2016-11-17-thu-1520-rtg-mpls\n
END:VEVENT
BEGIN:VEVENT
UID:ietf-97-8076-sidr
SUMMARY:sidr - Secure Inter-Domain Routing
LOCATION:Studio 2
STATUS:CONFIRMED
CLASS:PUBLIC
DTSTART;TZID=Asia/Seoul:20161117T152000
DTEND;TZID=Asia/Seoul:20161117T175000
DTSTAMP:20161222T095703Z
URL:https://datatracker.ietf.org/meeting/97/materials/agenda-97-sidr-03
DESCRIPTION:Afternoon Session II\n
 \n
 Meetecho: http://www.meetecho.com/ietf97/sidr/\n
 \n
 Agenda https://datatracker.ietf.org/meeting/97/materials/agenda-97-sidr-03\n
 \n
 Session materials: https://datatracker.ietf.org/meeting/97/session/sidr\n
 \n
 See in schedule: https://datatracker.ietf.org/meeting/97/agenda#row-97-2016-11-17-thu-1520-rtg-sidr\n
END:VEVENT
BEGIN:VEVENT
UID:ietf-97-8079-rtgwg
SUMMARY:rtgwg - Routing Area Working Group
LOCATION:Grand Ballroom 1
STATUS:CONFIRMED
CLASS:PUBLIC
DTSTART;TZID=Asia/Seoul:20161118T093000
DTEND;TZID=Asia/Seoul:20161118T113000
DTSTAMP:20161222T095703Z
URL:https://datatracker.ietf.org/meeting/97/materials/agenda-97-rtgwg-07
DESCRIPTION:Morning Session I\n
 \n
 Meetecho: http://www.meetecho.com/ietf97/rtgwg/\n
 \n
 Agenda https://datatracker.ietf.org/meeting/97/materials/agenda-97-rtgwg-07\n
 \n
 Session materials: https://datatracker.ietf.org/meeting/97/session/rtgwg\n
 \n
 See in schedule: https://datatracker.ietf.org/meeting/97/agenda#row-97-2016-11-18-fri-0930-rtg-rtgwg\n
END:VEVENT
BEGIN:VEVENT
UID:ietf-97-8090-babel
SUMMARY:babel - Babel routing protocol
LOCATION:Park Ballroom 1
STATUS:CONFIRMED
CLASS:PUBLIC
DTSTART;TZID=Asia/Seoul:20161118T115000
DTEND;TZID=Asia/Seoul:20161118T132000
DTSTAMP:20161222T095703Z
URL:https://datatracker.ietf.org/meeting/97/materials/agenda-97-babel-03
DESCRIPTION:Afternoon Session I\n
 \n
 Meetecho: http://www.meetecho.com/ietf97/babel/\n
 \n
 Agenda https://datatracker.ietf.org/meeting/97/materials/agenda-97-babel-03\n
 \n
 Session materials: https://datatracker.ietf.org/meeting/97/session/babel\n
 \n
 See in schedule: https://datatracker.ietf.org/meeting/97/agenda#row-97-2016-11-18-fri-1150-rtg-babel\n
END:VEVENT
END:VCALENDAR
