BEGIN:VCALENDAR
VERSION:2.0
METHOD:PUBLISH
PRODID:-//IETF//datatracker.ietf.org ical agenda//EN
BEGIN:VTIMEZONE
TZID:Asia/Seoul
X-LIC-LOCATION:Asia/Seoul
BEGIN:STANDARD
TZOFFSETFROM:+082752
TZOFFSETTO:+0830
TZNAME:KST
DTSTART:19080401T000000
RDATE:19080401T000000
END:STANDARD
BEGIN:STANDARD
TZOFFSETFROM:+0830
TZOFFSETTO:+0900
TZNAME:JCST
DTSTART:19120101T000000
RDATE:19120101T000000
END:STANDARD
BEGIN:STANDARD
TZOFFSETFROM:+0900
TZOFFSETTO:+0900
TZNAME:JST
DTSTART:19371001T000000
RDATE:19371001T000000
END:STANDARD
BEGIN:STANDARD
TZOFFSETFROM:+0900
TZOFFSETTO:+0900
TZNAME:KST
DTSTART:19450908T000000
RDATE:19450908T000000
END:STANDARD
BEGIN:STANDARD
TZOFFSETFROM:+0900
TZOFFSETTO:+0830
TZNAME:KST
DTSTART:19540321T000000
RDATE:19540321T000000
END:STANDARD
BEGIN:DAYLIGHT
TZOFFSETFROM:+0830
TZOFFSETTO:+0930
TZNAME:KDT
DTSTART:19550505T000000
RDATE:19550505T000000
RDATE:19560520T000000
RDATE:19570505T000000
RDATE:19580504T000000
RDATE:19590503T000000
RDATE:19600501T000000
END:DAYLIGHT
BEGIN:STANDARD
TZOFFSETFROM:+0930
TZOFFSETTO:+0830
TZNAME:KST
DTSTART:19550909T000000
RDATE:19550909T000000
RDATE:19560930T000000
RDATE:19570922T000000
RDATE:19580921T000000
RDATE:19590920T000000
RDATE:19600918T000000
END:STANDARD
BEGIN:STANDARD
TZOFFSETFROM:+0830
TZOFFSETTO:+0900
TZNAME:KST
DTSTART:19610810T000000
RDATE:19610810T000000
END:STANDARD
BEGIN:DAYLIGHT
TZOFFSETFROM:+0900
TZOFFSETTO:+1000
TZNAME:KDT
DTSTART:19870510T020000
RDATE:19870510T020000
RDATE:19880508T020000
END:DAYLIGHT
BEGIN:STANDARD
TZOFFSETFROM:+1000
TZOFFSETTO:+0900
TZNAME:KST
DTSTART:19871011T030000
RDATE:19871011T030000
RDATE:19881009T030000
END:STANDARD
END:VTIMEZONE
BEGIN:VEVENT
UID:ietf-97-7957-oauth
SUMMARY:oauth - Web Authorization Protocol
LOCATION:Studio 3
STATUS:CONFIRMED
CLASS:PUBLIC
DTSTART;TZID=Asia/Seoul:20161114T093000
DTEND;TZID=Asia/Seoul:20161114T120000
DTSTAMP:20161222T095703Z
URL:https://datatracker.ietf.org/meeting/97/materials/agenda-97-oauth-01
DESCRIPTION:Morning Session I\n
 \n
 Meetecho: http://www.meetecho.com/ietf97/oauth/\n
 \n
 Agenda https://datatracker.ietf.org/meeting/97/materials/agenda-97-oauth-01\n
 \n
 Session materials: https://datatracker.ietf.org/meeting/97/session/oauth\n
 \n
 See in schedule: https://datatracker.ietf.org/meeting/97/agenda#row-97-2016-11-14-mon-0930-sec-oauth\n
END:VEVENT
BEGIN:VEVENT
UID:ietf-97-7978-i2nsf
SUMMARY:i2nsf - Interface to Network Security Functions
LOCATION:Park Ballroom 1
STATUS:CONFIRMED
CLASS:PUBLIC
DTSTART;TZID=Asia/Seoul:20161114T155000
DTEND;TZID=Asia/Seoul:20161114T175000
DTSTAMP:20161222T095703Z
URL:https://datatracker.ietf.org/meeting/97/materials/agenda-97-i2nsf-03
DESCRIPTION:Afternoon Session II\n
 \n
 Meetecho: http://www.meetecho.com/ietf97/i2nsf/\n
 \n
 Agenda https://datatracker.ietf.org/meeting/97/materials/agenda-97-i2nsf-03\n
 \n
 Session materials: https://datatracker.ietf.org/meeting/97/session/i2nsf\n
 \n
 See in schedule: https://datatracker.ietf.org/meeting/97/agenda#row-97-2016-11-14-mon-1550-sec-i2nsf\n
END:VEVENT
BEGIN:VEVENT
UID:ietf-97-7982-tokbind
SUMMARY:tokbind - Token Binding
LOCATION:Studio 4
STATUS:CONFIRMED
CLASS:PUBLIC
DTSTART;TZID=Asia/Seoul:20161114T155000
DTEND;TZID=Asia/Seoul:20161114T175000
DTSTAMP:20161222T095703Z
URL:https://datatracker.ietf.org/meeting/97/materials/agenda-97-tokbind-00
DESCRIPTION:Afternoon Session II\n
 \n
 Meetecho: http://www.meetecho.com/ietf97/tokbind/\n
 \n
 Agenda https://datatracker.ietf.org/meeting/97/materials/agenda-97-tokbind-00\n
 \n
 Session materials: https://datatracker.ietf.org/meeting/97/session/tokbind\n
 \n
 See in schedule: https://datatracker.ietf.org/meeting/97/agenda#row-97-2016-11-14-mon-1550-sec-tokbind\n
END:VEVENT
BEGIN:VEVENT
UID:ietf-97-7987-sacm
SUMMARY:sacm - Security Automation and Continuous Monitoring
LOCATION:Park Ballroom 2
STATUS:CONFIRMED
CLASS:PUBLIC
DTSTART;TZID=Asia/Seoul:20161115T093000
DTEND;TZID=Asia/Seoul:20161115T120000
DTSTAMP:20161222T095703Z
URL:https://datatracker.ietf.org/meeting/97/materials/agenda-97-sacm-03
DESCRIPTION:Morning Session I\n
 \n
 Meetecho: http://www.meetecho.com/ietf97/sacm/\n
 \n
 Agenda https://datatracker.ietf.org/meeting/97/materials/agenda-97-sacm-03\n
 \n
 Session materials: https://datatracker.ietf.org/meeting/97/session/sacm\n
 \n
 See in schedule: https://datatracker.ietf.org/meeting/97/agenda#row-97-2016-11-15-tue-0930-sec-sacm\n
END:VEVENT
BEGIN:VEVENT
UID:ietf-97-7990-trans
SUMMARY:trans - Public Notary Transparency  (11:30-12:00)
LOCATION:Studio 4
STATUS:CONFIRMED
CLASS:PUBLIC
DTSTART;TZID=Asia/Seoul:20161115T093000
DTEND;TZID=Asia/Seoul:20161115T120000
DTSTAMP:20161222T095703Z
URL:https://datatracker.ietf.org/meeting/97/materials/agenda-97-trans-02
DESCRIPTION:Morning Session I\n
 Note: 11:30-12:00\n
 \n
 Meetecho: http://www.meetecho.com/ietf97/trans/\n
 \n
 Agenda https://datatracker.ietf.org/meeting/97/materials/agenda-97-trans-02\n
 \n
 Session materials: https://datatracker.ietf.org/meeting/97/session/trans\n
 \n
 See in schedule: https://datatracker.ietf.org/meeting/97/agenda#row-97-2016-11-15-tue-0930-sec-trans\n
END:VEVENT
BEGIN:VEVENT
UID:ietf-97-8004-ipsecme
SUMMARY:ipsecme - IP Security Maintenance and Extensions
LOCATION:Studio 2
STATUS:CONFIRMED
CLASS:PUBLIC
DTSTART;TZID=Asia/Seoul:20161115T133000
DTEND;TZID=Asia/Seoul:20161115T153000
DTSTAMP:20161222T095703Z
URL:https://datatracker.ietf.org/meeting/97/materials/agenda-97-ipsecme-02
DESCRIPTION:Afternoon Session I\n
 \n
 Meetecho: http://www.meetecho.com/ietf97/ipsecme/\n
 \n
 Agenda https://datatracker.ietf.org/meeting/97/materials/agenda-97-ipsecme-02\n
 \n
 Session materials: https://datatracker.ietf.org/meeting/97/session/ipsecme\n
 \n
 See in schedule: https://datatracker.ietf.org/meeting/97/agenda#row-97-2016-11-15-tue-1330-sec-ipsecme\n
END:VEVENT
BEGIN:VEVENT
UID:ietf-97-8010-tls
SUMMARY:tls - Transport Layer Security
LOCATION:Park Ballroom 1
STATUS:CONFIRMED
CLASS:PUBLIC
DTSTART;TZID=Asia/Seoul:20161115T155000
DTEND;TZID=Asia/Seoul:20161115T182000
DTSTAMP:20161222T095703Z
URL:https://datatracker.ietf.org/meeting/97/materials/agenda-97-tls-02
DESCRIPTION:Afternoon Session II\n
 \n
 Meetecho: http://www.meetecho.com/ietf97/tls/\n
 \n
 Agenda https://datatracker.ietf.org/meeting/97/materials/agenda-97-tls-02\n
 \n
 Session materials: https://datatracker.ietf.org/meeting/97/session/tls\n
 \n
 See in schedule: https://datatracker.ietf.org/meeting/97/agenda#row-97-2016-11-15-tue-1550-sec-tls\n
END:VEVENT
BEGIN:VEVENT
UID:ietf-97-8057-lamps
SUMMARY:lamps - Limited Additional Mechanisms for PKIX and SMIME
LOCATION:Grand Ballroom 3
STATUS:CONFIRMED
CLASS:PUBLIC
DTSTART;TZID=Asia/Seoul:20161116T111000
DTEND;TZID=Asia/Seoul:20161116T121000
DTSTAMP:20161222T095703Z
URL:https://datatracker.ietf.org/meeting/97/materials/agenda-97-lamps-01
DESCRIPTION:Morning Session II\n
 \n
 Meetecho: http://www.meetecho.com/ietf97/lamps/\n
 \n
 Agenda https://datatracker.ietf.org/meeting/97/materials/agenda-97-lamps-01\n
 \n
 Session materials: https://datatracker.ietf.org/meeting/97/session/lamps\n
 \n
 See in schedule: https://datatracker.ietf.org/meeting/97/agenda#row-97-2016-11-16-wed-1110-sec-lamps\n
END:VEVENT
BEGIN:VEVENT
UID:ietf-97-8061-secevent
SUMMARY:secevent - Security Events
LOCATION:Studio 3
STATUS:CONFIRMED
CLASS:PUBLIC
DTSTART;TZID=Asia/Seoul:20161116T111000
DTEND;TZID=Asia/Seoul:20161116T121000
DTSTAMP:20161222T095703Z
URL:https://datatracker.ietf.org/meeting/97/materials/agenda-97-secevent-00
DESCRIPTION:Morning Session II\n
 \n
 Meetecho: http://www.meetecho.com/ietf97/secevent/\n
 \n
 Agenda https://datatracker.ietf.org/meeting/97/materials/agenda-97-secevent-00\n
 \n
 Session materials: https://datatracker.ietf.org/meeting/97/session/secevent\n
 \n
 See in schedule: https://datatracker.ietf.org/meeting/97/agenda#row-97-2016-11-16-wed-1110-sec-secevent\n
END:VEVENT
BEGIN:VEVENT
UID:ietf-97-8030-acme
SUMMARY:acme - Automated Certificate Management Environment
LOCATION:Studio 4
STATUS:CONFIRMED
CLASS:PUBLIC
DTSTART;TZID=Asia/Seoul:20161116T133000
DTEND;TZID=Asia/Seoul:20161116T150000
DTSTAMP:20161222T095703Z
URL:https://datatracker.ietf.org/meeting/97/materials/agenda-97-acme-01
DESCRIPTION:Afternoon Session I\n
 \n
 Meetecho: http://www.meetecho.com/ietf97/acme/\n
 \n
 Agenda https://datatracker.ietf.org/meeting/97/materials/agenda-97-acme-01\n
 \n
 Session materials: https://datatracker.ietf.org/meeting/97/session/acme\n
 \n
 See in schedule: https://datatracker.ietf.org/meeting/97/agenda#row-97-2016-11-16-wed-1330-sec-acme\n
END:VEVENT
BEGIN:VEVENT
UID:ietf-97-8037-oauth
SUMMARY:oauth - Web Authorization Protocol
LOCATION:Studio 3
STATUS:CONFIRMED
CLASS:PUBLIC
DTSTART;TZID=Asia/Seoul:20161116T152000
DTEND;TZID=Asia/Seoul:20161116T162000
DTSTAMP:20161222T095703Z
URL:https://datatracker.ietf.org/meeting/97/materials/agenda-97-oauth-01
DESCRIPTION:Afternoon Session II\n
 \n
 Meetecho: http://www.meetecho.com/ietf97/oauth/\n
 \n
 Agenda https://datatracker.ietf.org/meeting/97/materials/agenda-97-oauth-01\n
 \n
 Session materials: https://datatracker.ietf.org/meeting/97/session/oauth\n
 \n
 See in schedule: https://datatracker.ietf.org/meeting/97/agenda#row-97-2016-11-16-wed-1520-sec-oauth\n
END:VEVENT
BEGIN:VEVENT
UID:ietf-97-8039-saag
SUMMARY:saag - Security Area Open Meeting
LOCATION:Grand Ballroom 1
STATUS:CONFIRMED
CLASS:PUBLIC
DTSTART;TZID=Asia/Seoul:20161117T093000
DTEND;TZID=Asia/Seoul:20161117T110000
DTSTAMP:20161222T095703Z
URL:https://datatracker.ietf.org/meeting/97/materials/agenda-97-saag-02
DESCRIPTION:Morning Session I\n
 \n
 Meetecho: http://www.meetecho.com/ietf97/saag/\n
 \n
 Agenda https://datatracker.ietf.org/meeting/97/materials/agenda-97-saag-02\n
 \n
 Session materials: https://datatracker.ietf.org/meeting/97/session/saag\n
 \n
 See in schedule: https://datatracker.ietf.org/meeting/97/agenda#row-97-2016-11-17-thu-0930-sec-saag\n
END:VEVENT
BEGIN:VEVENT
UID:ietf-97-8047-saag
SUMMARY:saag - Security Area Open Meeting
LOCATION:Grand Ballroom 1
STATUS:CONFIRMED
CLASS:PUBLIC
DTSTART;TZID=Asia/Seoul:20161117T111000
DTEND;TZID=Asia/Seoul:20161117T121000
DTSTAMP:20161222T095703Z
URL:https://datatracker.ietf.org/meeting/97/materials/agenda-97-saag-02
DESCRIPTION:Morning Session II\n
 \n
 Meetecho: http://www.meetecho.com/ietf97/saag/\n
 \n
 Agenda https://datatracker.ietf.org/meeting/97/materials/agenda-97-saag-02\n
 \n
 Session materials: https://datatracker.ietf.org/meeting/97/session/saag\n
 \n
 See in schedule: https://datatracker.ietf.org/meeting/97/agenda#row-97-2016-11-17-thu-1110-sec-saag\n
END:VEVENT
BEGIN:VEVENT
UID:ietf-97-8078-ace
SUMMARY:ace - Authentication and Authorization for Constrained Environments
LOCATION:Studio 4
STATUS:CONFIRMED
CLASS:PUBLIC
DTSTART;TZID=Asia/Seoul:20161117T152000
DTEND;TZID=Asia/Seoul:20161117T175000
DTSTAMP:20161222T095703Z
URL:https://datatracker.ietf.org/meeting/97/materials/agenda-97-ace-02
DESCRIPTION:Afternoon Session II\n
 \n
 Meetecho: http://www.meetecho.com/ietf97/ace/\n
 \n
 Agenda https://datatracker.ietf.org/meeting/97/materials/agenda-97-ace-02\n
 \n
 Session materials: https://datatracker.ietf.org/meeting/97/session/ace\n
 \n
 See in schedule: https://datatracker.ietf.org/meeting/97/agenda#row-97-2016-11-17-thu-1520-sec-ace\n
END:VEVENT
BEGIN:VEVENT
UID:ietf-97-8082-dots
SUMMARY:dots - DDoS Open Threat Signaling
LOCATION:Park Ballroom 1
STATUS:CONFIRMED
CLASS:PUBLIC
DTSTART;TZID=Asia/Seoul:20161118T093000
DTEND;TZID=Asia/Seoul:20161118T113000
DTSTAMP:20161222T095703Z
URL:https://datatracker.ietf.org/meeting/97/materials/agenda-97-dots-13
DESCRIPTION:Morning Session I\n
 \n
 Meetecho: http://www.meetecho.com/ietf97/dots/\n
 \n
 Agenda https://datatracker.ietf.org/meeting/97/materials/agenda-97-dots-13\n
 \n
 Session materials: https://datatracker.ietf.org/meeting/97/session/dots\n
 \n
 See in schedule: https://datatracker.ietf.org/meeting/97/agenda#row-97-2016-11-18-fri-0930-sec-dots\n
END:VEVENT
BEGIN:VEVENT
UID:ietf-97-8080-tls
SUMMARY:tls - Transport Layer Security
LOCATION:Grand Ballroom 2
STATUS:CONFIRMED
CLASS:PUBLIC
DTSTART;TZID=Asia/Seoul:20161118T093000
DTEND;TZID=Asia/Seoul:20161118T113000
DTSTAMP:20161222T095703Z
URL:https://datatracker.ietf.org/meeting/97/materials/agenda-97-tls-02
DESCRIPTION:Morning Session I\n
 \n
 Meetecho: http://www.meetecho.com/ietf97/tls/\n
 \n
 Agenda https://datatracker.ietf.org/meeting/97/materials/agenda-97-tls-02\n
 \n
 Session materials: https://datatracker.ietf.org/meeting/97/session/tls\n
 \n
 See in schedule: https://datatracker.ietf.org/meeting/97/agenda#row-97-2016-11-18-fri-0930-sec-tls\n
END:VEVENT
BEGIN:VEVENT
UID:ietf-97-8093-curdle
SUMMARY:curdle - CURves, Deprecating and a Little more Encryption
LOCATION:Studio 3
STATUS:CONFIRMED
CLASS:PUBLIC
DTSTART;TZID=Asia/Seoul:20161118T115000
DTEND;TZID=Asia/Seoul:20161118T132000
DTSTAMP:20161222T095703Z
URL:https://datatracker.ietf.org/meeting/97/materials/agenda-97-curdle-01
DESCRIPTION:Afternoon Session I\n
 \n
 Meetecho: http://www.meetecho.com/ietf97/curdle/\n
 \n
 Agenda https://datatracker.ietf.org/meeting/97/materials/agenda-97-curdle-01\n
 \n
 Session materials: https://datatracker.ietf.org/meeting/97/session/curdle\n
 \n
 See in schedule: https://datatracker.ietf.org/meeting/97/agenda#row-97-2016-11-18-fri-1150-sec-curdle\n
END:VEVENT
BEGIN:VEVENT
UID:ietf-97-8092-mile
SUMMARY:mile - Managed Incident Lightweight Exchange
LOCATION:Studio 2
STATUS:CONFIRMED
CLASS:PUBLIC
DTSTART;TZID=Asia/Seoul:20161118T115000
DTEND;TZID=Asia/Seoul:20161118T132000
DTSTAMP:20161222T095703Z
URL:https://datatracker.ietf.org/meeting/97/materials/agenda-97-mile-02
DESCRIPTION:Afternoon Session I\n
 \n
 Meetecho: http://www.meetecho.com/ietf97/mile/\n
 \n
 Agenda https://datatracker.ietf.org/meeting/97/materials/agenda-97-mile-02\n
 \n
 Session materials: https://datatracker.ietf.org/meeting/97/session/mile\n
 \n
 See in schedule: https://datatracker.ietf.org/meeting/97/agenda#row-97-2016-11-18-fri-1150-sec-mile\n
END:VEVENT
END:VCALENDAR
