BEGIN:VCALENDAR
VERSION:2.0
METHOD:PUBLISH
PRODID:-//IETF//datatracker.ietf.org ical agenda//EN
BEGIN:VTIMEZONE
TZID:Asia/Seoul
X-LIC-LOCATION:Asia/Seoul
BEGIN:STANDARD
TZOFFSETFROM:+082752
TZOFFSETTO:+0830
TZNAME:KST
DTSTART:19080401T000000
RDATE:19080401T000000
END:STANDARD
BEGIN:STANDARD
TZOFFSETFROM:+0830
TZOFFSETTO:+0900
TZNAME:JCST
DTSTART:19120101T000000
RDATE:19120101T000000
END:STANDARD
BEGIN:STANDARD
TZOFFSETFROM:+0900
TZOFFSETTO:+0900
TZNAME:JST
DTSTART:19371001T000000
RDATE:19371001T000000
END:STANDARD
BEGIN:STANDARD
TZOFFSETFROM:+0900
TZOFFSETTO:+0900
TZNAME:KST
DTSTART:19450908T000000
RDATE:19450908T000000
END:STANDARD
BEGIN:STANDARD
TZOFFSETFROM:+0900
TZOFFSETTO:+0830
TZNAME:KST
DTSTART:19540321T000000
RDATE:19540321T000000
END:STANDARD
BEGIN:DAYLIGHT
TZOFFSETFROM:+0830
TZOFFSETTO:+0930
TZNAME:KDT
DTSTART:19550505T000000
RDATE:19550505T000000
RDATE:19560520T000000
RDATE:19570505T000000
RDATE:19580504T000000
RDATE:19590503T000000
RDATE:19600501T000000
END:DAYLIGHT
BEGIN:STANDARD
TZOFFSETFROM:+0930
TZOFFSETTO:+0830
TZNAME:KST
DTSTART:19550909T000000
RDATE:19550909T000000
RDATE:19560930T000000
RDATE:19570922T000000
RDATE:19580921T000000
RDATE:19590920T000000
RDATE:19600918T000000
END:STANDARD
BEGIN:STANDARD
TZOFFSETFROM:+0830
TZOFFSETTO:+0900
TZNAME:KST
DTSTART:19610810T000000
RDATE:19610810T000000
END:STANDARD
BEGIN:DAYLIGHT
TZOFFSETFROM:+0900
TZOFFSETTO:+1000
TZNAME:KDT
DTSTART:19870510T020000
RDATE:19870510T020000
RDATE:19880508T020000
END:DAYLIGHT
BEGIN:STANDARD
TZOFFSETFROM:+1000
TZOFFSETTO:+0900
TZNAME:KST
DTSTART:19871011T030000
RDATE:19871011T030000
RDATE:19881009T030000
END:STANDARD
END:VTIMEZONE
BEGIN:VEVENT
UID:ietf-97-7955-tcpm
SUMMARY:tcpm - TCP Maintenance and Minor Extensions
LOCATION:Park Ballroom 2
STATUS:CONFIRMED
CLASS:PUBLIC
DTSTART;TZID=Asia/Seoul:20161114T093000
DTEND;TZID=Asia/Seoul:20161114T120000
DTSTAMP:20161222T095703Z
URL:https://datatracker.ietf.org/meeting/97/materials/agenda-97-tcpm-03
DESCRIPTION:Morning Session I\n
 \n
 Meetecho: http://www.meetecho.com/ietf97/tcpm/\n
 \n
 Agenda https://datatracker.ietf.org/meeting/97/materials/agenda-97-tcpm-03\n
 \n
 Session materials: https://datatracker.ietf.org/meeting/97/session/tcpm\n
 \n
 See in schedule: https://datatracker.ietf.org/meeting/97/agenda#row-97-2016-11-14-mon-0930-tsv-tcpm\n
END:VEVENT
BEGIN:VEVENT
UID:ietf-97-7971-mptcp
SUMMARY:mptcp - Multipath TCP
LOCATION:Park Ballroom 2
STATUS:CONFIRMED
CLASS:PUBLIC
DTSTART;TZID=Asia/Seoul:20161114T133000
DTEND;TZID=Asia/Seoul:20161114T153000
DTSTAMP:20161222T095703Z
URL:https://datatracker.ietf.org/meeting/97/materials/agenda-97-mptcp-00
DESCRIPTION:Afternoon Session I\n
 \n
 Meetecho: http://www.meetecho.com/ietf97/mptcp/\n
 \n
 Agenda https://datatracker.ietf.org/meeting/97/materials/agenda-97-mptcp-00\n
 \n
 Session materials: https://datatracker.ietf.org/meeting/97/session/mptcp\n
 \n
 See in schedule: https://datatracker.ietf.org/meeting/97/agenda#row-97-2016-11-14-mon-1330-tsv-mptcp\n
END:VEVENT
BEGIN:VEVENT
UID:ietf-97-7980-ippm
SUMMARY:ippm - IP Performance Metrics
LOCATION:Studio 2
STATUS:CONFIRMED
CLASS:PUBLIC
DTSTART;TZID=Asia/Seoul:20161114T155000
DTEND;TZID=Asia/Seoul:20161114T175000
DTSTAMP:20161222T095703Z
URL:https://datatracker.ietf.org/meeting/97/materials/agenda-97-ippm-02
DESCRIPTION:Afternoon Session II\n
 \n
 Meetecho: http://www.meetecho.com/ietf97/ippm/\n
 \n
 Agenda https://datatracker.ietf.org/meeting/97/materials/agenda-97-ippm-02\n
 \n
 Session materials: https://datatracker.ietf.org/meeting/97/session/ippm\n
 \n
 See in schedule: https://datatracker.ietf.org/meeting/97/agenda#row-97-2016-11-14-mon-1550-tsv-ippm\n
END:VEVENT
BEGIN:VEVENT
UID:ietf-97-7983-quic
SUMMARY:quic - QUIC
LOCATION:Grand Ballroom 1
STATUS:CONFIRMED
CLASS:PUBLIC
DTSTART;TZID=Asia/Seoul:20161115T093000
DTEND;TZID=Asia/Seoul:20161115T120000
DTSTAMP:20161222T095703Z
URL:https://datatracker.ietf.org/meeting/97/materials/agenda-97-quic-00
DESCRIPTION:Morning Session I\n
 \n
 Meetecho: http://www.meetecho.com/ietf97/quic/\n
 \n
 Agenda https://datatracker.ietf.org/meeting/97/materials/agenda-97-quic-00\n
 \n
 Session materials: https://datatracker.ietf.org/meeting/97/session/quic\n
 \n
 See in schedule: https://datatracker.ietf.org/meeting/97/agenda#row-97-2016-11-15-tue-0930-tsv-quic\n
END:VEVENT
BEGIN:VEVENT
UID:ietf-97-8002-tsvwg
SUMMARY:tsvwg - Transport Area Working Group
LOCATION:Park Ballroom 1
STATUS:CONFIRMED
CLASS:PUBLIC
DTSTART;TZID=Asia/Seoul:20161115T133000
DTEND;TZID=Asia/Seoul:20161115T153000
DTSTAMP:20161222T095703Z
URL:https://datatracker.ietf.org/meeting/97/materials/agenda-97-tsvwg-01
DESCRIPTION:Afternoon Session I\n
 \n
 Meetecho: http://www.meetecho.com/ietf97/tsvwg/\n
 \n
 Agenda https://datatracker.ietf.org/meeting/97/materials/agenda-97-tsvwg-01\n
 \n
 Session materials: https://datatracker.ietf.org/meeting/97/session/tsvwg\n
 \n
 See in schedule: https://datatracker.ietf.org/meeting/97/agenda#row-97-2016-11-15-tue-1330-tsv-tsvwg\n
END:VEVENT
BEGIN:VEVENT
UID:ietf-97-8012-dtn
SUMMARY:dtn - Delay/Disruption Tolerant Networking
LOCATION:Studio 2
STATUS:CONFIRMED
CLASS:PUBLIC
DTSTART;TZID=Asia/Seoul:20161115T155000
DTEND;TZID=Asia/Seoul:20161115T182000
DTSTAMP:20161222T095703Z
URL:https://datatracker.ietf.org/meeting/97/materials/agenda-97-dtn-00
DESCRIPTION:Afternoon Session II\n
 \n
 Meetecho: http://www.meetecho.com/ietf97/dtn/\n
 \n
 Agenda https://datatracker.ietf.org/meeting/97/materials/agenda-97-dtn-00\n
 \n
 Session materials: https://datatracker.ietf.org/meeting/97/session/dtn\n
 \n
 See in schedule: https://datatracker.ietf.org/meeting/97/agenda#row-97-2016-11-15-tue-1550-tsv-dtn\n
END:VEVENT
BEGIN:VEVENT
UID:ietf-97-8016-taps
SUMMARY:taps - Transport Services
LOCATION:Grand Ballroom 2
STATUS:CONFIRMED
CLASS:PUBLIC
DTSTART;TZID=Asia/Seoul:20161116T093000
DTEND;TZID=Asia/Seoul:20161116T110000
DTSTAMP:20161222T095703Z
URL:https://datatracker.ietf.org/meeting/97/materials/agenda-97-taps-04
DESCRIPTION:Morning Session I\n
 \n
 Meetecho: http://www.meetecho.com/ietf97/taps/\n
 \n
 Agenda https://datatracker.ietf.org/meeting/97/materials/agenda-97-taps-04\n
 \n
 Session materials: https://datatracker.ietf.org/meeting/97/session/taps\n
 \n
 See in schedule: https://datatracker.ietf.org/meeting/97/agenda#row-97-2016-11-16-wed-0930-tsv-taps\n
END:VEVENT
BEGIN:VEVENT
UID:ietf-97-8055-tsvwg
SUMMARY:tsvwg - Transport Area Working Group
LOCATION:Grand Ballroom 1
STATUS:CONFIRMED
CLASS:PUBLIC
DTSTART;TZID=Asia/Seoul:20161116T111000
DTEND;TZID=Asia/Seoul:20161116T121000
DTSTAMP:20161222T095703Z
URL:https://datatracker.ietf.org/meeting/97/materials/agenda-97-tsvwg-01
DESCRIPTION:Morning Session II\n
 \n
 Meetecho: http://www.meetecho.com/ietf97/tsvwg/\n
 \n
 Agenda https://datatracker.ietf.org/meeting/97/materials/agenda-97-tsvwg-01\n
 \n
 Session materials: https://datatracker.ietf.org/meeting/97/session/tsvwg\n
 \n
 See in schedule: https://datatracker.ietf.org/meeting/97/agenda#row-97-2016-11-16-wed-1110-tsv-tsvwg\n
END:VEVENT
BEGIN:VEVENT
UID:ietf-97-8024-tsvarea
SUMMARY:tsvarea - Transport Area Open Meeting
LOCATION:Grand Ballroom 2
STATUS:CONFIRMED
CLASS:PUBLIC
DTSTART;TZID=Asia/Seoul:20161116T133000
DTEND;TZID=Asia/Seoul:20161116T150000
DTSTAMP:20161222T095703Z
URL:https://datatracker.ietf.org/meeting/97/materials/agenda-97-tsvarea-01
DESCRIPTION:Afternoon Session I\n
 \n
 Meetecho: http://www.meetecho.com/ietf97/tsvarea/\n
 \n
 Agenda https://datatracker.ietf.org/meeting/97/materials/agenda-97-tsvarea-01\n
 \n
 Session materials: https://datatracker.ietf.org/meeting/97/session/tsvarea\n
 \n
 See in schedule: https://datatracker.ietf.org/meeting/97/agenda#row-97-2016-11-16-wed-1330-tsv-tsvarea\n
END:VEVENT
BEGIN:VEVENT
UID:ietf-97-8077-rmcat
SUMMARY:rmcat - RTP Media Congestion Avoidance Techniques
LOCATION:Studio 3
STATUS:CONFIRMED
CLASS:PUBLIC
DTSTART;TZID=Asia/Seoul:20161117T152000
DTEND;TZID=Asia/Seoul:20161117T175000
DTSTAMP:20161222T095703Z
URL:https://datatracker.ietf.org/meeting/97/materials/agenda-97-rmcat-03
DESCRIPTION:Afternoon Session II\n
 \n
 Meetecho: http://www.meetecho.com/ietf97/rmcat/\n
 \n
 Agenda https://datatracker.ietf.org/meeting/97/materials/agenda-97-rmcat-03\n
 \n
 Session materials: https://datatracker.ietf.org/meeting/97/session/rmcat\n
 \n
 See in schedule: https://datatracker.ietf.org/meeting/97/agenda#row-97-2016-11-17-thu-1520-tsv-rmcat\n
END:VEVENT
BEGIN:VEVENT
UID:ietf-97-8086-tcpinc
SUMMARY:tcpinc - TCP Increased Security
LOCATION:Studio 4
STATUS:CONFIRMED
CLASS:PUBLIC
DTSTART;TZID=Asia/Seoul:20161118T093000
DTEND;TZID=Asia/Seoul:20161118T113000
DTSTAMP:20161222T095703Z
URL:https://datatracker.ietf.org/meeting/97/materials/agenda-97-tcpinc-02
DESCRIPTION:Morning Session I\n
 \n
 Meetecho: http://www.meetecho.com/ietf97/tcpinc/\n
 \n
 Agenda https://datatracker.ietf.org/meeting/97/materials/agenda-97-tcpinc-02\n
 \n
 Session materials: https://datatracker.ietf.org/meeting/97/session/tcpinc\n
 \n
 See in schedule: https://datatracker.ietf.org/meeting/97/agenda#row-97-2016-11-18-fri-0930-tsv-tcpinc\n
END:VEVENT
END:VCALENDAR
