BEGIN:VCALENDAR
VERSION:2.0
METHOD:PUBLISH
PRODID:-//IETF//datatracker.ietf.org ical agenda//EN
BEGIN:VTIMEZONE
TZID:America/Chicago
X-LIC-LOCATION:America/Chicago
BEGIN:DAYLIGHT
TZOFFSETFROM:-0600
TZOFFSETTO:-0500
TZNAME:CDT
DTSTART:20070311T020000
RRULE:FREQ=YEARLY;BYMONTH=3;BYDAY=2SU
END:DAYLIGHT
BEGIN:STANDARD
TZOFFSETFROM:-0500
TZOFFSETTO:-0600
TZNAME:CST
DTSTART:20071104T020000
RRULE:FREQ=YEARLY;BYMONTH=11;BYDAY=1SU
END:STANDARD
BEGIN:STANDARD
TZOFFSETFROM:-055036
TZOFFSETTO:-0600
TZNAME:CST
DTSTART:18831118T120924
RDATE:18831118T120924
END:STANDARD
BEGIN:DAYLIGHT
TZOFFSETFROM:-0600
TZOFFSETTO:-0500
TZNAME:CDT
DTSTART:19180331T020000
RDATE:19180331T020000
RDATE:19190330T020000
RDATE:19200613T020000
RDATE:19210327T020000
RDATE:19220430T020000
RDATE:19230429T020000
RDATE:19240427T020000
RDATE:19250426T020000
RDATE:19260425T020000
RDATE:19270424T020000
RDATE:19280429T020000
RDATE:19290428T020000
RDATE:19300427T020000
RDATE:19310426T020000
RDATE:19320424T020000
RDATE:19330430T020000
RDATE:19340429T020000
RDATE:19350428T020000
RDATE:19370425T020000
RDATE:19380424T020000
RDATE:19390430T020000
RDATE:19400428T020000
RDATE:19410427T020000
RDATE:19460428T020000
RDATE:19470427T020000
RDATE:19480425T020000
RDATE:19490424T020000
RDATE:19500430T020000
RDATE:19510429T020000
RDATE:19520427T020000
RDATE:19530426T020000
RDATE:19540425T020000
RDATE:19550424T020000
RDATE:19560429T020000
RDATE:19570428T020000
RDATE:19580427T020000
RDATE:19590426T020000
RDATE:19600424T020000
RDATE:19610430T020000
RDATE:19620429T020000
RDATE:19630428T020000
RDATE:19640426T020000
RDATE:19650425T020000
RDATE:19660424T020000
RDATE:19670430T020000
RDATE:19680428T020000
RDATE:19690427T020000
RDATE:19700426T020000
RDATE:19710425T020000
RDATE:19720430T020000
RDATE:19730429T020000
RDATE:19740106T020000
RDATE:19750223T020000
RDATE:19760425T020000
RDATE:19770424T020000
RDATE:19780430T020000
RDATE:19790429T020000
RDATE:19800427T020000
RDATE:19810426T020000
RDATE:19820425T020000
RDATE:19830424T020000
RDATE:19840429T020000
RDATE:19850428T020000
RDATE:19860427T020000
RDATE:19870405T020000
RDATE:19880403T020000
RDATE:19890402T020000
RDATE:19900401T020000
RDATE:19910407T020000
RDATE:19920405T020000
RDATE:19930404T020000
RDATE:19940403T020000
RDATE:19950402T020000
RDATE:19960407T020000
RDATE:19970406T020000
RDATE:19980405T020000
RDATE:19990404T020000
RDATE:20000402T020000
RDATE:20010401T020000
RDATE:20020407T020000
RDATE:20030406T020000
RDATE:20040404T020000
RDATE:20050403T020000
RDATE:20060402T020000
END:DAYLIGHT
BEGIN:STANDARD
TZOFFSETFROM:-0500
TZOFFSETTO:-0600
TZNAME:CST
DTSTART:19181027T020000
RDATE:19181027T020000
RDATE:19191026T020000
RDATE:19201031T020000
RDATE:19211030T020000
RDATE:19220924T020000
RDATE:19230930T020000
RDATE:19240928T020000
RDATE:19250927T020000
RDATE:19260926T020000
RDATE:19270925T020000
RDATE:19280930T020000
RDATE:19290929T020000
RDATE:19300928T020000
RDATE:19310927T020000
RDATE:19320925T020000
RDATE:19330924T020000
RDATE:19340930T020000
RDATE:19350929T020000
RDATE:19361115T020000
RDATE:19370926T020000
RDATE:19380925T020000
RDATE:19390924T020000
RDATE:19400929T020000
RDATE:19410928T020000
RDATE:19450930T020000
RDATE:19460929T020000
RDATE:19470928T020000
RDATE:19480926T020000
RDATE:19490925T020000
RDATE:19500924T020000
RDATE:19510930T020000
RDATE:19520928T020000
RDATE:19530927T020000
RDATE:19540926T020000
RDATE:19551030T020000
RDATE:19561028T020000
RDATE:19571027T020000
RDATE:19581026T020000
RDATE:19591025T020000
RDATE:19601030T020000
RDATE:19611029T020000
RDATE:19621028T020000
RDATE:19631027T020000
RDATE:19641025T020000
RDATE:19651031T020000
RDATE:19661030T020000
RDATE:19671029T020000
RDATE:19681027T020000
RDATE:19691026T020000
RDATE:19701025T020000
RDATE:19711031T020000
RDATE:19721029T020000
RDATE:19731028T020000
RDATE:19741027T020000
RDATE:19751026T020000
RDATE:19761031T020000
RDATE:19771030T020000
RDATE:19781029T020000
RDATE:19791028T020000
RDATE:19801026T020000
RDATE:19811025T020000
RDATE:19821031T020000
RDATE:19831030T020000
RDATE:19841028T020000
RDATE:19851027T020000
RDATE:19861026T020000
RDATE:19871025T020000
RDATE:19881030T020000
RDATE:19891029T020000
RDATE:19901028T020000
RDATE:19911027T020000
RDATE:19921025T020000
RDATE:19931031T020000
RDATE:19941030T020000
RDATE:19951029T020000
RDATE:19961027T020000
RDATE:19971026T020000
RDATE:19981025T020000
RDATE:19991031T020000
RDATE:20001029T020000
RDATE:20011028T020000
RDATE:20021027T020000
RDATE:20031026T020000
RDATE:20041031T020000
RDATE:20051030T020000
RDATE:20061029T020000
END:STANDARD
BEGIN:STANDARD
TZOFFSETFROM:-0600
TZOFFSETTO:-0600
TZNAME:CST
DTSTART:19200101T000000
RDATE:19200101T000000
RDATE:19420101T000000
RDATE:19460101T000000
RDATE:19670101T000000
END:STANDARD
BEGIN:STANDARD
TZOFFSETFROM:-0600
TZOFFSETTO:-0500
TZNAME:EST
DTSTART:19360301T020000
RDATE:19360301T020000
END:STANDARD
BEGIN:DAYLIGHT
TZOFFSETFROM:-0600
TZOFFSETTO:-0500
TZNAME:CWT
DTSTART:19420209T020000
RDATE:19420209T020000
END:DAYLIGHT
BEGIN:DAYLIGHT
TZOFFSETFROM:-0500
TZOFFSETTO:-0500
TZNAME:CPT
DTSTART:19450814T180000
RDATE:19450814T180000
END:DAYLIGHT
END:VTIMEZONE
BEGIN:VEVENT
UID:ietf-98-8340-dispatch
SUMMARY:dispatch - Dispatch
LOCATION:Zurich A
STATUS:CONFIRMED
CLASS:PUBLIC
DTSTART;TZID=US/Central:20170327T090000
DTEND;TZID=US/Central:20170327T113000
DTSTAMP:20170217T121853Z
URL:https://datatracker.ietf.org/meeting/98/materials/agenda-98-dispatch-02
DESCRIPTION:Morning Session I\n
 \n
 Meetecho: http://www.meetecho.com/ietf98/dispatch/\n
 \n
 Agenda https://datatracker.ietf.org/meeting/98/materials/agenda-98-dispatch-02\n
 \n
 Session materials: https://datatracker.ietf.org/meeting/98/session/dispatch\n
 \n
 See in schedule: https://datatracker.ietf.org/meeting/98/agenda#row-98-2017-03-27-mon-0900-art-dispatch\n
END:VEVENT
BEGIN:VEVENT
UID:ietf-98-8326-regext
SUMMARY:regext - Registration Protocols Extensions (Moved from Weds 0900)
LOCATION:Zurich C
STATUS:CONFIRMED
CLASS:PUBLIC
DTSTART;TZID=US/Central:20170327T152000
DTEND;TZID=US/Central:20170327T165000
DTSTAMP:20170217T121913Z
URL:https://datatracker.ietf.org/meeting/98/materials/agenda-98-regext-10
DESCRIPTION:Afternoon Session II\n
 Note: Moved from Weds 0900\n
 \n
 Meetecho: http://www.meetecho.com/ietf98/regext/\n
 \n
 Agenda https://datatracker.ietf.org/meeting/98/materials/agenda-98-regext-10\n
 \n
 Session materials: https://datatracker.ietf.org/meeting/98/session/regext\n
 \n
 See in schedule: https://datatracker.ietf.org/meeting/98/agenda#row-98-2017-03-27-mon-1520-art-regext\n
END:VEVENT
BEGIN:VEVENT
UID:ietf-98-8316-avtcore
SUMMARY:avtcore - Audio/Video Transport Core Maintenance (09:00-10:00)
LOCATION:Zurich A
STATUS:CONFIRMED
CLASS:PUBLIC
DTSTART;TZID=US/Central:20170328T090000
DTEND;TZID=US/Central:20170328T113000
DTSTAMP:20170217T121938Z
URL:https://datatracker.ietf.org/meeting/98/materials/agenda-98-avtcore-02
DESCRIPTION:Morning Session I\n
 Note: 09:00-10:00\n
 \n
 Meetecho: http://www.meetecho.com/ietf98/avtcore/\n
 \n
 Agenda https://datatracker.ietf.org/meeting/98/materials/agenda-98-avtcore-02\n
 \n
 Session materials: https://datatracker.ietf.org/meeting/98/session/avtcore\n
 \n
 See in schedule: https://datatracker.ietf.org/meeting/98/agenda#row-98-2017-03-28-tue-0900-art-avtcore\n
END:VEVENT
BEGIN:VEVENT
UID:ietf-98-8316-payload
SUMMARY:payload - Audio/Video Transport Payloads (10:30-11:30)
LOCATION:Zurich A
STATUS:CONFIRMED
CLASS:PUBLIC
DTSTART;TZID=US/Central:20170328T090000
DTEND;TZID=US/Central:20170328T113000
DTSTAMP:20170217T121938Z
URL:https://datatracker.ietf.org/meeting/98/materials/agenda-98-payload-01
DESCRIPTION:Morning Session I\n
 Note: 10:30-11:30\n
 \n
 Meetecho: http://www.meetecho.com/ietf98/payload/\n
 \n
 Agenda https://datatracker.ietf.org/meeting/98/materials/agenda-98-payload-01\n
 \n
 Session materials: https://datatracker.ietf.org/meeting/98/session/payload\n
 \n
 See in schedule: https://datatracker.ietf.org/meeting/98/agenda#row-98-2017-03-28-tue-0900-art-payload\n
END:VEVENT
BEGIN:VEVENT
UID:ietf-98-8310-core
SUMMARY:core - Constrained RESTful Environments
LOCATION:Zurich C
STATUS:CONFIRMED
CLASS:PUBLIC
DTSTART;TZID=US/Central:20170328T130000
DTEND;TZID=US/Central:20170328T143000
DTSTAMP:20170217T121954Z
URL:https://datatracker.ietf.org/meeting/98/materials/agenda-98-core-00
DESCRIPTION:Afternoon Session I\n
 \n
 Meetecho: http://www.meetecho.com/ietf98/core/\n
 \n
 Agenda https://datatracker.ietf.org/meeting/98/materials/agenda-98-core-00\n
 \n
 Session materials: https://datatracker.ietf.org/meeting/98/session/core\n
 \n
 See in schedule: https://datatracker.ietf.org/meeting/98/agenda#row-98-2017-03-28-tue-1300-art-core\n
END:VEVENT
BEGIN:VEVENT
UID:ietf-98-8309-netvc
SUMMARY:netvc - Internet Video Codec
LOCATION:Zurich B
STATUS:CONFIRMED
CLASS:PUBLIC
DTSTART;TZID=US/Central:20170328T130000
DTEND;TZID=US/Central:20170328T143000
DTSTAMP:20170217T121954Z
URL:https://datatracker.ietf.org/meeting/98/materials/agenda-98-netvc-02
DESCRIPTION:Afternoon Session I\n
 \n
 Meetecho: http://www.meetecho.com/ietf98/netvc/\n
 \n
 Agenda https://datatracker.ietf.org/meeting/98/materials/agenda-98-netvc-02\n
 \n
 Session materials: https://datatracker.ietf.org/meeting/98/session/netvc\n
 \n
 See in schedule: https://datatracker.ietf.org/meeting/98/agenda#row-98-2017-03-28-tue-1300-art-netvc\n
END:VEVENT
BEGIN:VEVENT
UID:ietf-98-8303-capport
SUMMARY:capport - Captive Portal Interaction
LOCATION:Zurich D
STATUS:CONFIRMED
CLASS:PUBLIC
DTSTART;TZID=US/Central:20170328T145000
DTEND;TZID=US/Central:20170328T162000
DTSTAMP:20170217T122010Z
URL:https://datatracker.ietf.org/meeting/98/materials/agenda-98-capport-04
DESCRIPTION:Afternoon Session II\n
 \n
 Meetecho: http://www.meetecho.com/ietf98/capport/\n
 \n
 Agenda https://datatracker.ietf.org/meeting/98/materials/agenda-98-capport-04\n
 \n
 Session materials: https://datatracker.ietf.org/meeting/98/session/capport\n
 \n
 See in schedule: https://datatracker.ietf.org/meeting/98/agenda#row-98-2017-03-28-tue-1450-art-capport\n
END:VEVENT
BEGIN:VEVENT
UID:ietf-98-8305-uta
SUMMARY:uta - Using TLS in Applications
LOCATION:Zurich G
STATUS:CONFIRMED
CLASS:PUBLIC
DTSTART;TZID=US/Central:20170328T145000
DTEND;TZID=US/Central:20170328T162000
DTSTAMP:20170217T122010Z
URL:https://datatracker.ietf.org/meeting/98/materials/agenda-98-uta-02
DESCRIPTION:Afternoon Session II\n
 \n
 Meetecho: http://www.meetecho.com/ietf98/uta/\n
 \n
 Agenda https://datatracker.ietf.org/meeting/98/materials/agenda-98-uta-02\n
 \n
 Session materials: https://datatracker.ietf.org/meeting/98/session/uta\n
 \n
 See in schedule: https://datatracker.ietf.org/meeting/98/agenda#row-98-2017-03-28-tue-1450-art-uta\n
END:VEVENT
BEGIN:VEVENT
UID:ietf-98-8361-rtcweb
SUMMARY:rtcweb - Real-Time Communication in WEB-browsers
LOCATION:Zurich C
STATUS:CONFIRMED
CLASS:PUBLIC
DTSTART;TZID=US/Central:20170328T164000
DTEND;TZID=US/Central:20170328T184000
DTSTAMP:20170217T122100Z
URL:https://datatracker.ietf.org/meeting/98/materials/agenda-98-rtcweb-01
DESCRIPTION:Afternoon Session III\n
 \n
 Meetecho: http://www.meetecho.com/ietf98/rtcweb/\n
 \n
 Agenda https://datatracker.ietf.org/meeting/98/materials/agenda-98-rtcweb-01\n
 \n
 Session materials: https://datatracker.ietf.org/meeting/98/session/rtcweb\n
 \n
 See in schedule: https://datatracker.ietf.org/meeting/98/agenda#row-98-2017-03-28-tue-1640-art-rtcweb\n
END:VEVENT
BEGIN:VEVENT
UID:ietf-98-8290-perc
SUMMARY:perc - Privacy Enhanced RTP Conferencing 
LOCATION:Montreux 3
STATUS:CONFIRMED
CLASS:PUBLIC
DTSTART;TZID=US/Central:20170329T090000
DTEND;TZID=US/Central:20170329T113000
DTSTAMP:20170217T122118Z
URL:https://datatracker.ietf.org/meeting/98/materials/agenda-98-perc-01
DESCRIPTION:Morning Session I\n
 \n
 Meetecho: http://www.meetecho.com/ietf98/perc/\n
 \n
 Agenda https://datatracker.ietf.org/meeting/98/materials/agenda-98-perc-01\n
 \n
 Session materials: https://datatracker.ietf.org/meeting/98/session/perc\n
 \n
 See in schedule: https://datatracker.ietf.org/meeting/98/agenda#row-98-2017-03-29-wed-0900-art-perc\n
END:VEVENT
BEGIN:VEVENT
UID:ietf-98-8258-codec
SUMMARY:codec - Internet Wideband Audio Codec
LOCATION:Montreux 3
STATUS:CONFIRMED
CLASS:PUBLIC
DTSTART;TZID=US/Central:20170330T090000
DTEND;TZID=US/Central:20170330T113000
DTSTAMP:20170217T122155Z
URL:https://datatracker.ietf.org/meeting/98/materials/agenda-98-codec-00
DESCRIPTION:Morning Session I\n
 \n
 Meetecho: http://www.meetecho.com/ietf98/codec/\n
 \n
 Agenda https://datatracker.ietf.org/meeting/98/materials/agenda-98-codec-00\n
 \n
 Session materials: https://datatracker.ietf.org/meeting/98/session/codec\n
 \n
 See in schedule: https://datatracker.ietf.org/meeting/98/agenda#row-98-2017-03-30-thu-0900-art-codec\n
END:VEVENT
BEGIN:VEVENT
UID:ietf-98-8265-stir
SUMMARY:stir - Secure Telephone Identity Revisited
LOCATION:Zurich G
STATUS:CONFIRMED
CLASS:PUBLIC
DTSTART;TZID=US/Central:20170330T090000
DTEND;TZID=US/Central:20170330T113000
DTSTAMP:20170217T122155Z
URL:https://datatracker.ietf.org/meeting/98/materials/agenda-98-stir-01
DESCRIPTION:Morning Session I\n
 \n
 Meetecho: http://www.meetecho.com/ietf98/stir/\n
 \n
 Agenda https://datatracker.ietf.org/meeting/98/materials/agenda-98-stir-01\n
 \n
 Session materials: https://datatracker.ietf.org/meeting/98/session/stir\n
 \n
 See in schedule: https://datatracker.ietf.org/meeting/98/agenda#row-98-2017-03-30-thu-0900-art-stir\n
END:VEVENT
BEGIN:VEVENT
UID:ietf-98-8245-cbor
SUMMARY:cbor - Concise Binary Object Representation Maintenance and Extensions
LOCATION:Zurich B
STATUS:CONFIRMED
CLASS:PUBLIC
DTSTART;TZID=US/Central:20170330T130000
DTEND;TZID=US/Central:20170330T150000
DTSTAMP:20170217T122213Z
URL:https://datatracker.ietf.org/meeting/98/materials/agenda-98-cbor-01
DESCRIPTION:Afternoon Session I\n
 \n
 Meetecho: http://www.meetecho.com/ietf98/cbor/\n
 \n
 Agenda https://datatracker.ietf.org/meeting/98/materials/agenda-98-cbor-01\n
 \n
 Session materials: https://datatracker.ietf.org/meeting/98/session/cbor\n
 \n
 See in schedule: https://datatracker.ietf.org/meeting/98/agenda#row-98-2017-03-30-thu-1300-art-cbor\n
END:VEVENT
BEGIN:VEVENT
UID:ietf-98-8242-mmusic
SUMMARY:mmusic - Multiparty Multimedia Session Control
LOCATION:Montreux 3
STATUS:CONFIRMED
CLASS:PUBLIC
DTSTART;TZID=US/Central:20170330T130000
DTEND;TZID=US/Central:20170330T150000
DTSTAMP:20170217T122213Z
URL:https://datatracker.ietf.org/meeting/98/materials/agenda-98-mmusic-03
DESCRIPTION:Afternoon Session I\n
 \n
 Meetecho: http://www.meetecho.com/ietf98/mmusic/\n
 \n
 Agenda https://datatracker.ietf.org/meeting/98/materials/agenda-98-mmusic-03\n
 \n
 Session materials: https://datatracker.ietf.org/meeting/98/session/mmusic\n
 \n
 See in schedule: https://datatracker.ietf.org/meeting/98/agenda#row-98-2017-03-30-thu-1300-art-mmusic\n
END:VEVENT
BEGIN:VEVENT
UID:ietf-98-8243-regext
SUMMARY:regext - Registration Protocols Extensions
LOCATION:Vevey 1/2
STATUS:CONFIRMED
CLASS:PUBLIC
DTSTART;TZID=US/Central:20170330T130000
DTEND;TZID=US/Central:20170330T150000
DTSTAMP:20170217T122213Z
URL:https://datatracker.ietf.org/meeting/98/materials/agenda-98-regext-10
DESCRIPTION:Afternoon Session I\n
 \n
 Meetecho: http://www.meetecho.com/ietf98/regext/\n
 \n
 Agenda https://datatracker.ietf.org/meeting/98/materials/agenda-98-regext-10\n
 \n
 Session materials: https://datatracker.ietf.org/meeting/98/session/regext\n
 \n
 See in schedule: https://datatracker.ietf.org/meeting/98/agenda#row-98-2017-03-30-thu-1300-art-regext\n
END:VEVENT
BEGIN:VEVENT
UID:ietf-98-8241-jmap
SUMMARY:jmap - JSON Mail Access Protocol
LOCATION:Zurich G
STATUS:CONFIRMED
CLASS:PUBLIC
DTSTART;TZID=US/Central:20170330T152000
DTEND;TZID=US/Central:20170330T172000
DTSTAMP:20170217T122344Z
URL:https://datatracker.ietf.org/meeting/98/materials/agenda-98-jmap-01
DESCRIPTION:Afternoon Session II\n
 \n
 Meetecho: http://www.meetecho.com/ietf98/jmap/\n
 \n
 Agenda https://datatracker.ietf.org/meeting/98/materials/agenda-98-jmap-01\n
 \n
 Session materials: https://datatracker.ietf.org/meeting/98/session/jmap\n
 \n
 See in schedule: https://datatracker.ietf.org/meeting/98/agenda#row-98-2017-03-30-thu-1520-art-jmap\n
END:VEVENT
BEGIN:VEVENT
UID:ietf-98-8234-sipcore
SUMMARY:sipcore - Session Initiation Protocol Core
LOCATION:Montreux 3
STATUS:CONFIRMED
CLASS:PUBLIC
DTSTART;TZID=US/Central:20170330T152000
DTEND;TZID=US/Central:20170330T172000
DTSTAMP:20170217T122344Z
URL:https://datatracker.ietf.org/meeting/98/materials/agenda-98-sipcore-01
DESCRIPTION:Afternoon Session II\n
 \n
 Meetecho: http://www.meetecho.com/ietf98/sipcore/\n
 \n
 Agenda https://datatracker.ietf.org/meeting/98/materials/agenda-98-sipcore-01\n
 \n
 Session materials: https://datatracker.ietf.org/meeting/98/session/sipcore\n
 \n
 See in schedule: https://datatracker.ietf.org/meeting/98/agenda#row-98-2017-03-30-thu-1520-art-sipcore\n
END:VEVENT
BEGIN:VEVENT
UID:ietf-98-8227-httpbis
SUMMARY:httpbis - Hypertext Transfer Protocol
LOCATION:Vevey 1/2
STATUS:CONFIRMED
CLASS:PUBLIC
DTSTART;TZID=US/Central:20170331T090000
DTEND;TZID=US/Central:20170331T113000
DTSTAMP:20170217T122243Z
URL:https://datatracker.ietf.org/meeting/98/materials/agenda-98-httpbis-01
DESCRIPTION:Morning Session I\n
 \n
 Meetecho: http://www.meetecho.com/ietf98/httpbis/\n
 \n
 Agenda https://datatracker.ietf.org/meeting/98/materials/agenda-98-httpbis-01\n
 \n
 Session materials: https://datatracker.ietf.org/meeting/98/session/httpbis\n
 \n
 See in schedule: https://datatracker.ietf.org/meeting/98/agenda#row-98-2017-03-31-fri-0900-art-httpbis\n
END:VEVENT
BEGIN:VEVENT
UID:ietf-98-8222-core
SUMMARY:core - Constrained RESTful Environments
LOCATION:Zurich C
STATUS:CONFIRMED
CLASS:PUBLIC
DTSTART;TZID=US/Central:20170331T115000
DTEND;TZID=US/Central:20170331T132000
DTSTAMP:20170217T084517Z
URL:https://datatracker.ietf.org/meeting/98/materials/agenda-98-core-00
DESCRIPTION:Afternoon Session I\n
 \n
 Meetecho: http://www.meetecho.com/ietf98/core/\n
 \n
 Agenda https://datatracker.ietf.org/meeting/98/materials/agenda-98-core-00\n
 \n
 Session materials: https://datatracker.ietf.org/meeting/98/session/core\n
 \n
 See in schedule: https://datatracker.ietf.org/meeting/98/agenda#row-98-2017-03-31-fri-1150-art-core\n
END:VEVENT
BEGIN:VEVENT
UID:ietf-98-8220-rtcweb
SUMMARY:rtcweb - Real-Time Communication in WEB-browsers
LOCATION:Zurich A
STATUS:CONFIRMED
CLASS:PUBLIC
DTSTART;TZID=US/Central:20170331T115000
DTEND;TZID=US/Central:20170331T132000
DTSTAMP:20170217T084517Z
URL:https://datatracker.ietf.org/meeting/98/materials/agenda-98-rtcweb-01
DESCRIPTION:Afternoon Session I\n
 \n
 Meetecho: http://www.meetecho.com/ietf98/rtcweb/\n
 \n
 Agenda https://datatracker.ietf.org/meeting/98/materials/agenda-98-rtcweb-01\n
 \n
 Session materials: https://datatracker.ietf.org/meeting/98/session/rtcweb\n
 \n
 See in schedule: https://datatracker.ietf.org/meeting/98/agenda#row-98-2017-03-31-fri-1150-art-rtcweb\n
END:VEVENT
END:VCALENDAR
