BEGIN:VCALENDAR
VERSION:2.0
METHOD:PUBLISH
PRODID:-//IETF//datatracker.ietf.org ical agenda//EN
BEGIN:VTIMEZONE
TZID:America/Chicago
X-LIC-LOCATION:America/Chicago
BEGIN:DAYLIGHT
TZOFFSETFROM:-0600
TZOFFSETTO:-0500
TZNAME:CDT
DTSTART:20070311T020000
RRULE:FREQ=YEARLY;BYMONTH=3;BYDAY=2SU
END:DAYLIGHT
BEGIN:STANDARD
TZOFFSETFROM:-0500
TZOFFSETTO:-0600
TZNAME:CST
DTSTART:20071104T020000
RRULE:FREQ=YEARLY;BYMONTH=11;BYDAY=1SU
END:STANDARD
BEGIN:STANDARD
TZOFFSETFROM:-055036
TZOFFSETTO:-0600
TZNAME:CST
DTSTART:18831118T120924
RDATE:18831118T120924
END:STANDARD
BEGIN:DAYLIGHT
TZOFFSETFROM:-0600
TZOFFSETTO:-0500
TZNAME:CDT
DTSTART:19180331T020000
RDATE:19180331T020000
RDATE:19190330T020000
RDATE:19200613T020000
RDATE:19210327T020000
RDATE:19220430T020000
RDATE:19230429T020000
RDATE:19240427T020000
RDATE:19250426T020000
RDATE:19260425T020000
RDATE:19270424T020000
RDATE:19280429T020000
RDATE:19290428T020000
RDATE:19300427T020000
RDATE:19310426T020000
RDATE:19320424T020000
RDATE:19330430T020000
RDATE:19340429T020000
RDATE:19350428T020000
RDATE:19370425T020000
RDATE:19380424T020000
RDATE:19390430T020000
RDATE:19400428T020000
RDATE:19410427T020000
RDATE:19460428T020000
RDATE:19470427T020000
RDATE:19480425T020000
RDATE:19490424T020000
RDATE:19500430T020000
RDATE:19510429T020000
RDATE:19520427T020000
RDATE:19530426T020000
RDATE:19540425T020000
RDATE:19550424T020000
RDATE:19560429T020000
RDATE:19570428T020000
RDATE:19580427T020000
RDATE:19590426T020000
RDATE:19600424T020000
RDATE:19610430T020000
RDATE:19620429T020000
RDATE:19630428T020000
RDATE:19640426T020000
RDATE:19650425T020000
RDATE:19660424T020000
RDATE:19670430T020000
RDATE:19680428T020000
RDATE:19690427T020000
RDATE:19700426T020000
RDATE:19710425T020000
RDATE:19720430T020000
RDATE:19730429T020000
RDATE:19740106T020000
RDATE:19750223T020000
RDATE:19760425T020000
RDATE:19770424T020000
RDATE:19780430T020000
RDATE:19790429T020000
RDATE:19800427T020000
RDATE:19810426T020000
RDATE:19820425T020000
RDATE:19830424T020000
RDATE:19840429T020000
RDATE:19850428T020000
RDATE:19860427T020000
RDATE:19870405T020000
RDATE:19880403T020000
RDATE:19890402T020000
RDATE:19900401T020000
RDATE:19910407T020000
RDATE:19920405T020000
RDATE:19930404T020000
RDATE:19940403T020000
RDATE:19950402T020000
RDATE:19960407T020000
RDATE:19970406T020000
RDATE:19980405T020000
RDATE:19990404T020000
RDATE:20000402T020000
RDATE:20010401T020000
RDATE:20020407T020000
RDATE:20030406T020000
RDATE:20040404T020000
RDATE:20050403T020000
RDATE:20060402T020000
END:DAYLIGHT
BEGIN:STANDARD
TZOFFSETFROM:-0500
TZOFFSETTO:-0600
TZNAME:CST
DTSTART:19181027T020000
RDATE:19181027T020000
RDATE:19191026T020000
RDATE:19201031T020000
RDATE:19211030T020000
RDATE:19220924T020000
RDATE:19230930T020000
RDATE:19240928T020000
RDATE:19250927T020000
RDATE:19260926T020000
RDATE:19270925T020000
RDATE:19280930T020000
RDATE:19290929T020000
RDATE:19300928T020000
RDATE:19310927T020000
RDATE:19320925T020000
RDATE:19330924T020000
RDATE:19340930T020000
RDATE:19350929T020000
RDATE:19361115T020000
RDATE:19370926T020000
RDATE:19380925T020000
RDATE:19390924T020000
RDATE:19400929T020000
RDATE:19410928T020000
RDATE:19450930T020000
RDATE:19460929T020000
RDATE:19470928T020000
RDATE:19480926T020000
RDATE:19490925T020000
RDATE:19500924T020000
RDATE:19510930T020000
RDATE:19520928T020000
RDATE:19530927T020000
RDATE:19540926T020000
RDATE:19551030T020000
RDATE:19561028T020000
RDATE:19571027T020000
RDATE:19581026T020000
RDATE:19591025T020000
RDATE:19601030T020000
RDATE:19611029T020000
RDATE:19621028T020000
RDATE:19631027T020000
RDATE:19641025T020000
RDATE:19651031T020000
RDATE:19661030T020000
RDATE:19671029T020000
RDATE:19681027T020000
RDATE:19691026T020000
RDATE:19701025T020000
RDATE:19711031T020000
RDATE:19721029T020000
RDATE:19731028T020000
RDATE:19741027T020000
RDATE:19751026T020000
RDATE:19761031T020000
RDATE:19771030T020000
RDATE:19781029T020000
RDATE:19791028T020000
RDATE:19801026T020000
RDATE:19811025T020000
RDATE:19821031T020000
RDATE:19831030T020000
RDATE:19841028T020000
RDATE:19851027T020000
RDATE:19861026T020000
RDATE:19871025T020000
RDATE:19881030T020000
RDATE:19891029T020000
RDATE:19901028T020000
RDATE:19911027T020000
RDATE:19921025T020000
RDATE:19931031T020000
RDATE:19941030T020000
RDATE:19951029T020000
RDATE:19961027T020000
RDATE:19971026T020000
RDATE:19981025T020000
RDATE:19991031T020000
RDATE:20001029T020000
RDATE:20011028T020000
RDATE:20021027T020000
RDATE:20031026T020000
RDATE:20041031T020000
RDATE:20051030T020000
RDATE:20061029T020000
END:STANDARD
BEGIN:STANDARD
TZOFFSETFROM:-0600
TZOFFSETTO:-0600
TZNAME:CST
DTSTART:19200101T000000
RDATE:19200101T000000
RDATE:19420101T000000
RDATE:19460101T000000
RDATE:19670101T000000
END:STANDARD
BEGIN:STANDARD
TZOFFSETFROM:-0600
TZOFFSETTO:-0500
TZNAME:EST
DTSTART:19360301T020000
RDATE:19360301T020000
END:STANDARD
BEGIN:DAYLIGHT
TZOFFSETFROM:-0600
TZOFFSETTO:-0500
TZNAME:CWT
DTSTART:19420209T020000
RDATE:19420209T020000
END:DAYLIGHT
BEGIN:DAYLIGHT
TZOFFSETFROM:-0500
TZOFFSETTO:-0500
TZNAME:CPT
DTSTART:19450814T180000
RDATE:19450814T180000
END:DAYLIGHT
END:VTIMEZONE
BEGIN:VEVENT
UID:ietf-98-8429-hackathon
SUMMARY:IETF Hackathon
LOCATION:Vevey 1/2
STATUS:CONFIRMED
CLASS:PUBLIC
DTSTART;TZID=US/Central:20170325T090000
DTEND;TZID=US/Central:20170325T210000
DTSTAMP:20170224T143539Z
URL:https://datatracker.ietf.org/meeting/98/materials/agenda-98-hackathon-04
DESCRIPTION:IETF Hackathon\n
 \n
 Meetecho: http://www.meetecho.com/ietf98/hackathon/\n
 \n
 Agenda https://datatracker.ietf.org/meeting/98/materials/agenda-98-hackathon-04\n
 \n
 Session materials: https://datatracker.ietf.org/meeting/98/session/hackathon\n
 \n
 See in schedule: https://datatracker.ietf.org/meeting/98/agenda#row-98-2017-03-25-sat-0900-hackathon-ietf-hackathon\n
END:VEVENT
BEGIN:VEVENT
UID:ietf-98-8428-tools
SUMMARY:Code Sprint
LOCATION:Vevey 3
STATUS:CONFIRMED
CLASS:PUBLIC
DTSTART;TZID=US/Central:20170325T093000
DTEND;TZID=US/Central:20170325T173000
DTSTAMP:20170224T125915Z
DESCRIPTION:Code Sprint\n
 \n
 Session materials: https://datatracker.ietf.org/meeting/98/session/tools\n
 \n
 See in schedule: https://datatracker.ietf.org/meeting/98/agenda#row-98-2017-03-25-sat-0930-tools-code-sprint\n
END:VEVENT
BEGIN:VEVENT
UID:ietf-98-8426-hackathon
SUMMARY:IETF Hackathon
LOCATION:Vevey 1/2
STATUS:CONFIRMED
CLASS:PUBLIC
DTSTART;TZID=US/Central:20170326T090000
DTEND;TZID=US/Central:20170326T160000
DTSTAMP:20170224T144008Z
URL:https://datatracker.ietf.org/meeting/98/materials/agenda-98-hackathon-04
DESCRIPTION:IETF Hackathon\n
 \n
 Meetecho: http://www.meetecho.com/ietf98/hackathon/\n
 \n
 Agenda https://datatracker.ietf.org/meeting/98/materials/agenda-98-hackathon-04\n
 \n
 Session materials: https://datatracker.ietf.org/meeting/98/session/hackathon\n
 \n
 See in schedule: https://datatracker.ietf.org/meeting/98/agenda#row-98-2017-03-26-sun-0900-hackathon-ietf-hackathon\n
END:VEVENT
BEGIN:VEVENT
UID:ietf-98-8424-iepg
SUMMARY:IEPG Meeting
LOCATION:Zurich G
STATUS:CONFIRMED
CLASS:PUBLIC
DTSTART;TZID=US/Central:20170326T100000
DTEND;TZID=US/Central:20170326T120000
DTSTAMP:20170224T140657Z
DESCRIPTION:IEPG Meeting\n
 \n
 Meetecho: http://www.meetecho.com/ietf98/iepg/\n
 \n
 Session materials: https://datatracker.ietf.org/meeting/98/session/iepg\n
 \n
 See in schedule: https://datatracker.ietf.org/meeting/98/agenda#row-98-2017-03-26-sun-1000-iepg-iepg-meeting\n
END:VEVENT
BEGIN:VEVENT
UID:ietf-98-8438-edu
SUMMARY:Independent Stream
LOCATION:Zurich G
STATUS:CONFIRMED
CLASS:PUBLIC
DTSTART;TZID=US/Central:20170326T123000
DTEND;TZID=US/Central:20170326T133000
DTSTAMP:20170224T141018Z
DESCRIPTION:Independent Stream\n
 \n
 Meetecho: http://www.meetecho.com/ietf98/edu/\n
 \n
 Session materials: https://datatracker.ietf.org/meeting/98/session/edu\n
 \n
 See in schedule: https://datatracker.ietf.org/meeting/98/agenda#row-98-2017-03-26-sun-1230-edu-independent-stream\n
END:VEVENT
BEGIN:VEVENT
UID:ietf-98-8419-edu
SUMMARY:Newcomer's Tutorial
LOCATION:Zurich A
STATUS:CONFIRMED
CLASS:PUBLIC
DTSTART;TZID=US/Central:20170326T123000
DTEND;TZID=US/Central:20170326T133000
DTSTAMP:20170224T141229Z
DESCRIPTION:Newcomer's Tutorial\n
 \n
 Meetecho: http://www.meetecho.com/ietf98/edu/\n
 \n
 Session materials: https://datatracker.ietf.org/meeting/98/session/edu\n
 \n
 See in schedule: https://datatracker.ietf.org/meeting/98/agenda#row-98-2017-03-26-sun-1230-edu-newcomers-tutorial\n
END:VEVENT
BEGIN:VEVENT
UID:ietf-98-8440-edu
SUMMARY:IRTF Overview (CANCELED)
LOCATION:Zurich A
STATUS:CANCELLED
CLASS:PUBLIC
DTSTART;TZID=US/Central:20170326T134500
DTEND;TZID=US/Central:20170326T144500
DTSTAMP:20170224T141240Z
DESCRIPTION:IRTF Overview\n
 Note: CANCELED\n
 \n
 Meetecho: http://www.meetecho.com/ietf98/edu/\n
 \n
 Session materials: https://datatracker.ietf.org/meeting/98/session/edu\n
 \n
 See in schedule: https://datatracker.ietf.org/meeting/98/agenda#row-98-2017-03-26-sun-1345-edu-irtf-overview\n
END:VEVENT
BEGIN:VEVENT
UID:ietf-98-8439-edu
SUMMARY:Security Considerations
LOCATION:Zurich G
STATUS:CONFIRMED
CLASS:PUBLIC
DTSTART;TZID=US/Central:20170326T134500
DTEND;TZID=US/Central:20170326T144500
DTSTAMP:20170224T141339Z
DESCRIPTION:Security Considerations\n
 \n
 Meetecho: http://www.meetecho.com/ietf98/edu/\n
 \n
 Session materials: https://datatracker.ietf.org/meeting/98/session/edu\n
 \n
 See in schedule: https://datatracker.ietf.org/meeting/98/agenda#row-98-2017-03-26-sun-1345-edu-security-considerations\n
END:VEVENT
BEGIN:VEVENT
UID:ietf-98-8481-edu
SUMMARY:Speed Mentoring
LOCATION:Lucerne Ballroom
STATUS:CONFIRMED
CLASS:PUBLIC
DTSTART;TZID=US/Central:20170326T134500
DTEND;TZID=US/Central:20170326T144500
DTSTAMP:20170315T085230Z
DESCRIPTION:Speed Mentoring\n
 \n
 Session materials: https://datatracker.ietf.org/meeting/98/session/edu\n
 \n
 See in schedule: https://datatracker.ietf.org/meeting/98/agenda#row-98-2017-03-26-sun-1345-edu-speed-mentoring\n
END:VEVENT
BEGIN:VEVENT
UID:ietf-98-8441-edu
SUMMARY:QUIC Tutorial
LOCATION:Zurich E/F
STATUS:CONFIRMED
CLASS:PUBLIC
DTSTART;TZID=US/Central:20170326T150000
DTEND;TZID=US/Central:20170326T160000
DTSTAMP:20170224T141719Z
DESCRIPTION:QUIC Tutorial\n
 \n
 Meetecho: http://www.meetecho.com/ietf98/edu/\n
 \n
 Session materials: https://datatracker.ietf.org/meeting/98/session/edu\n
 \n
 See in schedule: https://datatracker.ietf.org/meeting/98/agenda#row-98-2017-03-26-sun-1500-edu-quic-tutorial\n
END:VEVENT
BEGIN:VEVENT
UID:ietf-98-8413-edu
SUMMARY:Newcomers' Meet and Greet (open to Newcomers\, WG chairs and Mentors only)
LOCATION:Alpine Ballroom
STATUS:CONFIRMED
CLASS:PUBLIC
DTSTART;TZID=US/Central:20170326T160000
DTEND;TZID=US/Central:20170326T170000
DTSTAMP:20170228T132138Z
DESCRIPTION:Newcomers' Meet and Greet (open to Newcomers\, WG chairs and Mentors only)\n
 \n
 Session materials: https://datatracker.ietf.org/meeting/98/session/edu\n
 \n
 See in schedule: https://datatracker.ietf.org/meeting/98/agenda#row-98-2017-03-26-sun-1600-edu-newcomers-meet-and-greet-open-to-newcomers-wg-chairs-and-mentors-only\n
END:VEVENT
BEGIN:VEVENT
UID:ietf-98-8323-casm
SUMMARY:casm - Coordinated Address Space Management
LOCATION:Vevey 1/2
STATUS:CONFIRMED
CLASS:PUBLIC
DTSTART;TZID=US/Central:20170327T152000
DTEND;TZID=US/Central:20170327T165000
DTSTAMP:20170217T121913Z
URL:https://datatracker.ietf.org/meeting/98/materials/agenda-98-casm-00
DESCRIPTION:Afternoon Session II\n
 \n
 Meetecho: http://www.meetecho.com/ietf98/casm/\n
 \n
 Agenda https://datatracker.ietf.org/meeting/98/materials/agenda-98-casm-00\n
 \n
 Session materials: https://datatracker.ietf.org/meeting/98/session/casm\n
 \n
 See in schedule: https://datatracker.ietf.org/meeting/98/agenda#row-98-2017-03-27-mon-1520-ops-casm\n
END:VEVENT
BEGIN:VEVENT
UID:ietf-98-8353-wugh
SUMMARY:wugh - WGs Using GitHub
LOCATION:Zurich E/F
STATUS:CONFIRMED
CLASS:PUBLIC
DTSTART;TZID=US/Central:20170327T171000
DTEND;TZID=US/Central:20170327T181000
DTSTAMP:20170217T122303Z
URL:https://datatracker.ietf.org/meeting/98/materials/agenda-98-wugh-00
DESCRIPTION:Afternoon Session III\n
 \n
 Meetecho: http://www.meetecho.com/ietf98/wugh/\n
 \n
 Agenda https://datatracker.ietf.org/meeting/98/materials/agenda-98-wugh-00\n
 \n
 Session materials: https://datatracker.ietf.org/meeting/98/session/wugh\n
 \n
 See in schedule: https://datatracker.ietf.org/meeting/98/agenda#row-98-2017-03-27-mon-1710-gen-wugh\n
END:VEVENT
BEGIN:VEVENT
UID:ietf-98-8304-teep
SUMMARY:teep - A Protocol for Dynamic Trusted Execution Environment Enablement
LOCATION:Zurich E/F
STATUS:CONFIRMED
CLASS:PUBLIC
DTSTART;TZID=US/Central:20170328T145000
DTEND;TZID=US/Central:20170328T162000
DTSTAMP:20170217T122010Z
URL:https://datatracker.ietf.org/meeting/98/materials/agenda-98-teep-00
DESCRIPTION:Afternoon Session II\n
 \n
 Meetecho: http://www.meetecho.com/ietf98/teep/\n
 \n
 Agenda https://datatracker.ietf.org/meeting/98/materials/agenda-98-teep-00\n
 \n
 Session materials: https://datatracker.ietf.org/meeting/98/session/teep\n
 \n
 See in schedule: https://datatracker.ietf.org/meeting/98/agenda#row-98-2017-03-28-tue-1450-sec-teep\n
END:VEVENT
BEGIN:VEVENT
UID:ietf-98-8459-edu
SUMMARY:WG Chairs Forum (For WG Chairs Only)
LOCATION:Vevey 1/2
STATUS:CONFIRMED
CLASS:PUBLIC
DTSTART;TZID=US/Central:20170329T113000
DTEND;TZID=US/Central:20170329T123000
DTSTAMP:20170227T104712Z
URL:https://datatracker.ietf.org/meeting/98/materials/agenda-98-edu-01
DESCRIPTION:WG Chairs Forum (For WG Chairs Only)\n
 \n
 Meetecho: http://www.meetecho.com/ietf98/edu/\n
 \n
 Agenda https://datatracker.ietf.org/meeting/98/materials/agenda-98-edu-01\n
 \n
 Session materials: https://datatracker.ietf.org/meeting/98/session/edu\n
 \n
 See in schedule: https://datatracker.ietf.org/meeting/98/agenda#row-98-2017-03-29-wed-1130-edu-wg-chairs-forum-for-wg-chairs-only\n
END:VEVENT
BEGIN:VEVENT
UID:ietf-98-8275-iasa20
SUMMARY:iasa20 - IASA 2.0
LOCATION:Vevey 1/2
STATUS:CONFIRMED
CLASS:PUBLIC
DTSTART;TZID=US/Central:20170329T130000
DTEND;TZID=US/Central:20170329T150000
DTSTAMP:20170217T122139Z
URL:https://datatracker.ietf.org/meeting/98/materials/agenda-98-iasa20-01
DESCRIPTION:Afternoon Session I\n
 \n
 Meetecho: http://www.meetecho.com/ietf98/iasa20/\n
 \n
 Agenda https://datatracker.ietf.org/meeting/98/materials/agenda-98-iasa20-01\n
 \n
 Session materials: https://datatracker.ietf.org/meeting/98/session/iasa20\n
 \n
 See in schedule: https://datatracker.ietf.org/meeting/98/agenda#row-98-2017-03-29-wed-1300-gen-iasa20\n
END:VEVENT
BEGIN:VEVENT
UID:ietf-98-8437-ietf
SUMMARY:IETF Operations\, Administration\, and Technical Plenary
LOCATION:Zurich D E F G
STATUS:CONFIRMED
CLASS:PUBLIC
DTSTART;TZID=US/Central:20170329T153000
DTEND;TZID=US/Central:20170329T183000
DTSTAMP:20170224T125636Z
URL:https://datatracker.ietf.org/meeting/98/materials/agenda-98-ietf-sessc-05
DESCRIPTION:IETF Operations\, Administration\, and Technical Plenary\n
 \n
 Meetecho: http://www.meetecho.com/ietf98/plenary\n
 \n
 Agenda https://datatracker.ietf.org/meeting/98/materials/agenda-98-ietf-sessc-05\n
 \n
 Session materials: https://datatracker.ietf.org/meeting/98/session/ietf\n
 \n
 See in schedule: https://datatracker.ietf.org/meeting/98/agenda#row-98-2017-03-29-wed-1530-1plenary-ietf\n
END:VEVENT
BEGIN:VEVENT
UID:ietf-98-8442-edu
SUMMARY:Thursday Lunch Speaker Series
LOCATION:Zurich E/F
STATUS:CONFIRMED
CLASS:PUBLIC
DTSTART;TZID=US/Central:20170330T120000
DTEND;TZID=US/Central:20170330T124500
DTSTAMP:20170224T142521Z
DESCRIPTION:Thursday Lunch Speaker Series\n
 \n
 Meetecho: http://www.meetecho.com/ietf98/edu/\n
 \n
 Session materials: https://datatracker.ietf.org/meeting/98/session/edu\n
 \n
 See in schedule: https://datatracker.ietf.org/meeting/98/agenda#row-98-2017-03-30-thu-1200-edu-thursday-lunch-speaker-series\n
END:VEVENT
END:VCALENDAR
