BEGIN:VCALENDAR
VERSION:2.0
METHOD:PUBLISH
PRODID:-//IETF//datatracker.ietf.org ical agenda//EN
BEGIN:VTIMEZONE
TZID:America/Chicago
X-LIC-LOCATION:America/Chicago
BEGIN:DAYLIGHT
TZOFFSETFROM:-0600
TZOFFSETTO:-0500
TZNAME:CDT
DTSTART:20070311T020000
RRULE:FREQ=YEARLY;BYMONTH=3;BYDAY=2SU
END:DAYLIGHT
BEGIN:STANDARD
TZOFFSETFROM:-0500
TZOFFSETTO:-0600
TZNAME:CST
DTSTART:20071104T020000
RRULE:FREQ=YEARLY;BYMONTH=11;BYDAY=1SU
END:STANDARD
BEGIN:STANDARD
TZOFFSETFROM:-055036
TZOFFSETTO:-0600
TZNAME:CST
DTSTART:18831118T120924
RDATE:18831118T120924
END:STANDARD
BEGIN:DAYLIGHT
TZOFFSETFROM:-0600
TZOFFSETTO:-0500
TZNAME:CDT
DTSTART:19180331T020000
RDATE:19180331T020000
RDATE:19190330T020000
RDATE:19200613T020000
RDATE:19210327T020000
RDATE:19220430T020000
RDATE:19230429T020000
RDATE:19240427T020000
RDATE:19250426T020000
RDATE:19260425T020000
RDATE:19270424T020000
RDATE:19280429T020000
RDATE:19290428T020000
RDATE:19300427T020000
RDATE:19310426T020000
RDATE:19320424T020000
RDATE:19330430T020000
RDATE:19340429T020000
RDATE:19350428T020000
RDATE:19370425T020000
RDATE:19380424T020000
RDATE:19390430T020000
RDATE:19400428T020000
RDATE:19410427T020000
RDATE:19460428T020000
RDATE:19470427T020000
RDATE:19480425T020000
RDATE:19490424T020000
RDATE:19500430T020000
RDATE:19510429T020000
RDATE:19520427T020000
RDATE:19530426T020000
RDATE:19540425T020000
RDATE:19550424T020000
RDATE:19560429T020000
RDATE:19570428T020000
RDATE:19580427T020000
RDATE:19590426T020000
RDATE:19600424T020000
RDATE:19610430T020000
RDATE:19620429T020000
RDATE:19630428T020000
RDATE:19640426T020000
RDATE:19650425T020000
RDATE:19660424T020000
RDATE:19670430T020000
RDATE:19680428T020000
RDATE:19690427T020000
RDATE:19700426T020000
RDATE:19710425T020000
RDATE:19720430T020000
RDATE:19730429T020000
RDATE:19740106T020000
RDATE:19750223T020000
RDATE:19760425T020000
RDATE:19770424T020000
RDATE:19780430T020000
RDATE:19790429T020000
RDATE:19800427T020000
RDATE:19810426T020000
RDATE:19820425T020000
RDATE:19830424T020000
RDATE:19840429T020000
RDATE:19850428T020000
RDATE:19860427T020000
RDATE:19870405T020000
RDATE:19880403T020000
RDATE:19890402T020000
RDATE:19900401T020000
RDATE:19910407T020000
RDATE:19920405T020000
RDATE:19930404T020000
RDATE:19940403T020000
RDATE:19950402T020000
RDATE:19960407T020000
RDATE:19970406T020000
RDATE:19980405T020000
RDATE:19990404T020000
RDATE:20000402T020000
RDATE:20010401T020000
RDATE:20020407T020000
RDATE:20030406T020000
RDATE:20040404T020000
RDATE:20050403T020000
RDATE:20060402T020000
END:DAYLIGHT
BEGIN:STANDARD
TZOFFSETFROM:-0500
TZOFFSETTO:-0600
TZNAME:CST
DTSTART:19181027T020000
RDATE:19181027T020000
RDATE:19191026T020000
RDATE:19201031T020000
RDATE:19211030T020000
RDATE:19220924T020000
RDATE:19230930T020000
RDATE:19240928T020000
RDATE:19250927T020000
RDATE:19260926T020000
RDATE:19270925T020000
RDATE:19280930T020000
RDATE:19290929T020000
RDATE:19300928T020000
RDATE:19310927T020000
RDATE:19320925T020000
RDATE:19330924T020000
RDATE:19340930T020000
RDATE:19350929T020000
RDATE:19361115T020000
RDATE:19370926T020000
RDATE:19380925T020000
RDATE:19390924T020000
RDATE:19400929T020000
RDATE:19410928T020000
RDATE:19450930T020000
RDATE:19460929T020000
RDATE:19470928T020000
RDATE:19480926T020000
RDATE:19490925T020000
RDATE:19500924T020000
RDATE:19510930T020000
RDATE:19520928T020000
RDATE:19530927T020000
RDATE:19540926T020000
RDATE:19551030T020000
RDATE:19561028T020000
RDATE:19571027T020000
RDATE:19581026T020000
RDATE:19591025T020000
RDATE:19601030T020000
RDATE:19611029T020000
RDATE:19621028T020000
RDATE:19631027T020000
RDATE:19641025T020000
RDATE:19651031T020000
RDATE:19661030T020000
RDATE:19671029T020000
RDATE:19681027T020000
RDATE:19691026T020000
RDATE:19701025T020000
RDATE:19711031T020000
RDATE:19721029T020000
RDATE:19731028T020000
RDATE:19741027T020000
RDATE:19751026T020000
RDATE:19761031T020000
RDATE:19771030T020000
RDATE:19781029T020000
RDATE:19791028T020000
RDATE:19801026T020000
RDATE:19811025T020000
RDATE:19821031T020000
RDATE:19831030T020000
RDATE:19841028T020000
RDATE:19851027T020000
RDATE:19861026T020000
RDATE:19871025T020000
RDATE:19881030T020000
RDATE:19891029T020000
RDATE:19901028T020000
RDATE:19911027T020000
RDATE:19921025T020000
RDATE:19931031T020000
RDATE:19941030T020000
RDATE:19951029T020000
RDATE:19961027T020000
RDATE:19971026T020000
RDATE:19981025T020000
RDATE:19991031T020000
RDATE:20001029T020000
RDATE:20011028T020000
RDATE:20021027T020000
RDATE:20031026T020000
RDATE:20041031T020000
RDATE:20051030T020000
RDATE:20061029T020000
END:STANDARD
BEGIN:STANDARD
TZOFFSETFROM:-0600
TZOFFSETTO:-0600
TZNAME:CST
DTSTART:19200101T000000
RDATE:19200101T000000
RDATE:19420101T000000
RDATE:19460101T000000
RDATE:19670101T000000
END:STANDARD
BEGIN:STANDARD
TZOFFSETFROM:-0600
TZOFFSETTO:-0500
TZNAME:EST
DTSTART:19360301T020000
RDATE:19360301T020000
END:STANDARD
BEGIN:DAYLIGHT
TZOFFSETFROM:-0600
TZOFFSETTO:-0500
TZNAME:CWT
DTSTART:19420209T020000
RDATE:19420209T020000
END:DAYLIGHT
BEGIN:DAYLIGHT
TZOFFSETFROM:-0500
TZOFFSETTO:-0500
TZNAME:CPT
DTSTART:19450814T180000
RDATE:19450814T180000
END:DAYLIGHT
END:VTIMEZONE
BEGIN:VEVENT
UID:ietf-98-8342-ace
SUMMARY:ace - Authentication and Authorization for Constrained Environments
LOCATION:Zurich C
STATUS:CONFIRMED
CLASS:PUBLIC
DTSTART;TZID=US/Central:20170327T090000
DTEND;TZID=US/Central:20170327T113000
DTSTAMP:20170217T121853Z
URL:https://datatracker.ietf.org/meeting/98/materials/agenda-98-ace-03
DESCRIPTION:Morning Session I\n
 \n
 Meetecho: http://www.meetecho.com/ietf98/ace/\n
 \n
 Agenda https://datatracker.ietf.org/meeting/98/materials/agenda-98-ace-03\n
 \n
 Session materials: https://datatracker.ietf.org/meeting/98/session/ace\n
 \n
 See in schedule: https://datatracker.ietf.org/meeting/98/agenda#row-98-2017-03-27-mon-0900-sec-ace\n
END:VEVENT
BEGIN:VEVENT
UID:ietf-98-8334-i2nsf
SUMMARY:i2nsf - Interface to Network Security Functions
LOCATION:Zurich C
STATUS:CONFIRMED
CLASS:PUBLIC
DTSTART;TZID=US/Central:20170327T130000
DTEND;TZID=US/Central:20170327T150000
DTSTAMP:20170217T121902Z
URL:https://datatracker.ietf.org/meeting/98/materials/agenda-98-i2nsf-01
DESCRIPTION:Afternoon Session I\n
 \n
 Meetecho: http://www.meetecho.com/ietf98/i2nsf/\n
 \n
 Agenda https://datatracker.ietf.org/meeting/98/materials/agenda-98-i2nsf-01\n
 \n
 Session materials: https://datatracker.ietf.org/meeting/98/session/i2nsf\n
 \n
 See in schedule: https://datatracker.ietf.org/meeting/98/agenda#row-98-2017-03-27-mon-1300-sec-i2nsf\n
END:VEVENT
BEGIN:VEVENT
UID:ietf-98-8322-mile
SUMMARY:mile - Managed Incident Lightweight Exchange
LOCATION:Montreux 3
STATUS:CONFIRMED
CLASS:PUBLIC
DTSTART;TZID=US/Central:20170327T152000
DTEND;TZID=US/Central:20170327T165000
DTSTAMP:20170217T121913Z
URL:https://datatracker.ietf.org/meeting/98/materials/agenda-98-mile-00
DESCRIPTION:Afternoon Session II\n
 \n
 Meetecho: http://www.meetecho.com/ietf98/mile/\n
 \n
 Agenda https://datatracker.ietf.org/meeting/98/materials/agenda-98-mile-00\n
 \n
 Session materials: https://datatracker.ietf.org/meeting/98/session/mile\n
 \n
 See in schedule: https://datatracker.ietf.org/meeting/98/agenda#row-98-2017-03-27-mon-1520-sec-mile\n
END:VEVENT
BEGIN:VEVENT
UID:ietf-98-8324-tokbind
SUMMARY:tokbind - Token Binding
LOCATION:Zurich A
STATUS:CONFIRMED
CLASS:PUBLIC
DTSTART;TZID=US/Central:20170327T152000
DTEND;TZID=US/Central:20170327T165000
DTSTAMP:20170217T121913Z
URL:https://datatracker.ietf.org/meeting/98/materials/agenda-98-tokbind-02
DESCRIPTION:Afternoon Session II\n
 \n
 Meetecho: http://www.meetecho.com/ietf98/tokbind/\n
 \n
 Agenda https://datatracker.ietf.org/meeting/98/materials/agenda-98-tokbind-02\n
 \n
 Session materials: https://datatracker.ietf.org/meeting/98/session/tokbind\n
 \n
 See in schedule: https://datatracker.ietf.org/meeting/98/agenda#row-98-2017-03-27-mon-1520-sec-tokbind\n
END:VEVENT
BEGIN:VEVENT
UID:ietf-98-8347-curdle
SUMMARY:curdle - CURves, Deprecating and a Little more Encryption
LOCATION:Montreux 3
STATUS:CONFIRMED
CLASS:PUBLIC
DTSTART;TZID=US/Central:20170327T171000
DTEND;TZID=US/Central:20170327T181000
DTSTAMP:20170217T122303Z
URL:https://datatracker.ietf.org/meeting/98/materials/agenda-98-curdle-00
DESCRIPTION:Afternoon Session III\n
 \n
 Meetecho: http://www.meetecho.com/ietf98/curdle/\n
 \n
 Agenda https://datatracker.ietf.org/meeting/98/materials/agenda-98-curdle-00\n
 \n
 Session materials: https://datatracker.ietf.org/meeting/98/session/curdle\n
 \n
 See in schedule: https://datatracker.ietf.org/meeting/98/agenda#row-98-2017-03-27-mon-1710-sec-curdle\n
END:VEVENT
BEGIN:VEVENT
UID:ietf-98-8351-oauth
SUMMARY:oauth - Web Authorization Protocol
LOCATION:Zurich C
STATUS:CONFIRMED
CLASS:PUBLIC
DTSTART;TZID=US/Central:20170327T171000
DTEND;TZID=US/Central:20170327T181000
DTSTAMP:20170217T122303Z
URL:https://datatracker.ietf.org/meeting/98/materials/agenda-98-oauth-01
DESCRIPTION:Afternoon Session III\n
 \n
 Meetecho: http://www.meetecho.com/ietf98/oauth/\n
 \n
 Agenda https://datatracker.ietf.org/meeting/98/materials/agenda-98-oauth-01\n
 \n
 Session materials: https://datatracker.ietf.org/meeting/98/session/oauth\n
 \n
 See in schedule: https://datatracker.ietf.org/meeting/98/agenda#row-98-2017-03-27-mon-1710-sec-oauth\n
END:VEVENT
BEGIN:VEVENT
UID:ietf-98-8320-tls
SUMMARY:tls - Transport Layer Security
LOCATION:Zurich E/F
STATUS:CONFIRMED
CLASS:PUBLIC
DTSTART;TZID=US/Central:20170328T090000
DTEND;TZID=US/Central:20170328T113000
DTSTAMP:20170217T121938Z
URL:https://datatracker.ietf.org/meeting/98/materials/agenda-98-tls-01
DESCRIPTION:Morning Session I\n
 \n
 Meetecho: http://www.meetecho.com/ietf98/tls/\n
 \n
 Agenda https://datatracker.ietf.org/meeting/98/materials/agenda-98-tls-01\n
 \n
 Session materials: https://datatracker.ietf.org/meeting/98/session/tls\n
 \n
 See in schedule: https://datatracker.ietf.org/meeting/98/agenda#row-98-2017-03-28-tue-0900-sec-tls\n
END:VEVENT
BEGIN:VEVENT
UID:ietf-98-8306-trans
SUMMARY:trans - Public Notary Transparency 
LOCATION:Montreux 3
STATUS:CONFIRMED
CLASS:PUBLIC
DTSTART;TZID=US/Central:20170328T130000
DTEND;TZID=US/Central:20170328T143000
DTSTAMP:20170217T121954Z
URL:https://datatracker.ietf.org/meeting/98/materials/agenda-98-trans-05
DESCRIPTION:Afternoon Session I\n
 \n
 Meetecho: http://www.meetecho.com/ietf98/trans/\n
 \n
 Agenda https://datatracker.ietf.org/meeting/98/materials/agenda-98-trans-05\n
 \n
 Session materials: https://datatracker.ietf.org/meeting/98/session/trans\n
 \n
 See in schedule: https://datatracker.ietf.org/meeting/98/agenda#row-98-2017-03-28-tue-1300-sec-trans\n
END:VEVENT
BEGIN:VEVENT
UID:ietf-98-8304-teep
SUMMARY:teep - A Protocol for Dynamic Trusted Execution Environment Enablement
LOCATION:Zurich E/F
STATUS:CONFIRMED
CLASS:PUBLIC
DTSTART;TZID=US/Central:20170328T145000
DTEND;TZID=US/Central:20170328T162000
DTSTAMP:20170217T122010Z
URL:https://datatracker.ietf.org/meeting/98/materials/agenda-98-teep-00
DESCRIPTION:Afternoon Session II\n
 \n
 Meetecho: http://www.meetecho.com/ietf98/teep/\n
 \n
 Agenda https://datatracker.ietf.org/meeting/98/materials/agenda-98-teep-00\n
 \n
 Session materials: https://datatracker.ietf.org/meeting/98/session/teep\n
 \n
 See in schedule: https://datatracker.ietf.org/meeting/98/agenda#row-98-2017-03-28-tue-1450-sec-teep\n
END:VEVENT
BEGIN:VEVENT
UID:ietf-98-8365-dots
SUMMARY:dots - DDoS Open Threat Signaling
LOCATION:Zurich G
STATUS:CONFIRMED
CLASS:PUBLIC
DTSTART;TZID=US/Central:20170328T164000
DTEND;TZID=US/Central:20170328T184000
DTSTAMP:20170217T122100Z
URL:https://datatracker.ietf.org/meeting/98/materials/agenda-98-dots-03
DESCRIPTION:Afternoon Session III\n
 \n
 Meetecho: http://www.meetecho.com/ietf98/dots/\n
 \n
 Agenda https://datatracker.ietf.org/meeting/98/materials/agenda-98-dots-03\n
 \n
 Session materials: https://datatracker.ietf.org/meeting/98/session/dots\n
 \n
 See in schedule: https://datatracker.ietf.org/meeting/98/agenda#row-98-2017-03-28-tue-1640-sec-dots\n
END:VEVENT
BEGIN:VEVENT
UID:ietf-98-8294-secevent
SUMMARY:secevent - Security Events
LOCATION:Zurich C
STATUS:CONFIRMED
CLASS:PUBLIC
DTSTART;TZID=US/Central:20170329T090000
DTEND;TZID=US/Central:20170329T113000
DTSTAMP:20170217T122118Z
URL:https://datatracker.ietf.org/meeting/98/materials/agenda-98-secevent-03
DESCRIPTION:Morning Session I\n
 \n
 Meetecho: http://www.meetecho.com/ietf98/secevent/\n
 \n
 Agenda https://datatracker.ietf.org/meeting/98/materials/agenda-98-secevent-03\n
 \n
 Session materials: https://datatracker.ietf.org/meeting/98/session/secevent\n
 \n
 See in schedule: https://datatracker.ietf.org/meeting/98/agenda#row-98-2017-03-29-wed-0900-sec-secevent\n
END:VEVENT
BEGIN:VEVENT
UID:ietf-98-8274-ipsecme
SUMMARY:ipsecme - IP Security Maintenance and Extensions (Moved from Friday 0900)
LOCATION:Montreux 3
STATUS:CONFIRMED
CLASS:PUBLIC
DTSTART;TZID=US/Central:20170329T130000
DTEND;TZID=US/Central:20170329T150000
DTSTAMP:20170217T122139Z
URL:https://datatracker.ietf.org/meeting/98/materials/agenda-98-ipsecme-04
DESCRIPTION:Afternoon Session I\n
 Note: Moved from Friday 0900\n
 \n
 Meetecho: http://www.meetecho.com/ietf98/ipsecme/\n
 \n
 Agenda https://datatracker.ietf.org/meeting/98/materials/agenda-98-ipsecme-04\n
 \n
 Session materials: https://datatracker.ietf.org/meeting/98/session/ipsecme\n
 \n
 See in schedule: https://datatracker.ietf.org/meeting/98/agenda#row-98-2017-03-29-wed-1300-sec-ipsecme\n
END:VEVENT
BEGIN:VEVENT
UID:ietf-98-8260-sacm
SUMMARY:sacm - Security Automation and Continuous Monitoring
LOCATION:Zurich A
STATUS:CONFIRMED
CLASS:PUBLIC
DTSTART;TZID=US/Central:20170330T090000
DTEND;TZID=US/Central:20170330T113000
DTSTAMP:20170217T122155Z
URL:https://datatracker.ietf.org/meeting/98/materials/agenda-98-sacm-00
DESCRIPTION:Morning Session I\n
 \n
 Meetecho: http://www.meetecho.com/ietf98/sacm/\n
 \n
 Agenda https://datatracker.ietf.org/meeting/98/materials/agenda-98-sacm-00\n
 \n
 Session materials: https://datatracker.ietf.org/meeting/98/session/sacm\n
 \n
 See in schedule: https://datatracker.ietf.org/meeting/98/agenda#row-98-2017-03-30-thu-0900-sec-sacm\n
END:VEVENT
BEGIN:VEVENT
UID:ietf-98-8249-acme
SUMMARY:acme - Automated Certificate Management Environment
LOCATION:Zurich G
STATUS:CONFIRMED
CLASS:PUBLIC
DTSTART;TZID=US/Central:20170330T130000
DTEND;TZID=US/Central:20170330T150000
DTSTAMP:20170217T122213Z
URL:https://datatracker.ietf.org/meeting/98/materials/agenda-98-acme-00
DESCRIPTION:Afternoon Session I\n
 \n
 Meetecho: http://www.meetecho.com/ietf98/acme/\n
 \n
 Agenda https://datatracker.ietf.org/meeting/98/materials/agenda-98-acme-00\n
 \n
 Session materials: https://datatracker.ietf.org/meeting/98/session/acme\n
 \n
 See in schedule: https://datatracker.ietf.org/meeting/98/agenda#row-98-2017-03-30-thu-1300-sec-acme\n
END:VEVENT
BEGIN:VEVENT
UID:ietf-98-8239-saag
SUMMARY:saag - Security Area Open Meeting
LOCATION:Zurich D
STATUS:CONFIRMED
CLASS:PUBLIC
DTSTART;TZID=US/Central:20170330T152000
DTEND;TZID=US/Central:20170330T172000
DTSTAMP:20170217T122344Z
URL:https://datatracker.ietf.org/meeting/98/materials/agenda-98-saag-01
DESCRIPTION:Afternoon Session II\n
 \n
 Meetecho: http://www.meetecho.com/ietf98/saag/\n
 \n
 Agenda https://datatracker.ietf.org/meeting/98/materials/agenda-98-saag-01\n
 \n
 Session materials: https://datatracker.ietf.org/meeting/98/session/saag\n
 \n
 See in schedule: https://datatracker.ietf.org/meeting/98/agenda#row-98-2017-03-30-thu-1520-sec-saag\n
END:VEVENT
BEGIN:VEVENT
UID:ietf-98-8368-lamps
SUMMARY:lamps - Limited Additional Mechanisms for PKIX and SMIME
LOCATION:Vevey 1/2
STATUS:CONFIRMED
CLASS:PUBLIC
DTSTART;TZID=US/Central:20170330T174000
DTEND;TZID=US/Central:20170330T184000
DTSTAMP:20170217T122354Z
URL:https://datatracker.ietf.org/meeting/98/materials/agenda-98-lamps-02
DESCRIPTION:Afternoon Session III\n
 \n
 Meetecho: http://www.meetecho.com/ietf98/lamps/\n
 \n
 Agenda https://datatracker.ietf.org/meeting/98/materials/agenda-98-lamps-02\n
 \n
 Session materials: https://datatracker.ietf.org/meeting/98/session/lamps\n
 \n
 See in schedule: https://datatracker.ietf.org/meeting/98/agenda#row-98-2017-03-30-thu-1740-sec-lamps\n
END:VEVENT
BEGIN:VEVENT
UID:ietf-98-8230-oauth
SUMMARY:oauth - Web Authorization Protocol
LOCATION:Zurich C
STATUS:CONFIRMED
CLASS:PUBLIC
DTSTART;TZID=US/Central:20170331T090000
DTEND;TZID=US/Central:20170331T113000
DTSTAMP:20170217T122243Z
URL:https://datatracker.ietf.org/meeting/98/materials/agenda-98-oauth-01
DESCRIPTION:Morning Session I\n
 \n
 Meetecho: http://www.meetecho.com/ietf98/oauth/\n
 \n
 Agenda https://datatracker.ietf.org/meeting/98/materials/agenda-98-oauth-01\n
 \n
 Session materials: https://datatracker.ietf.org/meeting/98/session/oauth\n
 \n
 See in schedule: https://datatracker.ietf.org/meeting/98/agenda#row-98-2017-03-31-fri-0900-sec-oauth\n
END:VEVENT
END:VCALENDAR
