BEGIN:VCALENDAR
VERSION:2.0
METHOD:PUBLISH
PRODID:-//IETF//datatracker.ietf.org ical agenda//EN
BEGIN:VTIMEZONE
TZID:America/Chicago
X-LIC-LOCATION:America/Chicago
BEGIN:DAYLIGHT
TZOFFSETFROM:-0600
TZOFFSETTO:-0500
TZNAME:CDT
DTSTART:20070311T020000
RRULE:FREQ=YEARLY;BYMONTH=3;BYDAY=2SU
END:DAYLIGHT
BEGIN:STANDARD
TZOFFSETFROM:-0500
TZOFFSETTO:-0600
TZNAME:CST
DTSTART:20071104T020000
RRULE:FREQ=YEARLY;BYMONTH=11;BYDAY=1SU
END:STANDARD
BEGIN:STANDARD
TZOFFSETFROM:-055036
TZOFFSETTO:-0600
TZNAME:CST
DTSTART:18831118T120924
RDATE:18831118T120924
END:STANDARD
BEGIN:DAYLIGHT
TZOFFSETFROM:-0600
TZOFFSETTO:-0500
TZNAME:CDT
DTSTART:19180331T020000
RDATE:19180331T020000
RDATE:19190330T020000
RDATE:19200613T020000
RDATE:19210327T020000
RDATE:19220430T020000
RDATE:19230429T020000
RDATE:19240427T020000
RDATE:19250426T020000
RDATE:19260425T020000
RDATE:19270424T020000
RDATE:19280429T020000
RDATE:19290428T020000
RDATE:19300427T020000
RDATE:19310426T020000
RDATE:19320424T020000
RDATE:19330430T020000
RDATE:19340429T020000
RDATE:19350428T020000
RDATE:19370425T020000
RDATE:19380424T020000
RDATE:19390430T020000
RDATE:19400428T020000
RDATE:19410427T020000
RDATE:19460428T020000
RDATE:19470427T020000
RDATE:19480425T020000
RDATE:19490424T020000
RDATE:19500430T020000
RDATE:19510429T020000
RDATE:19520427T020000
RDATE:19530426T020000
RDATE:19540425T020000
RDATE:19550424T020000
RDATE:19560429T020000
RDATE:19570428T020000
RDATE:19580427T020000
RDATE:19590426T020000
RDATE:19600424T020000
RDATE:19610430T020000
RDATE:19620429T020000
RDATE:19630428T020000
RDATE:19640426T020000
RDATE:19650425T020000
RDATE:19660424T020000
RDATE:19670430T020000
RDATE:19680428T020000
RDATE:19690427T020000
RDATE:19700426T020000
RDATE:19710425T020000
RDATE:19720430T020000
RDATE:19730429T020000
RDATE:19740106T020000
RDATE:19750223T020000
RDATE:19760425T020000
RDATE:19770424T020000
RDATE:19780430T020000
RDATE:19790429T020000
RDATE:19800427T020000
RDATE:19810426T020000
RDATE:19820425T020000
RDATE:19830424T020000
RDATE:19840429T020000
RDATE:19850428T020000
RDATE:19860427T020000
RDATE:19870405T020000
RDATE:19880403T020000
RDATE:19890402T020000
RDATE:19900401T020000
RDATE:19910407T020000
RDATE:19920405T020000
RDATE:19930404T020000
RDATE:19940403T020000
RDATE:19950402T020000
RDATE:19960407T020000
RDATE:19970406T020000
RDATE:19980405T020000
RDATE:19990404T020000
RDATE:20000402T020000
RDATE:20010401T020000
RDATE:20020407T020000
RDATE:20030406T020000
RDATE:20040404T020000
RDATE:20050403T020000
RDATE:20060402T020000
END:DAYLIGHT
BEGIN:STANDARD
TZOFFSETFROM:-0500
TZOFFSETTO:-0600
TZNAME:CST
DTSTART:19181027T020000
RDATE:19181027T020000
RDATE:19191026T020000
RDATE:19201031T020000
RDATE:19211030T020000
RDATE:19220924T020000
RDATE:19230930T020000
RDATE:19240928T020000
RDATE:19250927T020000
RDATE:19260926T020000
RDATE:19270925T020000
RDATE:19280930T020000
RDATE:19290929T020000
RDATE:19300928T020000
RDATE:19310927T020000
RDATE:19320925T020000
RDATE:19330924T020000
RDATE:19340930T020000
RDATE:19350929T020000
RDATE:19361115T020000
RDATE:19370926T020000
RDATE:19380925T020000
RDATE:19390924T020000
RDATE:19400929T020000
RDATE:19410928T020000
RDATE:19450930T020000
RDATE:19460929T020000
RDATE:19470928T020000
RDATE:19480926T020000
RDATE:19490925T020000
RDATE:19500924T020000
RDATE:19510930T020000
RDATE:19520928T020000
RDATE:19530927T020000
RDATE:19540926T020000
RDATE:19551030T020000
RDATE:19561028T020000
RDATE:19571027T020000
RDATE:19581026T020000
RDATE:19591025T020000
RDATE:19601030T020000
RDATE:19611029T020000
RDATE:19621028T020000
RDATE:19631027T020000
RDATE:19641025T020000
RDATE:19651031T020000
RDATE:19661030T020000
RDATE:19671029T020000
RDATE:19681027T020000
RDATE:19691026T020000
RDATE:19701025T020000
RDATE:19711031T020000
RDATE:19721029T020000
RDATE:19731028T020000
RDATE:19741027T020000
RDATE:19751026T020000
RDATE:19761031T020000
RDATE:19771030T020000
RDATE:19781029T020000
RDATE:19791028T020000
RDATE:19801026T020000
RDATE:19811025T020000
RDATE:19821031T020000
RDATE:19831030T020000
RDATE:19841028T020000
RDATE:19851027T020000
RDATE:19861026T020000
RDATE:19871025T020000
RDATE:19881030T020000
RDATE:19891029T020000
RDATE:19901028T020000
RDATE:19911027T020000
RDATE:19921025T020000
RDATE:19931031T020000
RDATE:19941030T020000
RDATE:19951029T020000
RDATE:19961027T020000
RDATE:19971026T020000
RDATE:19981025T020000
RDATE:19991031T020000
RDATE:20001029T020000
RDATE:20011028T020000
RDATE:20021027T020000
RDATE:20031026T020000
RDATE:20041031T020000
RDATE:20051030T020000
RDATE:20061029T020000
END:STANDARD
BEGIN:STANDARD
TZOFFSETFROM:-0600
TZOFFSETTO:-0600
TZNAME:CST
DTSTART:19200101T000000
RDATE:19200101T000000
RDATE:19420101T000000
RDATE:19460101T000000
RDATE:19670101T000000
END:STANDARD
BEGIN:STANDARD
TZOFFSETFROM:-0600
TZOFFSETTO:-0500
TZNAME:EST
DTSTART:19360301T020000
RDATE:19360301T020000
END:STANDARD
BEGIN:DAYLIGHT
TZOFFSETFROM:-0600
TZOFFSETTO:-0500
TZNAME:CWT
DTSTART:19420209T020000
RDATE:19420209T020000
END:DAYLIGHT
BEGIN:DAYLIGHT
TZOFFSETFROM:-0500
TZOFFSETTO:-0500
TZNAME:CPT
DTSTART:19450814T180000
RDATE:19450814T180000
END:DAYLIGHT
END:VTIMEZONE
BEGIN:VEVENT
UID:ietf-98-8341-ippm
SUMMARY:ippm - IP Performance Metrics
LOCATION:Zurich B
STATUS:CONFIRMED
CLASS:PUBLIC
DTSTART;TZID=US/Central:20170327T090000
DTEND;TZID=US/Central:20170327T113000
DTSTAMP:20170217T121853Z
URL:https://datatracker.ietf.org/meeting/98/materials/agenda-98-ippm-03
DESCRIPTION:Morning Session I\n
 \n
 Meetecho: http://www.meetecho.com/ietf98/ippm/\n
 \n
 Agenda https://datatracker.ietf.org/meeting/98/materials/agenda-98-ippm-03\n
 \n
 Session materials: https://datatracker.ietf.org/meeting/98/session/ippm\n
 \n
 See in schedule: https://datatracker.ietf.org/meeting/98/agenda#row-98-2017-03-27-mon-0900-tsv-ippm\n
END:VEVENT
BEGIN:VEVENT
UID:ietf-98-8336-tsvarea
SUMMARY:tsvarea - Transport Area Open Meeting
LOCATION:Zurich E/F
STATUS:CONFIRMED
CLASS:PUBLIC
DTSTART;TZID=US/Central:20170327T130000
DTEND;TZID=US/Central:20170327T150000
DTSTAMP:20170217T121902Z
URL:https://datatracker.ietf.org/meeting/98/materials/agenda-98-tsvarea-01
DESCRIPTION:Afternoon Session I\n
 \n
 Meetecho: http://www.meetecho.com/ietf98/tsvarea/\n
 \n
 Agenda https://datatracker.ietf.org/meeting/98/materials/agenda-98-tsvarea-01\n
 \n
 Session materials: https://datatracker.ietf.org/meeting/98/session/tsvarea\n
 \n
 See in schedule: https://datatracker.ietf.org/meeting/98/agenda#row-98-2017-03-27-mon-1300-tsv-tsvarea\n
END:VEVENT
BEGIN:VEVENT
UID:ietf-98-8328-tsvarea
SUMMARY:tsvarea - Transport Area Open Meeting
LOCATION:Zurich E/F
STATUS:CONFIRMED
CLASS:PUBLIC
DTSTART;TZID=US/Central:20170327T152000
DTEND;TZID=US/Central:20170327T165000
DTSTAMP:20170217T121913Z
URL:https://datatracker.ietf.org/meeting/98/materials/agenda-98-tsvarea-01
DESCRIPTION:Afternoon Session II\n
 \n
 Meetecho: http://www.meetecho.com/ietf98/tsvarea/\n
 \n
 Agenda https://datatracker.ietf.org/meeting/98/materials/agenda-98-tsvarea-01\n
 \n
 Session materials: https://datatracker.ietf.org/meeting/98/session/tsvarea\n
 \n
 See in schedule: https://datatracker.ietf.org/meeting/98/agenda#row-98-2017-03-27-mon-1520-tsv-tsvarea\n
END:VEVENT
BEGIN:VEVENT
UID:ietf-98-8348-tsvwg
SUMMARY:tsvwg - Transport Area Working Group
LOCATION:Vevey 1/2
STATUS:CONFIRMED
CLASS:PUBLIC
DTSTART;TZID=US/Central:20170327T171000
DTEND;TZID=US/Central:20170327T181000
DTSTAMP:20170217T122303Z
URL:https://datatracker.ietf.org/meeting/98/materials/agenda-98-tsvwg-12
DESCRIPTION:Afternoon Session III\n
 \n
 Meetecho: http://www.meetecho.com/ietf98/tsvwg/\n
 \n
 Agenda https://datatracker.ietf.org/meeting/98/materials/agenda-98-tsvwg-12\n
 \n
 Session materials: https://datatracker.ietf.org/meeting/98/session/tsvwg\n
 \n
 See in schedule: https://datatracker.ietf.org/meeting/98/agenda#row-98-2017-03-27-mon-1710-tsv-tsvwg\n
END:VEVENT
BEGIN:VEVENT
UID:ietf-98-8298-tram
SUMMARY:tram - TURN Revised and Modernized
LOCATION:Montreux 3
STATUS:CONFIRMED
CLASS:PUBLIC
DTSTART;TZID=US/Central:20170328T145000
DTEND;TZID=US/Central:20170328T162000
DTSTAMP:20170217T122010Z
URL:https://datatracker.ietf.org/meeting/98/materials/agenda-98-tram-00
DESCRIPTION:Afternoon Session II\n
 \n
 Meetecho: http://www.meetecho.com/ietf98/tram/\n
 \n
 Agenda https://datatracker.ietf.org/meeting/98/materials/agenda-98-tram-00\n
 \n
 Session materials: https://datatracker.ietf.org/meeting/98/session/tram\n
 \n
 See in schedule: https://datatracker.ietf.org/meeting/98/agenda#row-98-2017-03-28-tue-1450-tsv-tram\n
END:VEVENT
BEGIN:VEVENT
UID:ietf-98-8363-taps
SUMMARY:taps - Transport Services
LOCATION:Zurich E/F
STATUS:CONFIRMED
CLASS:PUBLIC
DTSTART;TZID=US/Central:20170328T164000
DTEND;TZID=US/Central:20170328T184000
DTSTAMP:20170217T122100Z
URL:https://datatracker.ietf.org/meeting/98/materials/agenda-98-taps-07
DESCRIPTION:Afternoon Session III\n
 \n
 Meetecho: http://www.meetecho.com/ietf98/taps/\n
 \n
 Agenda https://datatracker.ietf.org/meeting/98/materials/agenda-98-taps-07\n
 \n
 Session materials: https://datatracker.ietf.org/meeting/98/session/taps\n
 \n
 See in schedule: https://datatracker.ietf.org/meeting/98/agenda#row-98-2017-03-28-tue-1640-tsv-taps\n
END:VEVENT
BEGIN:VEVENT
UID:ietf-98-8297-dtn
SUMMARY:dtn - Delay/Disruption Tolerant Networking
LOCATION:Zurich G
STATUS:CONFIRMED
CLASS:PUBLIC
DTSTART;TZID=US/Central:20170329T090000
DTEND;TZID=US/Central:20170329T113000
DTSTAMP:20170217T122118Z
URL:https://datatracker.ietf.org/meeting/98/materials/agenda-98-dtn-00
DESCRIPTION:Morning Session I\n
 \n
 Meetecho: http://www.meetecho.com/ietf98/dtn/\n
 \n
 Agenda https://datatracker.ietf.org/meeting/98/materials/agenda-98-dtn-00\n
 \n
 Session materials: https://datatracker.ietf.org/meeting/98/session/dtn\n
 \n
 See in schedule: https://datatracker.ietf.org/meeting/98/agenda#row-98-2017-03-29-wed-0900-tsv-dtn\n
END:VEVENT
BEGIN:VEVENT
UID:ietf-98-8296-tcpm
SUMMARY:tcpm - TCP Maintenance and Minor Extensions
LOCATION:Zurich E/F
STATUS:CONFIRMED
CLASS:PUBLIC
DTSTART;TZID=US/Central:20170329T090000
DTEND;TZID=US/Central:20170329T113000
DTSTAMP:20170217T122118Z
URL:https://datatracker.ietf.org/meeting/98/materials/agenda-98-tcpm-03
DESCRIPTION:Morning Session I\n
 \n
 Meetecho: http://www.meetecho.com/ietf98/tcpm/\n
 \n
 Agenda https://datatracker.ietf.org/meeting/98/materials/agenda-98-tcpm-03\n
 \n
 Session materials: https://datatracker.ietf.org/meeting/98/session/tcpm\n
 \n
 See in schedule: https://datatracker.ietf.org/meeting/98/agenda#row-98-2017-03-29-wed-0900-tsv-tcpm\n
END:VEVENT
BEGIN:VEVENT
UID:ietf-98-8274-tcpinc
SUMMARY:tcpinc - TCP Increased Security (CANCELED)
LOCATION:Montreux 3
STATUS:CONFIRMED
CLASS:PUBLIC
DTSTART;TZID=US/Central:20170329T130000
DTEND;TZID=US/Central:20170329T150000
DTSTAMP:20170217T122139Z
DESCRIPTION:Afternoon Session I\n
 Note: CANCELED\n
 \n
 Meetecho: http://www.meetecho.com/ietf98/tcpinc/\n
 \n
 Session materials: https://datatracker.ietf.org/meeting/98/session/tcpinc\n
 \n
 See in schedule: https://datatracker.ietf.org/meeting/98/agenda#row-98-2017-03-29-wed-1300-tsv-tcpinc\n
END:VEVENT
BEGIN:VEVENT
UID:ietf-98-8259-quic
SUMMARY:quic - QUIC
LOCATION:Vevey 1/2
STATUS:CONFIRMED
CLASS:PUBLIC
DTSTART;TZID=US/Central:20170330T090000
DTEND;TZID=US/Central:20170330T113000
DTSTAMP:20170217T122155Z
URL:https://datatracker.ietf.org/meeting/98/materials/agenda-98-quic-03
DESCRIPTION:Morning Session I\n
 \n
 Meetecho: http://www.meetecho.com/ietf98/quic/\n
 \n
 Agenda https://datatracker.ietf.org/meeting/98/materials/agenda-98-quic-03\n
 \n
 Session materials: https://datatracker.ietf.org/meeting/98/session/quic\n
 \n
 See in schedule: https://datatracker.ietf.org/meeting/98/agenda#row-98-2017-03-30-thu-0900-tsv-quic\n
END:VEVENT
BEGIN:VEVENT
UID:ietf-98-8244-tsvwg
SUMMARY:tsvwg - Transport Area Working Group
LOCATION:Zurich A
STATUS:CONFIRMED
CLASS:PUBLIC
DTSTART;TZID=US/Central:20170330T130000
DTEND;TZID=US/Central:20170330T150000
DTSTAMP:20170217T122213Z
URL:https://datatracker.ietf.org/meeting/98/materials/agenda-98-tsvwg-12
DESCRIPTION:Afternoon Session I\n
 \n
 Meetecho: http://www.meetecho.com/ietf98/tsvwg/\n
 \n
 Agenda https://datatracker.ietf.org/meeting/98/materials/agenda-98-tsvwg-12\n
 \n
 Session materials: https://datatracker.ietf.org/meeting/98/session/tsvwg\n
 \n
 See in schedule: https://datatracker.ietf.org/meeting/98/agenda#row-98-2017-03-30-thu-1300-tsv-tsvwg\n
END:VEVENT
BEGIN:VEVENT
UID:ietf-98-8238-mptcp
SUMMARY:mptcp - Multipath TCP
LOCATION:Zurich C
STATUS:CONFIRMED
CLASS:PUBLIC
DTSTART;TZID=US/Central:20170330T152000
DTEND;TZID=US/Central:20170330T172000
DTSTAMP:20170217T122344Z
URL:https://datatracker.ietf.org/meeting/98/materials/agenda-98-mptcp-00
DESCRIPTION:Afternoon Session II\n
 \n
 Meetecho: http://www.meetecho.com/ietf98/mptcp/\n
 \n
 Agenda https://datatracker.ietf.org/meeting/98/materials/agenda-98-mptcp-00\n
 \n
 Session materials: https://datatracker.ietf.org/meeting/98/session/mptcp\n
 \n
 See in schedule: https://datatracker.ietf.org/meeting/98/agenda#row-98-2017-03-30-thu-1520-tsv-mptcp\n
END:VEVENT
BEGIN:VEVENT
UID:ietf-98-8371-mptcp
SUMMARY:mptcp - Multipath TCP
LOCATION:Zurich C
STATUS:CONFIRMED
CLASS:PUBLIC
DTSTART;TZID=US/Central:20170330T174000
DTEND;TZID=US/Central:20170330T184000
DTSTAMP:20170217T122354Z
URL:https://datatracker.ietf.org/meeting/98/materials/agenda-98-mptcp-00
DESCRIPTION:Afternoon Session III\n
 \n
 Meetecho: http://www.meetecho.com/ietf98/mptcp/\n
 \n
 Agenda https://datatracker.ietf.org/meeting/98/materials/agenda-98-mptcp-00\n
 \n
 Session materials: https://datatracker.ietf.org/meeting/98/session/mptcp\n
 \n
 See in schedule: https://datatracker.ietf.org/meeting/98/agenda#row-98-2017-03-30-thu-1740-tsv-mptcp\n
END:VEVENT
BEGIN:VEVENT
UID:ietf-98-8226-alto
SUMMARY:alto - Application-Layer Traffic Optimization
LOCATION:Montreux 3
STATUS:CONFIRMED
CLASS:PUBLIC
DTSTART;TZID=US/Central:20170331T090000
DTEND;TZID=US/Central:20170331T113000
DTSTAMP:20170217T122243Z
URL:https://datatracker.ietf.org/meeting/98/materials/agenda-98-alto-02
DESCRIPTION:Morning Session I\n
 \n
 Meetecho: http://www.meetecho.com/ietf98/alto/\n
 \n
 Agenda https://datatracker.ietf.org/meeting/98/materials/agenda-98-alto-02\n
 \n
 Session materials: https://datatracker.ietf.org/meeting/98/session/alto\n
 \n
 See in schedule: https://datatracker.ietf.org/meeting/98/agenda#row-98-2017-03-31-fri-0900-tsv-alto\n
END:VEVENT
END:VCALENDAR
