BEGIN:VCALENDAR
VERSION:2.0
METHOD:PUBLISH
PRODID:-//IETF//datatracker.ietf.org ical agenda//EN
BEGIN:VTIMEZONE
TZID:Europe/Prague
X-LIC-LOCATION:Europe/Prague
BEGIN:DAYLIGHT
TZOFFSETFROM:+0100
TZOFFSETTO:+0200
TZNAME:CEST
DTSTART:19810329T020000
RRULE:FREQ=YEARLY;BYMONTH=3;BYDAY=-1SU
END:DAYLIGHT
BEGIN:STANDARD
TZOFFSETFROM:+0200
TZOFFSETTO:+0100
TZNAME:CET
DTSTART:19961027T030000
RRULE:FREQ=YEARLY;BYMONTH=10;BYDAY=-1SU
END:STANDARD
BEGIN:STANDARD
TZOFFSETFROM:+005744
TZOFFSETTO:+005744
TZNAME:PMT
DTSTART:18500101T000000
RDATE:18500101T000000
END:STANDARD
BEGIN:STANDARD
TZOFFSETFROM:+005744
TZOFFSETTO:+0100
TZNAME:CET
DTSTART:18911001T000000
RDATE:18911001T000000
END:STANDARD
BEGIN:DAYLIGHT
TZOFFSETFROM:+0100
TZOFFSETTO:+0200
TZNAME:CEST
DTSTART:19160430T230000
RDATE:19160430T230000
RDATE:19170416T020000
RDATE:19180415T020000
RDATE:19400401T020000
RDATE:19430329T020000
RDATE:19440403T020000
RDATE:19450408T020000
RDATE:19460506T020000
RDATE:19470420T020000
RDATE:19480418T020000
RDATE:19490409T020000
RDATE:19790401T020000
RDATE:19800406T020000
END:DAYLIGHT
BEGIN:STANDARD
TZOFFSETFROM:+0200
TZOFFSETTO:+0100
TZNAME:CET
DTSTART:19161001T010000
RDATE:19161001T010000
RDATE:19170917T030000
RDATE:19180916T030000
RDATE:19421102T030000
RDATE:19431004T030000
RDATE:19440917T030000
RDATE:19451118T030000
RDATE:19461006T030000
RDATE:19471005T030000
RDATE:19481003T030000
RDATE:19491002T030000
RDATE:19790930T030000
RDATE:19800928T030000
RDATE:19810927T030000
RDATE:19820926T030000
RDATE:19830925T030000
RDATE:19840930T030000
RDATE:19850929T030000
RDATE:19860928T030000
RDATE:19870927T030000
RDATE:19880925T030000
RDATE:19890924T030000
RDATE:19900930T030000
RDATE:19910929T030000
RDATE:19920927T030000
RDATE:19930926T030000
RDATE:19940925T030000
RDATE:19950924T030000
END:STANDARD
BEGIN:STANDARD
TZOFFSETFROM:+0100
TZOFFSETTO:+0100
TZNAME:CET
DTSTART:19790101T000000
RDATE:19790101T000000
END:STANDARD
END:VTIMEZONE
BEGIN:VEVENT
UID:ietf-99-8514-dispatch
SUMMARY:dispatch - Dispatch (09:30-11:30)
LOCATION:Congress Hall III
STATUS:CONFIRMED
CLASS:PUBLIC
DTSTART;TZID=Europe/Prague:20170717T093000
DTEND;TZID=Europe/Prague:20170717T120000
DTSTAMP:20170608T092526Z
URL:https://datatracker.ietf.org/meeting/99/materials/agenda-99-dispatch-05
DESCRIPTION:Morning Session I\n
 Note: 09:30-11:30\n
 \n
 Meetecho: http://www.meetecho.com/ietf99/dispatch/\n
 \n
 Agenda https://datatracker.ietf.org/meeting/99/materials/agenda-99-dispatch-05\n
 \n
 Session materials: https://datatracker.ietf.org/meeting/99/session/dispatch\n
 \n
 See in schedule: https://datatracker.ietf.org/meeting/99/agenda#row-99-2017-07-17-mon-0930-art-dispatch\n
END:VEVENT
BEGIN:VEVENT
UID:ietf-99-8529-jmap
SUMMARY:jmap - JSON Mail Access Protocol (13:30-15:00)
LOCATION:Athens/Barcelona
STATUS:CONFIRMED
CLASS:PUBLIC
DTSTART;TZID=Europe/Prague:20170717T133000
DTEND;TZID=Europe/Prague:20170717T153000
DTSTAMP:20170608T092545Z
URL:https://datatracker.ietf.org/meeting/99/materials/agenda-99-jmap-01
DESCRIPTION:Afternoon Session I\n
 Note: 13:30-15:00\n
 \n
 Meetecho: http://www.meetecho.com/ietf99/jmap/\n
 \n
 Agenda https://datatracker.ietf.org/meeting/99/materials/agenda-99-jmap-01\n
 \n
 Session materials: https://datatracker.ietf.org/meeting/99/session/jmap\n
 \n
 See in schedule: https://datatracker.ietf.org/meeting/99/agenda#row-99-2017-07-17-mon-1330-art-jmap\n
END:VEVENT
BEGIN:VEVENT
UID:ietf-99-8532-rtcweb
SUMMARY:rtcweb - Real-Time Communication in WEB-browsers
LOCATION:Congress Hall I
STATUS:CANCELLED
CLASS:PUBLIC
DTSTART;TZID=Europe/Prague:20170717T133000
DTEND;TZID=Europe/Prague:20170717T153000
DTSTAMP:20170608T092545Z
DESCRIPTION:Afternoon Session I\n
 \n
 Meetecho: http://www.meetecho.com/ietf99/rtcweb/\n
 \n
 Session materials: https://datatracker.ietf.org/meeting/99/session/rtcweb\n
 \n
 See in schedule: https://datatracker.ietf.org/meeting/99/agenda#row-99-2017-07-17-mon-1330-art-rtcweb\n
END:VEVENT
BEGIN:VEVENT
UID:ietf-99-8563-cbor
SUMMARY:cbor - Concise Binary Object Representation Maintenance and Extensions
LOCATION:Karlin I/II
STATUS:CONFIRMED
CLASS:PUBLIC
DTSTART;TZID=Europe/Prague:20170717T155000
DTEND;TZID=Europe/Prague:20170717T172000
DTSTAMP:20170608T092604Z
URL:https://datatracker.ietf.org/meeting/99/materials/agenda-99-cbor-01
DESCRIPTION:Afternoon Session II\n
 \n
 Meetecho: http://www.meetecho.com/ietf99/cbor/\n
 \n
 Agenda https://datatracker.ietf.org/meeting/99/materials/agenda-99-cbor-01\n
 \n
 Session materials: https://datatracker.ietf.org/meeting/99/session/cbor\n
 \n
 See in schedule: https://datatracker.ietf.org/meeting/99/agenda#row-99-2017-07-17-mon-1550-art-cbor\n
END:VEVENT
BEGIN:VEVENT
UID:ietf-99-8550-netvc
SUMMARY:netvc - Internet Video Codec
LOCATION:Athens/Barcelona
STATUS:CONFIRMED
CLASS:PUBLIC
DTSTART;TZID=Europe/Prague:20170717T155000
DTEND;TZID=Europe/Prague:20170717T172000
DTSTAMP:20170608T092604Z
URL:https://datatracker.ietf.org/meeting/99/materials/agenda-99-netvc-00
DESCRIPTION:Afternoon Session II\n
 \n
 Meetecho: http://www.meetecho.com/ietf99/netvc/\n
 \n
 Agenda https://datatracker.ietf.org/meeting/99/materials/agenda-99-netvc-00\n
 \n
 Session materials: https://datatracker.ietf.org/meeting/99/session/netvc\n
 \n
 See in schedule: https://datatracker.ietf.org/meeting/99/agenda#row-99-2017-07-17-mon-1550-art-netvc\n
END:VEVENT
BEGIN:VEVENT
UID:ietf-99-8572-cdni
SUMMARY:cdni - Content Delivery Networks Interconnection (Moved from Monday at 15:00)
LOCATION:Berlin/Brussels
STATUS:CONFIRMED
CLASS:PUBLIC
DTSTART;TZID=Europe/Prague:20170717T174000
DTEND;TZID=Europe/Prague:20170717T184000
DTSTAMP:20170608T092629Z
URL:https://datatracker.ietf.org/meeting/99/materials/agenda-99-cdni-04
DESCRIPTION:Afternoon Session III\n
 Note: Moved from Monday at 15:00\n
 \n
 Meetecho: http://www.meetecho.com/ietf99/cdni/\n
 \n
 Agenda https://datatracker.ietf.org/meeting/99/materials/agenda-99-cdni-04\n
 \n
 Session materials: https://datatracker.ietf.org/meeting/99/session/cdni\n
 \n
 See in schedule: https://datatracker.ietf.org/meeting/99/agenda#row-99-2017-07-17-mon-1740-art-cdni\n
END:VEVENT
BEGIN:VEVENT
UID:ietf-99-8572-slim
SUMMARY:slim - Selection of Language for Internet Media (CANCELED)
LOCATION:Berlin/Brussels
STATUS:CONFIRMED
CLASS:PUBLIC
DTSTART;TZID=Europe/Prague:20170717T174000
DTEND;TZID=Europe/Prague:20170717T184000
DTSTAMP:20170608T092629Z
DESCRIPTION:Afternoon Session III\n
 Note: CANCELED\n
 \n
 Meetecho: http://www.meetecho.com/ietf99/slim/\n
 \n
 Session materials: https://datatracker.ietf.org/meeting/99/session/slim\n
 \n
 See in schedule: https://datatracker.ietf.org/meeting/99/agenda#row-99-2017-07-17-mon-1740-art-slim\n
END:VEVENT
BEGIN:VEVENT
UID:ietf-99-8593-perc
SUMMARY:perc - Privacy Enhanced RTP Conferencing 
LOCATION:Berlin/Brussels
STATUS:CONFIRMED
CLASS:PUBLIC
DTSTART;TZID=Europe/Prague:20170718T093000
DTEND;TZID=Europe/Prague:20170718T120000
DTSTAMP:20170608T092648Z
URL:https://datatracker.ietf.org/meeting/99/materials/agenda-99-perc-02
DESCRIPTION:Morning Session I\n
 \n
 Meetecho: http://www.meetecho.com/ietf99/perc/\n
 \n
 Agenda https://datatracker.ietf.org/meeting/99/materials/agenda-99-perc-02\n
 \n
 Session materials: https://datatracker.ietf.org/meeting/99/session/perc\n
 \n
 See in schedule: https://datatracker.ietf.org/meeting/99/agenda#row-99-2017-07-18-tue-0930-art-perc\n
END:VEVENT
BEGIN:VEVENT
UID:ietf-99-8648-regext
SUMMARY:regext - Registration Protocols Extensions
LOCATION:Karlin III
STATUS:CONFIRMED
CLASS:PUBLIC
DTSTART;TZID=Europe/Prague:20170718T133000
DTEND;TZID=Europe/Prague:20170718T153000
DTSTAMP:20170608T110320Z
URL:https://datatracker.ietf.org/meeting/99/materials/agenda-99-regext-02
DESCRIPTION:Afternoon Session I\n
 \n
 Meetecho: http://www.meetecho.com/ietf99/regext/\n
 \n
 Agenda https://datatracker.ietf.org/meeting/99/materials/agenda-99-regext-02\n
 \n
 Session materials: https://datatracker.ietf.org/meeting/99/session/regext\n
 \n
 See in schedule: https://datatracker.ietf.org/meeting/99/agenda#row-99-2017-07-18-tue-1330-art-regext\n
END:VEVENT
BEGIN:VEVENT
UID:ietf-99-8879-capport
SUMMARY:capport - Captive Portal Interaction
LOCATION:Karlin III
STATUS:CONFIRMED
CLASS:PUBLIC
DTSTART;TZID=Europe/Prague:20170718T155000
DTEND;TZID=Europe/Prague:20170718T175000
DTSTAMP:20170609T093125Z
URL:https://datatracker.ietf.org/meeting/99/materials/agenda-99-capport-01
DESCRIPTION:Afternoon Session II\n
 \n
 Meetecho: http://www.meetecho.com/ietf99/capport/\n
 \n
 Agenda https://datatracker.ietf.org/meeting/99/materials/agenda-99-capport-01\n
 \n
 Session materials: https://datatracker.ietf.org/meeting/99/session/capport\n
 \n
 See in schedule: https://datatracker.ietf.org/meeting/99/agenda#row-99-2017-07-18-tue-1550-art-capport\n
END:VEVENT
BEGIN:VEVENT
UID:ietf-99-8679-core
SUMMARY:core - Constrained RESTful Environments
LOCATION:Congress Hall I
STATUS:CONFIRMED
CLASS:PUBLIC
DTSTART;TZID=Europe/Prague:20170719T093000
DTEND;TZID=Europe/Prague:20170719T120000
DTSTAMP:20170608T092748Z
URL:https://datatracker.ietf.org/meeting/99/materials/agenda-99-core-03
DESCRIPTION:Morning Session I\n
 \n
 Meetecho: http://www.meetecho.com/ietf99/core/\n
 \n
 Agenda https://datatracker.ietf.org/meeting/99/materials/agenda-99-core-03\n
 \n
 Session materials: https://datatracker.ietf.org/meeting/99/session/core\n
 \n
 See in schedule: https://datatracker.ietf.org/meeting/99/agenda#row-99-2017-07-19-wed-0930-art-core\n
END:VEVENT
BEGIN:VEVENT
UID:ietf-99-8706-httpbis
SUMMARY:httpbis - Hypertext Transfer Protocol
LOCATION:Grand Hilton Ballroom
STATUS:CONFIRMED
CLASS:PUBLIC
DTSTART;TZID=Europe/Prague:20170719T133000
DTEND;TZID=Europe/Prague:20170719T150000
DTSTAMP:20170608T092759Z
URL:https://datatracker.ietf.org/meeting/99/materials/agenda-99-httpbis-02
DESCRIPTION:Afternoon Session I\n
 \n
 Meetecho: http://www.meetecho.com/ietf99/httpbis/\n
 \n
 Agenda https://datatracker.ietf.org/meeting/99/materials/agenda-99-httpbis-02\n
 \n
 Session materials: https://datatracker.ietf.org/meeting/99/session/httpbis\n
 \n
 See in schedule: https://datatracker.ietf.org/meeting/99/agenda#row-99-2017-07-19-wed-1330-art-httpbis\n
END:VEVENT
BEGIN:VEVENT
UID:ietf-99-8710-stir
SUMMARY:stir - Secure Telephone Identity Revisited
LOCATION:Karlin I/II
STATUS:CONFIRMED
CLASS:PUBLIC
DTSTART;TZID=Europe/Prague:20170719T133000
DTEND;TZID=Europe/Prague:20170719T150000
DTSTAMP:20170608T092759Z
URL:https://datatracker.ietf.org/meeting/99/materials/agenda-99-stir-01
DESCRIPTION:Afternoon Session I\n
 \n
 Meetecho: http://www.meetecho.com/ietf99/stir/\n
 \n
 Agenda https://datatracker.ietf.org/meeting/99/materials/agenda-99-stir-01\n
 \n
 Session materials: https://datatracker.ietf.org/meeting/99/session/stir\n
 \n
 See in schedule: https://datatracker.ietf.org/meeting/99/agenda#row-99-2017-07-19-wed-1330-art-stir\n
END:VEVENT
BEGIN:VEVENT
UID:ietf-99-8727-httpbis
SUMMARY:httpbis - Hypertext Transfer Protocol
LOCATION:Grand Hilton Ballroom
STATUS:CONFIRMED
CLASS:PUBLIC
DTSTART;TZID=Europe/Prague:20170719T152000
DTEND;TZID=Europe/Prague:20170719T165000
DTSTAMP:20170608T092816Z
URL:https://datatracker.ietf.org/meeting/99/materials/agenda-99-httpbis-02
DESCRIPTION:Afternoon Session II\n
 \n
 Meetecho: http://www.meetecho.com/ietf99/httpbis/\n
 \n
 Agenda https://datatracker.ietf.org/meeting/99/materials/agenda-99-httpbis-02\n
 \n
 Session materials: https://datatracker.ietf.org/meeting/99/session/httpbis\n
 \n
 See in schedule: https://datatracker.ietf.org/meeting/99/agenda#row-99-2017-07-19-wed-1520-art-httpbis\n
END:VEVENT
BEGIN:VEVENT
UID:ietf-99-8740-dcrup
SUMMARY:dcrup - DKIM Crypto Update (11:00-11:30)
LOCATION:Berlin/Brussels
STATUS:CONFIRMED
CLASS:PUBLIC
DTSTART;TZID=Europe/Prague:20170720T093000
DTEND;TZID=Europe/Prague:20170720T120000
DTSTAMP:20170608T092842Z
URL:https://datatracker.ietf.org/meeting/99/materials/agenda-99-dcrup-00
DESCRIPTION:Morning Session I\n
 Note: 11:00-11:30\n
 \n
 Meetecho: http://www.meetecho.com/ietf99/dcrup/\n
 \n
 Agenda https://datatracker.ietf.org/meeting/99/materials/agenda-99-dcrup-00\n
 \n
 Session materials: https://datatracker.ietf.org/meeting/99/session/dcrup\n
 \n
 See in schedule: https://datatracker.ietf.org/meeting/99/agenda#row-99-2017-07-20-thu-0930-art-dcrup\n
END:VEVENT
BEGIN:VEVENT
UID:ietf-99-8740-dmarc
SUMMARY:dmarc - Domain-based Message Authentication, Reporting & Conformance (09:30-10:30)
LOCATION:Berlin/Brussels
STATUS:CONFIRMED
CLASS:PUBLIC
DTSTART;TZID=Europe/Prague:20170720T093000
DTEND;TZID=Europe/Prague:20170720T120000
DTSTAMP:20170608T092842Z
URL:https://datatracker.ietf.org/meeting/99/materials/agenda-99-dmarc-01
DESCRIPTION:Morning Session I\n
 Note: 09:30-10:30\n
 \n
 Meetecho: http://www.meetecho.com/ietf99/dmarc/\n
 \n
 Agenda https://datatracker.ietf.org/meeting/99/materials/agenda-99-dmarc-01\n
 \n
 Session materials: https://datatracker.ietf.org/meeting/99/session/dmarc\n
 \n
 See in schedule: https://datatracker.ietf.org/meeting/99/agenda#row-99-2017-07-20-thu-0930-art-dmarc\n
END:VEVENT
BEGIN:VEVENT
UID:ietf-99-8739-mmusic
SUMMARY:mmusic - Multiparty Multimedia Session Control
LOCATION:Athens/Barcelona
STATUS:CANCELLED
CLASS:PUBLIC
DTSTART;TZID=Europe/Prague:20170720T093000
DTEND;TZID=Europe/Prague:20170720T120000
DTSTAMP:20170608T092842Z
URL:https://datatracker.ietf.org/meeting/99/materials/agenda-99-mmusic-00
DESCRIPTION:Morning Session I\n
 \n
 Meetecho: http://www.meetecho.com/ietf99/mmusic/\n
 \n
 Agenda https://datatracker.ietf.org/meeting/99/materials/agenda-99-mmusic-00\n
 \n
 Session materials: https://datatracker.ietf.org/meeting/99/session/mmusic\n
 \n
 See in schedule: https://datatracker.ietf.org/meeting/99/agenda#row-99-2017-07-20-thu-0930-art-mmusic\n
END:VEVENT
BEGIN:VEVENT
UID:ietf-99-8761-ice
SUMMARY:ice - Interactive Connectivity Establishment
LOCATION:Berlin/Brussels
STATUS:CONFIRMED
CLASS:PUBLIC
DTSTART;TZID=Europe/Prague:20170720T133000
DTEND;TZID=Europe/Prague:20170720T153000
DTSTAMP:20170608T092853Z
URL:https://datatracker.ietf.org/meeting/99/materials/agenda-99-ice-00
DESCRIPTION:Afternoon Session I\n
 \n
 Meetecho: http://www.meetecho.com/ietf99/ice/\n
 \n
 Agenda https://datatracker.ietf.org/meeting/99/materials/agenda-99-ice-00\n
 \n
 Session materials: https://datatracker.ietf.org/meeting/99/session/ice\n
 \n
 See in schedule: https://datatracker.ietf.org/meeting/99/agenda#row-99-2017-07-20-thu-1330-art-ice\n
END:VEVENT
BEGIN:VEVENT
UID:ietf-99-8803-uta
SUMMARY:uta - Using TLS in Applications
LOCATION:Berlin/Brussels
STATUS:CONFIRMED
CLASS:PUBLIC
DTSTART;TZID=Europe/Prague:20170720T181000
DTEND;TZID=Europe/Prague:20170720T191000
DTSTAMP:20170609T093114Z
URL:https://datatracker.ietf.org/meeting/99/materials/agenda-99-uta-00
DESCRIPTION:Afternoon Session III\n
 \n
 Meetecho: http://www.meetecho.com/ietf99/uta/\n
 \n
 Agenda https://datatracker.ietf.org/meeting/99/materials/agenda-99-uta-00\n
 \n
 Session materials: https://datatracker.ietf.org/meeting/99/session/uta\n
 \n
 See in schedule: https://datatracker.ietf.org/meeting/99/agenda#row-99-2017-07-20-thu-1810-art-uta\n
END:VEVENT
BEGIN:VEVENT
UID:ietf-99-8824-cellar
SUMMARY:cellar - Codec Encoding for LossLess Archiving and Realtime transmission
LOCATION:Berlin/Brussels
STATUS:CONFIRMED
CLASS:PUBLIC
DTSTART;TZID=Europe/Prague:20170721T093000
DTEND;TZID=Europe/Prague:20170721T113000
DTSTAMP:20170608T092946Z
URL:https://datatracker.ietf.org/meeting/99/materials/agenda-99-cellar-01
DESCRIPTION:Morning Session I\n
 \n
 Meetecho: http://www.meetecho.com/ietf99/cellar/\n
 \n
 Agenda https://datatracker.ietf.org/meeting/99/materials/agenda-99-cellar-01\n
 \n
 Session materials: https://datatracker.ietf.org/meeting/99/session/cellar\n
 \n
 See in schedule: https://datatracker.ietf.org/meeting/99/agenda#row-99-2017-07-21-fri-0930-art-cellar\n
END:VEVENT
BEGIN:VEVENT
UID:ietf-99-8845-avtcore
SUMMARY:avtcore - Audio/Video Transport Core Maintenance
LOCATION:Berlin/Brussels
STATUS:CONFIRMED
CLASS:PUBLIC
DTSTART;TZID=Europe/Prague:20170721T115000
DTEND;TZID=Europe/Prague:20170721T132000
DTSTAMP:20170609T124432Z
URL:https://datatracker.ietf.org/meeting/99/materials/agenda-99-avtcore-03
DESCRIPTION:Afternoon Session II\n
 \n
 Meetecho: http://www.meetecho.com/ietf99/avtcore/\n
 \n
 Agenda https://datatracker.ietf.org/meeting/99/materials/agenda-99-avtcore-03\n
 \n
 Session materials: https://datatracker.ietf.org/meeting/99/session/avtcore\n
 \n
 See in schedule: https://datatracker.ietf.org/meeting/99/agenda#row-99-2017-07-21-fri-1150-art-avtcore\n
END:VEVENT
BEGIN:VEVENT
UID:ietf-99-8850-core
SUMMARY:core - Constrained RESTful Environments
LOCATION:Congress Hall III
STATUS:CONFIRMED
CLASS:PUBLIC
DTSTART;TZID=Europe/Prague:20170721T115000
DTEND;TZID=Europe/Prague:20170721T132000
DTSTAMP:20170609T124432Z
URL:https://datatracker.ietf.org/meeting/99/materials/agenda-99-core-03
DESCRIPTION:Afternoon Session II\n
 \n
 Meetecho: http://www.meetecho.com/ietf99/core/\n
 \n
 Agenda https://datatracker.ietf.org/meeting/99/materials/agenda-99-core-03\n
 \n
 Session materials: https://datatracker.ietf.org/meeting/99/session/core\n
 \n
 See in schedule: https://datatracker.ietf.org/meeting/99/agenda#row-99-2017-07-21-fri-1150-art-core\n
END:VEVENT
BEGIN:VEVENT
UID:ietf-99-8844-modern
SUMMARY:modern - Managing, Ordering, Distributing, Exposing, & Registering telephone Numbers
LOCATION:Athens/Barcelona
STATUS:CONFIRMED
CLASS:PUBLIC
DTSTART;TZID=Europe/Prague:20170721T115000
DTEND;TZID=Europe/Prague:20170721T132000
DTSTAMP:20170609T124432Z
URL:https://datatracker.ietf.org/meeting/99/materials/agenda-99-modern-01
DESCRIPTION:Afternoon Session II\n
 \n
 Meetecho: http://www.meetecho.com/ietf99/modern/\n
 \n
 Agenda https://datatracker.ietf.org/meeting/99/materials/agenda-99-modern-01\n
 \n
 Session materials: https://datatracker.ietf.org/meeting/99/session/modern\n
 \n
 See in schedule: https://datatracker.ietf.org/meeting/99/agenda#row-99-2017-07-21-fri-1150-art-modern\n
END:VEVENT
END:VCALENDAR
