BEGIN:VCALENDAR
VERSION:2.0
METHOD:PUBLISH
PRODID:-//IETF//datatracker.ietf.org ical agenda//EN
BEGIN:VTIMEZONE
TZID:Europe/Prague
X-LIC-LOCATION:Europe/Prague
BEGIN:DAYLIGHT
TZOFFSETFROM:+0100
TZOFFSETTO:+0200
TZNAME:CEST
DTSTART:19810329T020000
RRULE:FREQ=YEARLY;BYMONTH=3;BYDAY=-1SU
END:DAYLIGHT
BEGIN:STANDARD
TZOFFSETFROM:+0200
TZOFFSETTO:+0100
TZNAME:CET
DTSTART:19961027T030000
RRULE:FREQ=YEARLY;BYMONTH=10;BYDAY=-1SU
END:STANDARD
BEGIN:STANDARD
TZOFFSETFROM:+005744
TZOFFSETTO:+005744
TZNAME:PMT
DTSTART:18500101T000000
RDATE:18500101T000000
END:STANDARD
BEGIN:STANDARD
TZOFFSETFROM:+005744
TZOFFSETTO:+0100
TZNAME:CET
DTSTART:18911001T000000
RDATE:18911001T000000
END:STANDARD
BEGIN:DAYLIGHT
TZOFFSETFROM:+0100
TZOFFSETTO:+0200
TZNAME:CEST
DTSTART:19160430T230000
RDATE:19160430T230000
RDATE:19170416T020000
RDATE:19180415T020000
RDATE:19400401T020000
RDATE:19430329T020000
RDATE:19440403T020000
RDATE:19450408T020000
RDATE:19460506T020000
RDATE:19470420T020000
RDATE:19480418T020000
RDATE:19490409T020000
RDATE:19790401T020000
RDATE:19800406T020000
END:DAYLIGHT
BEGIN:STANDARD
TZOFFSETFROM:+0200
TZOFFSETTO:+0100
TZNAME:CET
DTSTART:19161001T010000
RDATE:19161001T010000
RDATE:19170917T030000
RDATE:19180916T030000
RDATE:19421102T030000
RDATE:19431004T030000
RDATE:19440917T030000
RDATE:19451118T030000
RDATE:19461006T030000
RDATE:19471005T030000
RDATE:19481003T030000
RDATE:19491002T030000
RDATE:19790930T030000
RDATE:19800928T030000
RDATE:19810927T030000
RDATE:19820926T030000
RDATE:19830925T030000
RDATE:19840930T030000
RDATE:19850929T030000
RDATE:19860928T030000
RDATE:19870927T030000
RDATE:19880925T030000
RDATE:19890924T030000
RDATE:19900930T030000
RDATE:19910929T030000
RDATE:19920927T030000
RDATE:19930926T030000
RDATE:19940925T030000
RDATE:19950924T030000
END:STANDARD
BEGIN:STANDARD
TZOFFSETFROM:+0100
TZOFFSETTO:+0100
TZNAME:CET
DTSTART:19790101T000000
RDATE:19790101T000000
END:STANDARD
END:VTIMEZONE
BEGIN:VEVENT
UID:ietf-99-8947-hackathon
SUMMARY:IETF Hackathon
LOCATION:Chez Louis
STATUS:CONFIRMED
CLASS:PUBLIC
DTSTART;TZID=Europe/Prague:20170715T090000
DTEND;TZID=Europe/Prague:20170715T210000
DTSTAMP:20170616T110957Z
URL:https://datatracker.ietf.org/meeting/99/materials/agenda-99-hackathon-sessb-01
DESCRIPTION:IETF Hackathon\n
 \n
 Agenda https://datatracker.ietf.org/meeting/99/materials/agenda-99-hackathon-sessb-01\n
 \n
 Session materials: https://datatracker.ietf.org/meeting/99/session/hackathon\n
 \n
 See in schedule: https://datatracker.ietf.org/meeting/99/agenda#row-99-2017-07-15-sat-0900-hackathon-ietf-hackathon\n
END:VEVENT
BEGIN:VEVENT
UID:ietf-99-8946-tools
SUMMARY:Code Sprint
LOCATION:Karlin III
STATUS:CONFIRMED
CLASS:PUBLIC
DTSTART;TZID=Europe/Prague:20170715T093000
DTEND;TZID=Europe/Prague:20170715T173000
DTSTAMP:20170616T110946Z
DESCRIPTION:Code Sprint\n
 \n
 Meetecho: http://www.meetecho.com/ietf99/tools/\n
 \n
 Session materials: https://datatracker.ietf.org/meeting/99/session/tools\n
 \n
 See in schedule: https://datatracker.ietf.org/meeting/99/agenda#row-99-2017-07-15-sat-0930-tools-code-sprint\n
END:VEVENT
BEGIN:VEVENT
UID:ietf-99-8942-hackathon
SUMMARY:IETF Hackathon
LOCATION:Chez Louis
STATUS:CONFIRMED
CLASS:PUBLIC
DTSTART;TZID=Europe/Prague:20170716T090000
DTEND;TZID=Europe/Prague:20170716T160000
DTSTAMP:20170616T114647Z
URL:https://datatracker.ietf.org/meeting/99/materials/agenda-99-hackathon-sessa-00
DESCRIPTION:IETF Hackathon\n
 \n
 Agenda https://datatracker.ietf.org/meeting/99/materials/agenda-99-hackathon-sessa-00\n
 \n
 Session materials: https://datatracker.ietf.org/meeting/99/session/hackathon\n
 \n
 See in schedule: https://datatracker.ietf.org/meeting/99/agenda#row-99-2017-07-16-sun-0900-hackathon-ietf-hackathon\n
END:VEVENT
BEGIN:VEVENT
UID:ietf-99-8941-iepg
SUMMARY:IEPG Meeting
LOCATION:Congress Hall I
STATUS:CONFIRMED
CLASS:PUBLIC
DTSTART;TZID=Europe/Prague:20170716T100000
DTEND;TZID=Europe/Prague:20170716T120000
DTSTAMP:20170616T110613Z
DESCRIPTION:IEPG Meeting\n
 \n
 Meetecho: http://www.meetecho.com/ietf99/iepg/\n
 \n
 Session materials: https://datatracker.ietf.org/meeting/99/session/iepg\n
 \n
 See in schedule: https://datatracker.ietf.org/meeting/99/agenda#row-99-2017-07-16-sun-1000-iepg-iepg-meeting\n
END:VEVENT
BEGIN:VEVENT
UID:ietf-99-8949-edu
SUMMARY:DNSPRIV Tutorial
LOCATION:Congress Hall III
STATUS:CONFIRMED
CLASS:PUBLIC
DTSTART;TZID=Europe/Prague:20170716T123000
DTEND;TZID=Europe/Prague:20170716T133000
DTSTAMP:20170616T134347Z
DESCRIPTION:DNSPRIV Tutorial\n
 \n
 Meetecho: http://www.meetecho.com/ietf99/edu/\n
 \n
 Session materials: https://datatracker.ietf.org/meeting/99/session/edu\n
 \n
 See in schedule: https://datatracker.ietf.org/meeting/99/agenda#row-99-2017-07-16-sun-1230-edu-dnspriv-tutorial\n
END:VEVENT
BEGIN:VEVENT
UID:ietf-99-8936-edu
SUMMARY:Newcomer's Tutorial
LOCATION:Congress Hall I
STATUS:CONFIRMED
CLASS:PUBLIC
DTSTART;TZID=Europe/Prague:20170716T123000
DTEND;TZID=Europe/Prague:20170716T133000
DTSTAMP:20170615T145409Z
URL:https://datatracker.ietf.org/meeting/99/materials/agenda-99-edu-sessf-02
DESCRIPTION:Newcomer's Tutorial\n
 \n
 Meetecho: http://www.meetecho.com/ietf99/edu/\n
 \n
 Agenda https://datatracker.ietf.org/meeting/99/materials/agenda-99-edu-sessf-02\n
 \n
 Session materials: https://datatracker.ietf.org/meeting/99/session/edu\n
 \n
 See in schedule: https://datatracker.ietf.org/meeting/99/agenda#row-99-2017-07-16-sun-1230-edu-newcomers-tutorial\n
END:VEVENT
BEGIN:VEVENT
UID:ietf-99-8948-edu
SUMMARY:IEEE 802.1 Time-Sensitive Networking
LOCATION:Congress Hall III
STATUS:CONFIRMED
CLASS:PUBLIC
DTSTART;TZID=Europe/Prague:20170716T134500
DTEND;TZID=Europe/Prague:20170716T144500
DTSTAMP:20170615T145351Z
URL:https://datatracker.ietf.org/meeting/99/materials/agenda-99-edu-sessg-01
DESCRIPTION:IEEE 802.1 Time-Sensitive Networking\n
 \n
 Meetecho: http://www.meetecho.com/ietf99/edu/\n
 \n
 Agenda https://datatracker.ietf.org/meeting/99/materials/agenda-99-edu-sessg-01\n
 \n
 Session materials: https://datatracker.ietf.org/meeting/99/session/edu\n
 \n
 See in schedule: https://datatracker.ietf.org/meeting/99/agenda#row-99-2017-07-16-sun-1345-edu-ieee-8021-time-sensitive-networking\n
END:VEVENT
BEGIN:VEVENT
UID:ietf-99-8934-edu
SUMMARY:IRTF Overview
LOCATION:Congress Hall I
STATUS:CONFIRMED
CLASS:PUBLIC
DTSTART;TZID=Europe/Prague:20170716T134500
DTEND;TZID=Europe/Prague:20170716T144500
DTSTAMP:20170615T140547Z
URL:https://datatracker.ietf.org/meeting/99/materials/agenda-99-edu-sessd-02
DESCRIPTION:IRTF Overview\n
 \n
 Meetecho: http://www.meetecho.com/ietf99/edu/\n
 \n
 Agenda https://datatracker.ietf.org/meeting/99/materials/agenda-99-edu-sessd-02\n
 \n
 Session materials: https://datatracker.ietf.org/meeting/99/session/edu\n
 \n
 See in schedule: https://datatracker.ietf.org/meeting/99/agenda#row-99-2017-07-16-sun-1345-edu-irtf-overview\n
END:VEVENT
BEGIN:VEVENT
UID:ietf-99-8950-edu
SUMMARY:TEEP Tutorial
LOCATION:Karlin I/II
STATUS:CONFIRMED
CLASS:PUBLIC
DTSTART;TZID=Europe/Prague:20170716T134500
DTEND;TZID=Europe/Prague:20170716T144500
DTSTAMP:20170616T113346Z
URL:https://datatracker.ietf.org/meeting/99/materials/agenda-99-edu-sessi-00
DESCRIPTION:TEEP Tutorial\n
 \n
 Meetecho: http://www.meetecho.com/ietf99/edu/\n
 \n
 Agenda https://datatracker.ietf.org/meeting/99/materials/agenda-99-edu-sessi-00\n
 \n
 Session materials: https://datatracker.ietf.org/meeting/99/session/edu\n
 \n
 See in schedule: https://datatracker.ietf.org/meeting/99/agenda#row-99-2017-07-16-sun-1345-edu-teep-tutorial\n
END:VEVENT
BEGIN:VEVENT
UID:ietf-99-8935-edu
SUMMARY:Speed Mentoring (Note that pre-registration is required)
LOCATION:Summer Terrace
STATUS:CONFIRMED
CLASS:PUBLIC
DTSTART;TZID=Europe/Prague:20170716T150000
DTEND;TZID=Europe/Prague:20170716T160000
DTSTAMP:20170706T123701Z
DESCRIPTION:Speed Mentoring (Note that pre-registration is required)\n
 \n
 Session materials: https://datatracker.ietf.org/meeting/99/session/edu\n
 \n
 See in schedule: https://datatracker.ietf.org/meeting/99/agenda#row-99-2017-07-16-sun-1500-edu-speed-mentoring-note-that-pre-registration-is-required\n
END:VEVENT
BEGIN:VEVENT
UID:ietf-99-8929-edu
SUMMARY:Newcomers' Meet and Greet (open to Newcomers\, WG chairs and Mentors only)
LOCATION:Summer Terrace
STATUS:CONFIRMED
CLASS:PUBLIC
DTSTART;TZID=Europe/Prague:20170716T160000
DTEND;TZID=Europe/Prague:20170716T170000
DTSTAMP:20170629T145838Z
DESCRIPTION:Newcomers' Meet and Greet (open to Newcomers\, WG chairs and Mentors only)\n
 \n
 Session materials: https://datatracker.ietf.org/meeting/99/session/edu\n
 \n
 See in schedule: https://datatracker.ietf.org/meeting/99/agenda#row-99-2017-07-16-sun-1600-edu-newcomers-meet-and-greet-open-to-newcomers-wg-chairs-and-mentors-only\n
END:VEVENT
BEGIN:VEVENT
UID:ietf-99-8534-netslicing
SUMMARY:netslicing - Network Slicing
LOCATION:Congress Hall II
STATUS:CONFIRMED
CLASS:PUBLIC
DTSTART;TZID=Europe/Prague:20170717T133000
DTEND;TZID=Europe/Prague:20170717T153000
DTSTAMP:20170608T092545Z
URL:https://datatracker.ietf.org/meeting/99/materials/agenda-99-netslicing-01
DESCRIPTION:Afternoon Session I\n
 \n
 Meetecho: http://www.meetecho.com/ietf99/netslicing/\n
 \n
 Agenda https://datatracker.ietf.org/meeting/99/materials/agenda-99-netslicing-01\n
 \n
 Session materials: https://datatracker.ietf.org/meeting/99/session/netslicing\n
 \n
 See in schedule: https://datatracker.ietf.org/meeting/99/agenda#row-99-2017-07-17-mon-1330-ops-netslicing\n
END:VEVENT
BEGIN:VEVENT
UID:ietf-99-8559-banana
SUMMARY:banana - BANdwidth Aggregation for interNet Access
LOCATION:Grand Hilton Ballroom
STATUS:CONFIRMED
CLASS:PUBLIC
DTSTART;TZID=Europe/Prague:20170717T155000
DTEND;TZID=Europe/Prague:20170717T172000
DTSTAMP:20170608T092604Z
URL:https://datatracker.ietf.org/meeting/99/materials/agenda-99-banana-00
DESCRIPTION:Afternoon Session II\n
 \n
 Meetecho: http://www.meetecho.com/ietf99/banana/\n
 \n
 Agenda https://datatracker.ietf.org/meeting/99/materials/agenda-99-banana-00\n
 \n
 Session materials: https://datatracker.ietf.org/meeting/99/session/banana\n
 \n
 See in schedule: https://datatracker.ietf.org/meeting/99/agenda#row-99-2017-07-17-mon-1550-int-banana\n
END:VEVENT
BEGIN:VEVENT
UID:ietf-99-8966-edu
SUMMARY:3GPP & IETF Collaboration on 5G
LOCATION:Congress Hall III
STATUS:CONFIRMED
CLASS:PUBLIC
DTSTART;TZID=Europe/Prague:20170718T120000
DTEND;TZID=Europe/Prague:20170718T131500
DTSTAMP:20170808T150918Z
DESCRIPTION:3GPP & IETF Collaboration on 5G\n
 \n
 Meetecho: http://www.meetecho.com/ietf99/edu/\n
 \n
 Session materials: https://datatracker.ietf.org/meeting/99/session/edu\n
 \n
 See in schedule: https://datatracker.ietf.org/meeting/99/agenda#row-99-2017-07-18-tue-1200-edu-3gpp-ietf-collaboration-on-5g\n
END:VEVENT
BEGIN:VEVENT
UID:ietf-99-8874-iasa20
SUMMARY:iasa20 - IASA 2.0
LOCATION:Grand Hilton Ballroom
STATUS:CONFIRMED
CLASS:PUBLIC
DTSTART;TZID=Europe/Prague:20170718T155000
DTEND;TZID=Europe/Prague:20170718T175000
DTSTAMP:20170609T093125Z
URL:https://datatracker.ietf.org/meeting/99/materials/agenda-99-iasa20-00
DESCRIPTION:Afternoon Session II\n
 \n
 Meetecho: http://www.meetecho.com/ietf99/iasa20/\n
 \n
 Agenda https://datatracker.ietf.org/meeting/99/materials/agenda-99-iasa20-00\n
 \n
 Session materials: https://datatracker.ietf.org/meeting/99/session/iasa20\n
 \n
 See in schedule: https://datatracker.ietf.org/meeting/99/agenda#row-99-2017-07-18-tue-1550-gen-iasa20\n
END:VEVENT
BEGIN:VEVENT
UID:ietf-99-8907-edu
SUMMARY:WG Chairs Forum (For WG Chairs Only)
LOCATION:Congress Hall III
STATUS:CONFIRMED
CLASS:PUBLIC
DTSTART;TZID=Europe/Prague:20170719T120000
DTEND;TZID=Europe/Prague:20170719T130000
DTSTAMP:20170619T123042Z
URL:https://datatracker.ietf.org/meeting/99/materials/agenda-99-edu-sessb-00
DESCRIPTION:WG Chairs Forum (For WG Chairs Only)\n
 \n
 Meetecho: http://www.meetecho.com/ietf99/edu/\n
 \n
 Agenda https://datatracker.ietf.org/meeting/99/materials/agenda-99-edu-sessb-00\n
 \n
 Session materials: https://datatracker.ietf.org/meeting/99/session/edu\n
 \n
 See in schedule: https://datatracker.ietf.org/meeting/99/agenda#row-99-2017-07-19-wed-1200-edu-wg-chairs-forum-for-wg-chairs-only\n
END:VEVENT
BEGIN:VEVENT
UID:ietf-99-8702-ideas
SUMMARY:ideas - IDentity Enabled Networks
LOCATION:Congress Hall II
STATUS:CONFIRMED
CLASS:PUBLIC
DTSTART;TZID=Europe/Prague:20170719T133000
DTEND;TZID=Europe/Prague:20170719T150000
DTSTAMP:20170608T092759Z
URL:https://datatracker.ietf.org/meeting/99/materials/agenda-99-ideas-01
DESCRIPTION:Afternoon Session I\n
 \n
 Meetecho: http://www.meetecho.com/ietf99/ideas/\n
 \n
 Agenda https://datatracker.ietf.org/meeting/99/materials/agenda-99-ideas-01\n
 \n
 Session materials: https://datatracker.ietf.org/meeting/99/session/ideas\n
 \n
 See in schedule: https://datatracker.ietf.org/meeting/99/agenda#row-99-2017-07-19-wed-1330-rtg-ideas\n
END:VEVENT
BEGIN:VEVENT
UID:ietf-99-8904-ietf
SUMMARY:IETF Plenary
LOCATION:Congress Hall I/II
STATUS:CONFIRMED
CLASS:PUBLIC
DTSTART;TZID=Europe/Prague:20170719T171000
DTEND;TZID=Europe/Prague:20170719T194000
DTSTAMP:20170615T135908Z
URL:https://datatracker.ietf.org/meeting/99/materials/agenda-99-ietf-sessb-01
DESCRIPTION:IETF Plenary\n
 \n
 Meetecho: http://www.meetecho.com/ietf99/plenary\n
 \n
 Agenda https://datatracker.ietf.org/meeting/99/materials/agenda-99-ietf-sessb-01\n
 \n
 Session materials: https://datatracker.ietf.org/meeting/99/session/ietf\n
 \n
 See in schedule: https://datatracker.ietf.org/meeting/99/agenda#row-99-2017-07-19-wed-1710-1plenary-ietf\n
END:VEVENT
BEGIN:VEVENT
UID:ietf-99-8957-edu
SUMMARY:Newcomers Feedback Session
LOCATION:Berlin/Brussels
STATUS:CONFIRMED
CLASS:PUBLIC
DTSTART;TZID=Europe/Prague:20170720T083000
DTEND;TZID=Europe/Prague:20170720T093000
DTSTAMP:20170616T134408Z
DESCRIPTION:Newcomers Feedback Session\n
 \n
 Meetecho: http://www.meetecho.com/ietf99/edu/\n
 \n
 Session materials: https://datatracker.ietf.org/meeting/99/session/edu\n
 \n
 See in schedule: https://datatracker.ietf.org/meeting/99/agenda#row-99-2017-07-20-thu-0830-edu-newcomers-feedback-session\n
END:VEVENT
BEGIN:VEVENT
UID:ietf-99-8899-edu
SUMMARY:Thursday Lunch Speaker Series
LOCATION:Congress Hall III
STATUS:CONFIRMED
CLASS:PUBLIC
DTSTART;TZID=Europe/Prague:20170720T123000
DTEND;TZID=Europe/Prague:20170720T131500
DTSTAMP:20170615T135550Z
DESCRIPTION:Thursday Lunch Speaker Series\n
 \n
 Meetecho: http://www.meetecho.com/ietf99/edu/\n
 \n
 Session materials: https://datatracker.ietf.org/meeting/99/session/edu\n
 \n
 See in schedule: https://datatracker.ietf.org/meeting/99/agenda#row-99-2017-07-20-thu-1230-edu-thursday-lunch-speaker-series\n
END:VEVENT
END:VCALENDAR
