BEGIN:VCALENDAR
VERSION:2.0
METHOD:PUBLISH
PRODID:-//IETF//datatracker.ietf.org ical agenda//EN
BEGIN:VTIMEZONE
TZID:Europe/Prague
X-LIC-LOCATION:Europe/Prague
BEGIN:DAYLIGHT
TZOFFSETFROM:+0100
TZOFFSETTO:+0200
TZNAME:CEST
DTSTART:19810329T020000
RRULE:FREQ=YEARLY;BYMONTH=3;BYDAY=-1SU
END:DAYLIGHT
BEGIN:STANDARD
TZOFFSETFROM:+0200
TZOFFSETTO:+0100
TZNAME:CET
DTSTART:19961027T030000
RRULE:FREQ=YEARLY;BYMONTH=10;BYDAY=-1SU
END:STANDARD
BEGIN:STANDARD
TZOFFSETFROM:+005744
TZOFFSETTO:+005744
TZNAME:PMT
DTSTART:18500101T000000
RDATE:18500101T000000
END:STANDARD
BEGIN:STANDARD
TZOFFSETFROM:+005744
TZOFFSETTO:+0100
TZNAME:CET
DTSTART:18911001T000000
RDATE:18911001T000000
END:STANDARD
BEGIN:DAYLIGHT
TZOFFSETFROM:+0100
TZOFFSETTO:+0200
TZNAME:CEST
DTSTART:19160430T230000
RDATE:19160430T230000
RDATE:19170416T020000
RDATE:19180415T020000
RDATE:19400401T020000
RDATE:19430329T020000
RDATE:19440403T020000
RDATE:19450408T020000
RDATE:19460506T020000
RDATE:19470420T020000
RDATE:19480418T020000
RDATE:19490409T020000
RDATE:19790401T020000
RDATE:19800406T020000
END:DAYLIGHT
BEGIN:STANDARD
TZOFFSETFROM:+0200
TZOFFSETTO:+0100
TZNAME:CET
DTSTART:19161001T010000
RDATE:19161001T010000
RDATE:19170917T030000
RDATE:19180916T030000
RDATE:19421102T030000
RDATE:19431004T030000
RDATE:19440917T030000
RDATE:19451118T030000
RDATE:19461006T030000
RDATE:19471005T030000
RDATE:19481003T030000
RDATE:19491002T030000
RDATE:19790930T030000
RDATE:19800928T030000
RDATE:19810927T030000
RDATE:19820926T030000
RDATE:19830925T030000
RDATE:19840930T030000
RDATE:19850929T030000
RDATE:19860928T030000
RDATE:19870927T030000
RDATE:19880925T030000
RDATE:19890924T030000
RDATE:19900930T030000
RDATE:19910929T030000
RDATE:19920927T030000
RDATE:19930926T030000
RDATE:19940925T030000
RDATE:19950924T030000
END:STANDARD
BEGIN:STANDARD
TZOFFSETFROM:+0100
TZOFFSETTO:+0100
TZNAME:CET
DTSTART:19790101T000000
RDATE:19790101T000000
END:STANDARD
END:VTIMEZONE
BEGIN:VEVENT
UID:ietf-99-8517-6man
SUMMARY:6man - IPv6 Maintenance
LOCATION:Grand Hilton Ballroom
STATUS:CONFIRMED
CLASS:PUBLIC
DTSTART;TZID=Europe/Prague:20170717T093000
DTEND;TZID=Europe/Prague:20170717T120000
DTSTAMP:20170608T092526Z
URL:https://datatracker.ietf.org/meeting/99/materials/agenda-99-6man-01
DESCRIPTION:Morning Session I\n
 \n
 Meetecho: http://www.meetecho.com/ietf99/6man/\n
 \n
 Agenda https://datatracker.ietf.org/meeting/99/materials/agenda-99-6man-01\n
 \n
 Session materials: https://datatracker.ietf.org/meeting/99/session/6man\n
 \n
 See in schedule: https://datatracker.ietf.org/meeting/99/agenda#row-99-2017-07-17-mon-0930-int-6man\n
END:VEVENT
BEGIN:VEVENT
UID:ietf-99-8542-6tisch
SUMMARY:6tisch - IPv6 over the TSCH mode of IEEE 802.15.4e
LOCATION:Karlin I/II
STATUS:CONFIRMED
CLASS:PUBLIC
DTSTART;TZID=Europe/Prague:20170717T133000
DTEND;TZID=Europe/Prague:20170717T153000
DTSTAMP:20170608T092545Z
URL:https://datatracker.ietf.org/meeting/99/materials/agenda-99-6tisch-02
DESCRIPTION:Afternoon Session I\n
 \n
 Meetecho: http://www.meetecho.com/ietf99/6tisch/\n
 \n
 Agenda https://datatracker.ietf.org/meeting/99/materials/agenda-99-6tisch-02\n
 \n
 Session materials: https://datatracker.ietf.org/meeting/99/session/6tisch\n
 \n
 See in schedule: https://datatracker.ietf.org/meeting/99/agenda#row-99-2017-07-17-mon-1330-int-6tisch\n
END:VEVENT
BEGIN:VEVENT
UID:ietf-99-8538-homenet
SUMMARY:homenet - Home Networking
LOCATION:Grand Hilton Ballroom
STATUS:CONFIRMED
CLASS:PUBLIC
DTSTART;TZID=Europe/Prague:20170717T133000
DTEND;TZID=Europe/Prague:20170717T153000
DTSTAMP:20170608T092545Z
URL:https://datatracker.ietf.org/meeting/99/materials/agenda-99-homenet-01
DESCRIPTION:Afternoon Session I\n
 \n
 Meetecho: http://www.meetecho.com/ietf99/homenet/\n
 \n
 Agenda https://datatracker.ietf.org/meeting/99/materials/agenda-99-homenet-01\n
 \n
 Session materials: https://datatracker.ietf.org/meeting/99/session/homenet\n
 \n
 See in schedule: https://datatracker.ietf.org/meeting/99/agenda#row-99-2017-07-17-mon-1330-int-homenet\n
END:VEVENT
BEGIN:VEVENT
UID:ietf-99-8559-banana
SUMMARY:banana - BANdwidth Aggregation for interNet Access
LOCATION:Grand Hilton Ballroom
STATUS:CONFIRMED
CLASS:PUBLIC
DTSTART;TZID=Europe/Prague:20170717T155000
DTEND;TZID=Europe/Prague:20170717T172000
DTSTAMP:20170608T092604Z
URL:https://datatracker.ietf.org/meeting/99/materials/agenda-99-banana-00
DESCRIPTION:Afternoon Session II\n
 \n
 Meetecho: http://www.meetecho.com/ietf99/banana/\n
 \n
 Agenda https://datatracker.ietf.org/meeting/99/materials/agenda-99-banana-00\n
 \n
 Session materials: https://datatracker.ietf.org/meeting/99/session/banana\n
 \n
 See in schedule: https://datatracker.ietf.org/meeting/99/agenda#row-99-2017-07-17-mon-1550-int-banana\n
END:VEVENT
BEGIN:VEVENT
UID:ietf-99-8598-dprive
SUMMARY:dprive - DNS PRIVate Exchange
LOCATION:Congress Hall III
STATUS:CONFIRMED
CLASS:PUBLIC
DTSTART;TZID=Europe/Prague:20170718T093000
DTEND;TZID=Europe/Prague:20170718T120000
DTSTAMP:20170608T092648Z
URL:https://datatracker.ietf.org/meeting/99/materials/agenda-99-dprive-04
DESCRIPTION:Morning Session I\n
 \n
 Meetecho: http://www.meetecho.com/ietf99/dprive/\n
 \n
 Agenda https://datatracker.ietf.org/meeting/99/materials/agenda-99-dprive-04\n
 \n
 Session materials: https://datatracker.ietf.org/meeting/99/session/dprive\n
 \n
 See in schedule: https://datatracker.ietf.org/meeting/99/agenda#row-99-2017-07-18-tue-0930-int-dprive\n
END:VEVENT
BEGIN:VEVENT
UID:ietf-99-8606-ntp
SUMMARY:ntp - Network Time Protocol (Joint session with TICTOC)
LOCATION:Karlin III
STATUS:CONFIRMED
CLASS:PUBLIC
DTSTART;TZID=Europe/Prague:20170718T093000
DTEND;TZID=Europe/Prague:20170718T120000
DTSTAMP:20170608T092648Z
URL:https://datatracker.ietf.org/meeting/99/materials/agenda-99-ntp-01
DESCRIPTION:Morning Session I\n
 Note: Joint session with TICTOC\n
 \n
 Meetecho: http://www.meetecho.com/ietf99/ntp/\n
 \n
 Agenda https://datatracker.ietf.org/meeting/99/materials/agenda-99-ntp-01\n
 \n
 Session materials: https://datatracker.ietf.org/meeting/99/session/ntp\n
 \n
 See in schedule: https://datatracker.ietf.org/meeting/99/agenda#row-99-2017-07-18-tue-0930-int-ntp\n
END:VEVENT
BEGIN:VEVENT
UID:ietf-99-8606-tictoc
SUMMARY:tictoc - Timing over IP Connection and Transfer of Clock (Joint session with NTP)
LOCATION:Karlin III
STATUS:CONFIRMED
CLASS:PUBLIC
DTSTART;TZID=Europe/Prague:20170718T093000
DTEND;TZID=Europe/Prague:20170718T120000
DTSTAMP:20170608T092648Z
URL:https://datatracker.ietf.org/meeting/99/materials/agenda-99-tictoc-00
DESCRIPTION:Morning Session I\n
 Note: Joint session with NTP\n
 \n
 Meetecho: http://www.meetecho.com/ietf99/tictoc/\n
 \n
 Agenda https://datatracker.ietf.org/meeting/99/materials/agenda-99-tictoc-00\n
 \n
 Session materials: https://datatracker.ietf.org/meeting/99/session/tictoc\n
 \n
 See in schedule: https://datatracker.ietf.org/meeting/99/agenda#row-99-2017-07-18-tue-0930-int-tictoc\n
END:VEVENT
BEGIN:VEVENT
UID:ietf-99-8878-6lo
SUMMARY:6lo - IPv6 over Networks of Resource-constrained Nodes
LOCATION:Karlin I/II
STATUS:CONFIRMED
CLASS:PUBLIC
DTSTART;TZID=Europe/Prague:20170718T155000
DTEND;TZID=Europe/Prague:20170718T175000
DTSTAMP:20170609T093125Z
URL:https://datatracker.ietf.org/meeting/99/materials/agenda-99-6lo-03
DESCRIPTION:Afternoon Session II\n
 \n
 Meetecho: http://www.meetecho.com/ietf99/6lo/\n
 \n
 Agenda https://datatracker.ietf.org/meeting/99/materials/agenda-99-6lo-03\n
 \n
 Session materials: https://datatracker.ietf.org/meeting/99/session/6lo\n
 \n
 See in schedule: https://datatracker.ietf.org/meeting/99/agenda#row-99-2017-07-18-tue-1550-int-6lo\n
END:VEVENT
BEGIN:VEVENT
UID:ietf-99-8677-dmm
SUMMARY:dmm - Distributed Mobility Management
LOCATION:Berlin/Brussels
STATUS:CONFIRMED
CLASS:PUBLIC
DTSTART;TZID=Europe/Prague:20170719T093000
DTEND;TZID=Europe/Prague:20170719T120000
DTSTAMP:20170608T092748Z
URL:https://datatracker.ietf.org/meeting/99/materials/agenda-99-dmm-02
DESCRIPTION:Morning Session I\n
 \n
 Meetecho: http://www.meetecho.com/ietf99/dmm/\n
 \n
 Agenda https://datatracker.ietf.org/meeting/99/materials/agenda-99-dmm-02\n
 \n
 Session materials: https://datatracker.ietf.org/meeting/99/session/dmm\n
 \n
 See in schedule: https://datatracker.ietf.org/meeting/99/agenda#row-99-2017-07-19-wed-0930-int-dmm\n
END:VEVENT
BEGIN:VEVENT
UID:ietf-99-8697-dhc
SUMMARY:dhc - Dynamic Host Configuration
LOCATION:Athens/Barcelona
STATUS:CONFIRMED
CLASS:PUBLIC
DTSTART;TZID=Europe/Prague:20170719T133000
DTEND;TZID=Europe/Prague:20170719T150000
DTSTAMP:20170608T092759Z
URL:https://datatracker.ietf.org/meeting/99/materials/agenda-99-dhc-04
DESCRIPTION:Afternoon Session I\n
 \n
 Meetecho: http://www.meetecho.com/ietf99/dhc/\n
 \n
 Agenda https://datatracker.ietf.org/meeting/99/materials/agenda-99-dhc-04\n
 \n
 Session materials: https://datatracker.ietf.org/meeting/99/session/dhc\n
 \n
 See in schedule: https://datatracker.ietf.org/meeting/99/agenda#row-99-2017-07-19-wed-1330-int-dhc\n
END:VEVENT
BEGIN:VEVENT
UID:ietf-99-8718-dnssd
SUMMARY:dnssd - Extensions for Scalable DNS Service Discovery 
LOCATION:Athens/Barcelona
STATUS:CONFIRMED
CLASS:PUBLIC
DTSTART;TZID=Europe/Prague:20170719T152000
DTEND;TZID=Europe/Prague:20170719T165000
DTSTAMP:20170608T092816Z
URL:https://datatracker.ietf.org/meeting/99/materials/agenda-99-dnssd-06
DESCRIPTION:Afternoon Session II\n
 \n
 Meetecho: http://www.meetecho.com/ietf99/dnssd/\n
 \n
 Agenda https://datatracker.ietf.org/meeting/99/materials/agenda-99-dnssd-06\n
 \n
 Session materials: https://datatracker.ietf.org/meeting/99/session/dnssd\n
 \n
 See in schedule: https://datatracker.ietf.org/meeting/99/agenda#row-99-2017-07-19-wed-1520-int-dnssd\n
END:VEVENT
BEGIN:VEVENT
UID:ietf-99-8748-intarea
SUMMARY:intarea - Internet Area Working Group
LOCATION:Grand Hilton Ballroom
STATUS:CONFIRMED
CLASS:PUBLIC
DTSTART;TZID=Europe/Prague:20170720T093000
DTEND;TZID=Europe/Prague:20170720T120000
DTSTAMP:20170608T092842Z
URL:https://datatracker.ietf.org/meeting/99/materials/agenda-99-intarea-03
DESCRIPTION:Morning Session I\n
 \n
 Meetecho: http://www.meetecho.com/ietf99/intarea/\n
 \n
 Agenda https://datatracker.ietf.org/meeting/99/materials/agenda-99-intarea-03\n
 \n
 Session materials: https://datatracker.ietf.org/meeting/99/session/intarea\n
 \n
 See in schedule: https://datatracker.ietf.org/meeting/99/agenda#row-99-2017-07-20-thu-0930-int-intarea\n
END:VEVENT
BEGIN:VEVENT
UID:ietf-99-8781-ipwave
SUMMARY:ipwave - IP Wireless Access in Vehicular Environments
LOCATION:Athens/Barcelona
STATUS:CONFIRMED
CLASS:PUBLIC
DTSTART;TZID=Europe/Prague:20170720T155000
DTEND;TZID=Europe/Prague:20170720T175000
DTSTAMP:20170608T092911Z
URL:https://datatracker.ietf.org/meeting/99/materials/agenda-99-ipwave-00
DESCRIPTION:Afternoon Session II\n
 \n
 Meetecho: http://www.meetecho.com/ietf99/ipwave/\n
 \n
 Agenda https://datatracker.ietf.org/meeting/99/materials/agenda-99-ipwave-00\n
 \n
 Session materials: https://datatracker.ietf.org/meeting/99/session/ipwave\n
 \n
 See in schedule: https://datatracker.ietf.org/meeting/99/agenda#row-99-2017-07-20-thu-1550-int-ipwave\n
END:VEVENT
BEGIN:VEVENT
UID:ietf-99-8802-lwig
SUMMARY:lwig - Light-Weight Implementation Guidance
LOCATION:Athens/Barcelona
STATUS:CONFIRMED
CLASS:PUBLIC
DTSTART;TZID=Europe/Prague:20170720T181000
DTEND;TZID=Europe/Prague:20170720T191000
DTSTAMP:20170609T093114Z
URL:https://datatracker.ietf.org/meeting/99/materials/agenda-99-lwig-02
DESCRIPTION:Afternoon Session III\n
 \n
 Meetecho: http://www.meetecho.com/ietf99/lwig/\n
 \n
 Agenda https://datatracker.ietf.org/meeting/99/materials/agenda-99-lwig-02\n
 \n
 Session materials: https://datatracker.ietf.org/meeting/99/session/lwig\n
 \n
 See in schedule: https://datatracker.ietf.org/meeting/99/agenda#row-99-2017-07-20-thu-1810-int-lwig\n
END:VEVENT
BEGIN:VEVENT
UID:ietf-99-8836-lpwan
SUMMARY:lpwan - IPv6 over Low Power Wide-Area Networks
LOCATION:Karlin I/II
STATUS:CONFIRMED
CLASS:PUBLIC
DTSTART;TZID=Europe/Prague:20170721T093000
DTEND;TZID=Europe/Prague:20170721T113000
DTSTAMP:20170608T092946Z
URL:https://datatracker.ietf.org/meeting/99/materials/agenda-99-lpwan-07
DESCRIPTION:Morning Session I\n
 \n
 Meetecho: http://www.meetecho.com/ietf99/lpwan/\n
 \n
 Agenda https://datatracker.ietf.org/meeting/99/materials/agenda-99-lpwan-07\n
 \n
 Session materials: https://datatracker.ietf.org/meeting/99/session/lpwan\n
 \n
 See in schedule: https://datatracker.ietf.org/meeting/99/agenda#row-99-2017-07-21-fri-0930-int-lpwan\n
END:VEVENT
END:VCALENDAR
