BEGIN:VCALENDAR
VERSION:2.0
METHOD:PUBLISH
PRODID:-//IETF//datatracker.ietf.org ical agenda//EN
BEGIN:VTIMEZONE
TZID:Europe/Prague
X-LIC-LOCATION:Europe/Prague
BEGIN:DAYLIGHT
TZOFFSETFROM:+0100
TZOFFSETTO:+0200
TZNAME:CEST
DTSTART:19810329T020000
RRULE:FREQ=YEARLY;BYMONTH=3;BYDAY=-1SU
END:DAYLIGHT
BEGIN:STANDARD
TZOFFSETFROM:+0200
TZOFFSETTO:+0100
TZNAME:CET
DTSTART:19961027T030000
RRULE:FREQ=YEARLY;BYMONTH=10;BYDAY=-1SU
END:STANDARD
BEGIN:STANDARD
TZOFFSETFROM:+005744
TZOFFSETTO:+005744
TZNAME:PMT
DTSTART:18500101T000000
RDATE:18500101T000000
END:STANDARD
BEGIN:STANDARD
TZOFFSETFROM:+005744
TZOFFSETTO:+0100
TZNAME:CET
DTSTART:18911001T000000
RDATE:18911001T000000
END:STANDARD
BEGIN:DAYLIGHT
TZOFFSETFROM:+0100
TZOFFSETTO:+0200
TZNAME:CEST
DTSTART:19160430T230000
RDATE:19160430T230000
RDATE:19170416T020000
RDATE:19180415T020000
RDATE:19400401T020000
RDATE:19430329T020000
RDATE:19440403T020000
RDATE:19450408T020000
RDATE:19460506T020000
RDATE:19470420T020000
RDATE:19480418T020000
RDATE:19490409T020000
RDATE:19790401T020000
RDATE:19800406T020000
END:DAYLIGHT
BEGIN:STANDARD
TZOFFSETFROM:+0200
TZOFFSETTO:+0100
TZNAME:CET
DTSTART:19161001T010000
RDATE:19161001T010000
RDATE:19170917T030000
RDATE:19180916T030000
RDATE:19421102T030000
RDATE:19431004T030000
RDATE:19440917T030000
RDATE:19451118T030000
RDATE:19461006T030000
RDATE:19471005T030000
RDATE:19481003T030000
RDATE:19491002T030000
RDATE:19790930T030000
RDATE:19800928T030000
RDATE:19810927T030000
RDATE:19820926T030000
RDATE:19830925T030000
RDATE:19840930T030000
RDATE:19850929T030000
RDATE:19860928T030000
RDATE:19870927T030000
RDATE:19880925T030000
RDATE:19890924T030000
RDATE:19900930T030000
RDATE:19910929T030000
RDATE:19920927T030000
RDATE:19930926T030000
RDATE:19940925T030000
RDATE:19950924T030000
END:STANDARD
BEGIN:STANDARD
TZOFFSETFROM:+0100
TZOFFSETTO:+0100
TZNAME:CET
DTSTART:19790101T000000
RDATE:19790101T000000
END:STANDARD
END:VTIMEZONE
BEGIN:VEVENT
UID:ietf-99-8509-nmrg
SUMMARY:nmrg - Network Management
LOCATION:Berlin/Brussels
STATUS:CONFIRMED
CLASS:PUBLIC
DTSTART;TZID=Europe/Prague:20170717T093000
DTEND;TZID=Europe/Prague:20170717T120000
DTSTAMP:20170608T092526Z
URL:https://datatracker.ietf.org/meeting/99/materials/agenda-99-nmrg-04
DESCRIPTION:Morning Session I\n
 \n
 Meetecho: http://www.meetecho.com/ietf99/nmrg/\n
 \n
 Agenda https://datatracker.ietf.org/meeting/99/materials/agenda-99-nmrg-04\n
 \n
 Session materials: https://datatracker.ietf.org/meeting/99/session/nmrg\n
 \n
 See in schedule: https://datatracker.ietf.org/meeting/99/agenda#row-99-2017-07-17-mon-0930-irtf-nmrg\n
END:VEVENT
BEGIN:VEVENT
UID:ietf-99-8535-iccrg
SUMMARY:iccrg - Internet Congestion Control
LOCATION:Congress Hall III
STATUS:CONFIRMED
CLASS:PUBLIC
DTSTART;TZID=Europe/Prague:20170717T133000
DTEND;TZID=Europe/Prague:20170717T153000
DTSTAMP:20170608T092545Z
URL:https://datatracker.ietf.org/meeting/99/materials/agenda-99-iccrg-02
DESCRIPTION:Afternoon Session I\n
 \n
 Meetecho: http://www.meetecho.com/ietf99/iccrg/\n
 \n
 Agenda https://datatracker.ietf.org/meeting/99/materials/agenda-99-iccrg-02\n
 \n
 Session materials: https://datatracker.ietf.org/meeting/99/session/iccrg\n
 \n
 See in schedule: https://datatracker.ietf.org/meeting/99/agenda#row-99-2017-07-17-mon-1330-irtf-iccrg\n
END:VEVENT
BEGIN:VEVENT
UID:ietf-99-8576-nfvrg
SUMMARY:nfvrg - Network Function Virtualization
LOCATION:Congress Hall II
STATUS:CONFIRMED
CLASS:PUBLIC
DTSTART;TZID=Europe/Prague:20170717T174000
DTEND;TZID=Europe/Prague:20170717T184000
DTSTAMP:20170608T092629Z
URL:https://datatracker.ietf.org/meeting/99/materials/agenda-99-nfvrg-00
DESCRIPTION:Afternoon Session III\n
 \n
 Meetecho: http://www.meetecho.com/ietf99/nfvrg/\n
 \n
 Agenda https://datatracker.ietf.org/meeting/99/materials/agenda-99-nfvrg-00\n
 \n
 Session materials: https://datatracker.ietf.org/meeting/99/session/nfvrg\n
 \n
 See in schedule: https://datatracker.ietf.org/meeting/99/agenda#row-99-2017-07-17-mon-1740-irtf-nfvrg\n
END:VEVENT
BEGIN:VEVENT
UID:ietf-99-8643-t2trg
SUMMARY:t2trg - Thing-to-Thing
LOCATION:Grand Hilton Ballroom
STATUS:CONFIRMED
CLASS:PUBLIC
DTSTART;TZID=Europe/Prague:20170718T133000
DTEND;TZID=Europe/Prague:20170718T153000
DTSTAMP:20170608T110320Z
URL:https://datatracker.ietf.org/meeting/99/materials/agenda-99-t2trg-00
DESCRIPTION:Afternoon Session I\n
 \n
 Meetecho: http://www.meetecho.com/ietf99/t2trg/\n
 \n
 Agenda https://datatracker.ietf.org/meeting/99/materials/agenda-99-t2trg-00\n
 \n
 Session materials: https://datatracker.ietf.org/meeting/99/session/t2trg\n
 \n
 See in schedule: https://datatracker.ietf.org/meeting/99/agenda#row-99-2017-07-18-tue-1330-irtf-t2trg\n
END:VEVENT
BEGIN:VEVENT
UID:ietf-99-8868-cfrg
SUMMARY:cfrg - Crypto Forum
LOCATION:Congress Hall I
STATUS:CONFIRMED
CLASS:PUBLIC
DTSTART;TZID=Europe/Prague:20170718T155000
DTEND;TZID=Europe/Prague:20170718T175000
DTSTAMP:20170609T093125Z
URL:https://datatracker.ietf.org/meeting/99/materials/agenda-99-cfrg-01
DESCRIPTION:Afternoon Session II\n
 \n
 Meetecho: http://www.meetecho.com/ietf99/cfrg/\n
 \n
 Agenda https://datatracker.ietf.org/meeting/99/materials/agenda-99-cfrg-01\n
 \n
 Session materials: https://datatracker.ietf.org/meeting/99/session/cfrg\n
 \n
 See in schedule: https://datatracker.ietf.org/meeting/99/agenda#row-99-2017-07-18-tue-1550-irtf-cfrg\n
END:VEVENT
BEGIN:VEVENT
UID:ietf-99-8689-icnrg
SUMMARY:icnrg - Information-Centric Networking
LOCATION:Karlin I/II
STATUS:CONFIRMED
CLASS:PUBLIC
DTSTART;TZID=Europe/Prague:20170719T093000
DTEND;TZID=Europe/Prague:20170719T120000
DTSTAMP:20170608T092748Z
URL:https://datatracker.ietf.org/meeting/99/materials/agenda-99-icnrg-02
DESCRIPTION:Morning Session I\n
 \n
 Meetecho: http://www.meetecho.com/ietf99/icnrg/\n
 \n
 Agenda https://datatracker.ietf.org/meeting/99/materials/agenda-99-icnrg-02\n
 \n
 Session materials: https://datatracker.ietf.org/meeting/99/session/icnrg\n
 \n
 See in schedule: https://datatracker.ietf.org/meeting/99/agenda#row-99-2017-07-19-wed-0930-irtf-icnrg\n
END:VEVENT
BEGIN:VEVENT
UID:ietf-99-8703-panrg
SUMMARY:panrg - Path Aware Networking RG
LOCATION:Congress Hall III
STATUS:CONFIRMED
CLASS:PUBLIC
DTSTART;TZID=Europe/Prague:20170719T133000
DTEND;TZID=Europe/Prague:20170719T150000
DTSTAMP:20170608T092759Z
URL:https://datatracker.ietf.org/meeting/99/materials/agenda-99-panrg-05
DESCRIPTION:Afternoon Session I\n
 \n
 Meetecho: http://www.meetecho.com/ietf99/panrg/\n
 \n
 Agenda https://datatracker.ietf.org/meeting/99/materials/agenda-99-panrg-05\n
 \n
 Session materials: https://datatracker.ietf.org/meeting/99/session/panrg\n
 \n
 See in schedule: https://datatracker.ietf.org/meeting/99/agenda#row-99-2017-07-19-wed-1330-irtf-panrg\n
END:VEVENT
BEGIN:VEVENT
UID:ietf-99-8732-gaia
SUMMARY:gaia - Global Access to the Internet for All
LOCATION:Karlin III
STATUS:CONFIRMED
CLASS:PUBLIC
DTSTART;TZID=Europe/Prague:20170719T152000
DTEND;TZID=Europe/Prague:20170719T165000
DTSTAMP:20170608T092816Z
URL:https://datatracker.ietf.org/meeting/99/materials/agenda-99-gaia-07
DESCRIPTION:Afternoon Session II\n
 \n
 Meetecho: http://www.meetecho.com/ietf99/gaia/\n
 \n
 Agenda https://datatracker.ietf.org/meeting/99/materials/agenda-99-gaia-07\n
 \n
 Session materials: https://datatracker.ietf.org/meeting/99/session/gaia\n
 \n
 See in schedule: https://datatracker.ietf.org/meeting/99/agenda#row-99-2017-07-19-wed-1520-irtf-gaia\n
END:VEVENT
BEGIN:VEVENT
UID:ietf-99-8744-maprg
SUMMARY:maprg - Measurement and Analysis for Protocols
LOCATION:Congress Hall II
STATUS:CONFIRMED
CLASS:PUBLIC
DTSTART;TZID=Europe/Prague:20170720T093000
DTEND;TZID=Europe/Prague:20170720T120000
DTSTAMP:20170608T092842Z
URL:https://datatracker.ietf.org/meeting/99/materials/agenda-99-maprg-19
DESCRIPTION:Morning Session I\n
 \n
 Meetecho: http://www.meetecho.com/ietf99/maprg/\n
 \n
 Agenda https://datatracker.ietf.org/meeting/99/materials/agenda-99-maprg-19\n
 \n
 Session materials: https://datatracker.ietf.org/meeting/99/session/maprg\n
 \n
 See in schedule: https://datatracker.ietf.org/meeting/99/agenda#row-99-2017-07-20-thu-0930-irtf-maprg\n
END:VEVENT
BEGIN:VEVENT
UID:ietf-99-8760-nwcrg
SUMMARY:nwcrg - Network Coding
LOCATION:Athens/Barcelona
STATUS:CONFIRMED
CLASS:PUBLIC
DTSTART;TZID=Europe/Prague:20170720T133000
DTEND;TZID=Europe/Prague:20170720T153000
DTSTAMP:20170608T092853Z
URL:https://datatracker.ietf.org/meeting/99/materials/agenda-99-nwcrg-06
DESCRIPTION:Afternoon Session I\n
 \n
 Meetecho: http://www.meetecho.com/ietf99/nwcrg/\n
 \n
 Agenda https://datatracker.ietf.org/meeting/99/materials/agenda-99-nwcrg-06\n
 \n
 Session materials: https://datatracker.ietf.org/meeting/99/session/nwcrg\n
 \n
 See in schedule: https://datatracker.ietf.org/meeting/99/agenda#row-99-2017-07-20-thu-1330-irtf-nwcrg\n
END:VEVENT
BEGIN:VEVENT
UID:ietf-99-8794-irtfopen
SUMMARY:irtfopen - IRTF Open Meeting
LOCATION:Karlin I/II
STATUS:CONFIRMED
CLASS:PUBLIC
DTSTART;TZID=Europe/Prague:20170720T155000
DTEND;TZID=Europe/Prague:20170720T175000
DTSTAMP:20170608T092911Z
URL:https://datatracker.ietf.org/meeting/99/materials/agenda-99-irtfopen-00
DESCRIPTION:Afternoon Session II\n
 \n
 Meetecho: http://www.meetecho.com/ietf99/irtfopen/\n
 \n
 Agenda https://datatracker.ietf.org/meeting/99/materials/agenda-99-irtfopen-00\n
 \n
 Session materials: https://datatracker.ietf.org/meeting/99/session/irtfopen\n
 \n
 See in schedule: https://datatracker.ietf.org/meeting/99/agenda#row-99-2017-07-20-thu-1550-irtf-irtfopen\n
END:VEVENT
BEGIN:VEVENT
UID:ietf-99-8816-nmrg
SUMMARY:nmrg - Network Management
LOCATION:Karlin III
STATUS:CONFIRMED
CLASS:PUBLIC
DTSTART;TZID=Europe/Prague:20170720T181000
DTEND;TZID=Europe/Prague:20170720T191000
DTSTAMP:20170609T093114Z
URL:https://datatracker.ietf.org/meeting/99/materials/agenda-99-nmrg-04
DESCRIPTION:Afternoon Session III\n
 \n
 Meetecho: http://www.meetecho.com/ietf99/nmrg/\n
 \n
 Agenda https://datatracker.ietf.org/meeting/99/materials/agenda-99-nmrg-04\n
 \n
 Session materials: https://datatracker.ietf.org/meeting/99/session/nmrg\n
 \n
 See in schedule: https://datatracker.ietf.org/meeting/99/agenda#row-99-2017-07-20-thu-1810-irtf-nmrg\n
END:VEVENT
BEGIN:VEVENT
UID:ietf-99-8826-hrpc
SUMMARY:hrpc - Human Rights Protocol Considerations
LOCATION:Congress Hall I
STATUS:CONFIRMED
CLASS:PUBLIC
DTSTART;TZID=Europe/Prague:20170721T093000
DTEND;TZID=Europe/Prague:20170721T113000
DTSTAMP:20170608T092946Z
URL:https://datatracker.ietf.org/meeting/99/materials/agenda-99-hrpc-01
DESCRIPTION:Morning Session I\n
 \n
 Meetecho: http://www.meetecho.com/ietf99/hrpc/\n
 \n
 Agenda https://datatracker.ietf.org/meeting/99/materials/agenda-99-hrpc-01\n
 \n
 Session materials: https://datatracker.ietf.org/meeting/99/session/hrpc\n
 \n
 See in schedule: https://datatracker.ietf.org/meeting/99/agenda#row-99-2017-07-21-fri-0930-irtf-hrpc\n
END:VEVENT
END:VCALENDAR
