BEGIN:VCALENDAR
VERSION:2.0
METHOD:PUBLISH
PRODID:-//IETF//datatracker.ietf.org ical agenda//EN
BEGIN:VTIMEZONE
TZID:Europe/Prague
X-LIC-LOCATION:Europe/Prague
BEGIN:DAYLIGHT
TZOFFSETFROM:+0100
TZOFFSETTO:+0200
TZNAME:CEST
DTSTART:19810329T020000
RRULE:FREQ=YEARLY;BYMONTH=3;BYDAY=-1SU
END:DAYLIGHT
BEGIN:STANDARD
TZOFFSETFROM:+0200
TZOFFSETTO:+0100
TZNAME:CET
DTSTART:19961027T030000
RRULE:FREQ=YEARLY;BYMONTH=10;BYDAY=-1SU
END:STANDARD
BEGIN:STANDARD
TZOFFSETFROM:+005744
TZOFFSETTO:+005744
TZNAME:PMT
DTSTART:18500101T000000
RDATE:18500101T000000
END:STANDARD
BEGIN:STANDARD
TZOFFSETFROM:+005744
TZOFFSETTO:+0100
TZNAME:CET
DTSTART:18911001T000000
RDATE:18911001T000000
END:STANDARD
BEGIN:DAYLIGHT
TZOFFSETFROM:+0100
TZOFFSETTO:+0200
TZNAME:CEST
DTSTART:19160430T230000
RDATE:19160430T230000
RDATE:19170416T020000
RDATE:19180415T020000
RDATE:19400401T020000
RDATE:19430329T020000
RDATE:19440403T020000
RDATE:19450408T020000
RDATE:19460506T020000
RDATE:19470420T020000
RDATE:19480418T020000
RDATE:19490409T020000
RDATE:19790401T020000
RDATE:19800406T020000
END:DAYLIGHT
BEGIN:STANDARD
TZOFFSETFROM:+0200
TZOFFSETTO:+0100
TZNAME:CET
DTSTART:19161001T010000
RDATE:19161001T010000
RDATE:19170917T030000
RDATE:19180916T030000
RDATE:19421102T030000
RDATE:19431004T030000
RDATE:19440917T030000
RDATE:19451118T030000
RDATE:19461006T030000
RDATE:19471005T030000
RDATE:19481003T030000
RDATE:19491002T030000
RDATE:19790930T030000
RDATE:19800928T030000
RDATE:19810927T030000
RDATE:19820926T030000
RDATE:19830925T030000
RDATE:19840930T030000
RDATE:19850929T030000
RDATE:19860928T030000
RDATE:19870927T030000
RDATE:19880925T030000
RDATE:19890924T030000
RDATE:19900930T030000
RDATE:19910929T030000
RDATE:19920927T030000
RDATE:19930926T030000
RDATE:19940925T030000
RDATE:19950924T030000
END:STANDARD
BEGIN:STANDARD
TZOFFSETFROM:+0100
TZOFFSETTO:+0100
TZNAME:CET
DTSTART:19790101T000000
RDATE:19790101T000000
END:STANDARD
END:VTIMEZONE
BEGIN:VEVENT
UID:ietf-99-8522-bmwg
SUMMARY:bmwg - Benchmarking Methodology
LOCATION:Karlin III
STATUS:CONFIRMED
CLASS:PUBLIC
DTSTART;TZID=Europe/Prague:20170717T093000
DTEND;TZID=Europe/Prague:20170717T120000
DTSTAMP:20170608T092526Z
URL:https://datatracker.ietf.org/meeting/99/materials/agenda-99-bmwg-02
DESCRIPTION:Morning Session I\n
 \n
 Meetecho: http://www.meetecho.com/ietf99/bmwg/\n
 \n
 Agenda https://datatracker.ietf.org/meeting/99/materials/agenda-99-bmwg-02\n
 \n
 Session materials: https://datatracker.ietf.org/meeting/99/session/bmwg\n
 \n
 See in schedule: https://datatracker.ietf.org/meeting/99/agenda#row-99-2017-07-17-mon-0930-ops-bmwg\n
END:VEVENT
BEGIN:VEVENT
UID:ietf-99-8534-netslicing
SUMMARY:netslicing - Network Slicing
LOCATION:Congress Hall II
STATUS:CONFIRMED
CLASS:PUBLIC
DTSTART;TZID=Europe/Prague:20170717T133000
DTEND;TZID=Europe/Prague:20170717T153000
DTSTAMP:20170608T092545Z
URL:https://datatracker.ietf.org/meeting/99/materials/agenda-99-netslicing-01
DESCRIPTION:Afternoon Session I\n
 \n
 Meetecho: http://www.meetecho.com/ietf99/netslicing/\n
 \n
 Agenda https://datatracker.ietf.org/meeting/99/materials/agenda-99-netslicing-01\n
 \n
 Session materials: https://datatracker.ietf.org/meeting/99/session/netslicing\n
 \n
 See in schedule: https://datatracker.ietf.org/meeting/99/agenda#row-99-2017-07-17-mon-1330-ops-netslicing\n
END:VEVENT
BEGIN:VEVENT
UID:ietf-99-8553-netmod
SUMMARY:netmod - Network Modeling
LOCATION:Congress Hall I
STATUS:CONFIRMED
CLASS:PUBLIC
DTSTART;TZID=Europe/Prague:20170717T155000
DTEND;TZID=Europe/Prague:20170717T172000
DTSTAMP:20170608T092604Z
URL:https://datatracker.ietf.org/meeting/99/materials/agenda-99-netmod-06
DESCRIPTION:Afternoon Session II\n
 \n
 Meetecho: http://www.meetecho.com/ietf99/netmod/\n
 \n
 Agenda https://datatracker.ietf.org/meeting/99/materials/agenda-99-netmod-06\n
 \n
 Session materials: https://datatracker.ietf.org/meeting/99/session/netmod\n
 \n
 See in schedule: https://datatracker.ietf.org/meeting/99/agenda#row-99-2017-07-17-mon-1550-ops-netmod\n
END:VEVENT
BEGIN:VEVENT
UID:ietf-99-8556-sidrops
SUMMARY:sidrops - SIDR Operations
LOCATION:Congress Hall III
STATUS:CONFIRMED
CLASS:PUBLIC
DTSTART;TZID=Europe/Prague:20170717T155000
DTEND;TZID=Europe/Prague:20170717T172000
DTSTAMP:20170608T092604Z
URL:https://datatracker.ietf.org/meeting/99/materials/agenda-99-sidrops-02
DESCRIPTION:Afternoon Session II\n
 \n
 Meetecho: http://www.meetecho.com/ietf99/sidrops/\n
 \n
 Agenda https://datatracker.ietf.org/meeting/99/materials/agenda-99-sidrops-02\n
 \n
 Session materials: https://datatracker.ietf.org/meeting/99/session/sidrops\n
 \n
 See in schedule: https://datatracker.ietf.org/meeting/99/agenda#row-99-2017-07-17-mon-1550-ops-sidrops\n
END:VEVENT
BEGIN:VEVENT
UID:ietf-99-8585-dime
SUMMARY:dime - Diameter Maintenance and Extensions
LOCATION:Karlin III
STATUS:CONFIRMED
CLASS:PUBLIC
DTSTART;TZID=Europe/Prague:20170717T174000
DTEND;TZID=Europe/Prague:20170717T184000
DTSTAMP:20170608T092629Z
URL:https://datatracker.ietf.org/meeting/99/materials/agenda-99-dime-00
DESCRIPTION:Afternoon Session III\n
 \n
 Meetecho: http://www.meetecho.com/ietf99/dime/\n
 \n
 Agenda https://datatracker.ietf.org/meeting/99/materials/agenda-99-dime-00\n
 \n
 Session materials: https://datatracker.ietf.org/meeting/99/session/dime\n
 \n
 See in schedule: https://datatracker.ietf.org/meeting/99/agenda#row-99-2017-07-17-mon-1740-ops-dime\n
END:VEVENT
BEGIN:VEVENT
UID:ietf-99-8577-grow
SUMMARY:grow - Global Routing Operations
LOCATION:Congress Hall III
STATUS:CONFIRMED
CLASS:PUBLIC
DTSTART;TZID=Europe/Prague:20170717T174000
DTEND;TZID=Europe/Prague:20170717T184000
DTSTAMP:20170608T092629Z
URL:https://datatracker.ietf.org/meeting/99/materials/agenda-99-grow-01
DESCRIPTION:Afternoon Session III\n
 \n
 Meetecho: http://www.meetecho.com/ietf99/grow/\n
 \n
 Agenda https://datatracker.ietf.org/meeting/99/materials/agenda-99-grow-01\n
 \n
 Session materials: https://datatracker.ietf.org/meeting/99/session/grow\n
 \n
 See in schedule: https://datatracker.ietf.org/meeting/99/agenda#row-99-2017-07-17-mon-1740-ops-grow\n
END:VEVENT
BEGIN:VEVENT
UID:ietf-99-8592-mboned
SUMMARY:mboned - MBONE Deployment (Joint session with PIM)
LOCATION:Athens/Barcelona
STATUS:CONFIRMED
CLASS:PUBLIC
DTSTART;TZID=Europe/Prague:20170718T093000
DTEND;TZID=Europe/Prague:20170718T120000
DTSTAMP:20170608T092648Z
URL:https://datatracker.ietf.org/meeting/99/materials/agenda-99-mboned-02
DESCRIPTION:Morning Session I\n
 Note: Joint session with PIM\n
 \n
 Meetecho: http://www.meetecho.com/ietf99/mboned/\n
 \n
 Agenda https://datatracker.ietf.org/meeting/99/materials/agenda-99-mboned-02\n
 \n
 Session materials: https://datatracker.ietf.org/meeting/99/session/mboned\n
 \n
 See in schedule: https://datatracker.ietf.org/meeting/99/agenda#row-99-2017-07-18-tue-0930-ops-mboned\n
END:VEVENT
BEGIN:VEVENT
UID:ietf-99-8597-v6ops
SUMMARY:v6ops - IPv6 Operations
LOCATION:Congress Hall II
STATUS:CONFIRMED
CLASS:PUBLIC
DTSTART;TZID=Europe/Prague:20170718T093000
DTEND;TZID=Europe/Prague:20170718T120000
DTSTAMP:20170608T092648Z
URL:https://datatracker.ietf.org/meeting/99/materials/agenda-99-v6ops-04
DESCRIPTION:Morning Session I\n
 \n
 Meetecho: http://www.meetecho.com/ietf99/v6ops/\n
 \n
 Agenda https://datatracker.ietf.org/meeting/99/materials/agenda-99-v6ops-04\n
 \n
 Session materials: https://datatracker.ietf.org/meeting/99/session/v6ops\n
 \n
 See in schedule: https://datatracker.ietf.org/meeting/99/agenda#row-99-2017-07-18-tue-0930-ops-v6ops\n
END:VEVENT
BEGIN:VEVENT
UID:ietf-99-8640-opsawg
SUMMARY:opsawg - Operations and Management Area Working Group (Joint session with OPSAREA)
LOCATION:Congress Hall III
STATUS:CONFIRMED
CLASS:PUBLIC
DTSTART;TZID=Europe/Prague:20170718T133000
DTEND;TZID=Europe/Prague:20170718T153000
DTSTAMP:20170608T110320Z
URL:https://datatracker.ietf.org/meeting/99/materials/agenda-99-opsawg-03
DESCRIPTION:Afternoon Session I\n
 Note: Joint session with OPSAREA\n
 \n
 Meetecho: http://www.meetecho.com/ietf99/opsawg/\n
 \n
 Agenda https://datatracker.ietf.org/meeting/99/materials/agenda-99-opsawg-03\n
 \n
 Session materials: https://datatracker.ietf.org/meeting/99/session/opsawg\n
 \n
 See in schedule: https://datatracker.ietf.org/meeting/99/agenda#row-99-2017-07-18-tue-1330-ops-opsawg\n
END:VEVENT
BEGIN:VEVENT
UID:ietf-99-8870-dnsop
SUMMARY:dnsop - Domain Name System Operations
LOCATION:Congress Hall II
STATUS:CONFIRMED
CLASS:PUBLIC
DTSTART;TZID=Europe/Prague:20170718T155000
DTEND;TZID=Europe/Prague:20170718T175000
DTSTAMP:20170609T093125Z
URL:https://datatracker.ietf.org/meeting/99/materials/agenda-99-dnsop-11
DESCRIPTION:Afternoon Session II\n
 \n
 Meetecho: http://www.meetecho.com/ietf99/dnsop/\n
 \n
 Agenda https://datatracker.ietf.org/meeting/99/materials/agenda-99-dnsop-11\n
 \n
 Session materials: https://datatracker.ietf.org/meeting/99/session/dnsop\n
 \n
 See in schedule: https://datatracker.ietf.org/meeting/99/agenda#row-99-2017-07-18-tue-1550-ops-dnsop\n
END:VEVENT
BEGIN:VEVENT
UID:ietf-99-8682-anima
SUMMARY:anima - Autonomic Networking Integrated Model and Approach
LOCATION:Congress Hall III
STATUS:CONFIRMED
CLASS:PUBLIC
DTSTART;TZID=Europe/Prague:20170719T093000
DTEND;TZID=Europe/Prague:20170719T120000
DTSTAMP:20170608T092748Z
URL:https://datatracker.ietf.org/meeting/99/materials/agenda-99-anima-01
DESCRIPTION:Morning Session I\n
 \n
 Meetecho: http://www.meetecho.com/ietf99/anima/\n
 \n
 Agenda https://datatracker.ietf.org/meeting/99/materials/agenda-99-anima-01\n
 \n
 Session materials: https://datatracker.ietf.org/meeting/99/session/anima\n
 \n
 See in schedule: https://datatracker.ietf.org/meeting/99/agenda#row-99-2017-07-19-wed-0930-ops-anima\n
END:VEVENT
BEGIN:VEVENT
UID:ietf-99-8700-netmod
SUMMARY:netmod - Network Modeling
LOCATION:Congress Hall I
STATUS:CONFIRMED
CLASS:PUBLIC
DTSTART;TZID=Europe/Prague:20170719T133000
DTEND;TZID=Europe/Prague:20170719T150000
DTSTAMP:20170608T092759Z
URL:https://datatracker.ietf.org/meeting/99/materials/agenda-99-netmod-06
DESCRIPTION:Afternoon Session I\n
 \n
 Meetecho: http://www.meetecho.com/ietf99/netmod/\n
 \n
 Agenda https://datatracker.ietf.org/meeting/99/materials/agenda-99-netmod-06\n
 \n
 Session materials: https://datatracker.ietf.org/meeting/99/session/netmod\n
 \n
 See in schedule: https://datatracker.ietf.org/meeting/99/agenda#row-99-2017-07-19-wed-1330-ops-netmod\n
END:VEVENT
BEGIN:VEVENT
UID:ietf-99-8698-opsec
SUMMARY:opsec - Operational Security Capabilities for IP Network Infrastructure
LOCATION:Berlin/Brussels
STATUS:CONFIRMED
CLASS:PUBLIC
DTSTART;TZID=Europe/Prague:20170719T133000
DTEND;TZID=Europe/Prague:20170719T150000
DTSTAMP:20170608T092759Z
URL:https://datatracker.ietf.org/meeting/99/materials/agenda-99-opsec-04
DESCRIPTION:Afternoon Session I\n
 \n
 Meetecho: http://www.meetecho.com/ietf99/opsec/\n
 \n
 Agenda https://datatracker.ietf.org/meeting/99/materials/agenda-99-opsec-04\n
 \n
 Session materials: https://datatracker.ietf.org/meeting/99/session/opsec\n
 \n
 See in schedule: https://datatracker.ietf.org/meeting/99/agenda#row-99-2017-07-19-wed-1330-ops-opsec\n
END:VEVENT
BEGIN:VEVENT
UID:ietf-99-8711-radext
SUMMARY:radext - RADIUS EXTensions
LOCATION:Karlin III
STATUS:CONFIRMED
CLASS:PUBLIC
DTSTART;TZID=Europe/Prague:20170719T133000
DTEND;TZID=Europe/Prague:20170719T150000
DTSTAMP:20170608T092759Z
URL:https://datatracker.ietf.org/meeting/99/materials/agenda-99-radext-02
DESCRIPTION:Afternoon Session I\n
 \n
 Meetecho: http://www.meetecho.com/ietf99/radext/\n
 \n
 Agenda https://datatracker.ietf.org/meeting/99/materials/agenda-99-radext-02\n
 \n
 Session materials: https://datatracker.ietf.org/meeting/99/session/radext\n
 \n
 See in schedule: https://datatracker.ietf.org/meeting/99/agenda#row-99-2017-07-19-wed-1330-ops-radext\n
END:VEVENT
BEGIN:VEVENT
UID:ietf-99-8769-v6ops
SUMMARY:v6ops - IPv6 Operations
LOCATION:Grand Hilton Ballroom
STATUS:CONFIRMED
CLASS:PUBLIC
DTSTART;TZID=Europe/Prague:20170720T133000
DTEND;TZID=Europe/Prague:20170720T153000
DTSTAMP:20170608T092853Z
URL:https://datatracker.ietf.org/meeting/99/materials/agenda-99-v6ops-04
DESCRIPTION:Afternoon Session I\n
 \n
 Meetecho: http://www.meetecho.com/ietf99/v6ops/\n
 \n
 Agenda https://datatracker.ietf.org/meeting/99/materials/agenda-99-v6ops-04\n
 \n
 Session materials: https://datatracker.ietf.org/meeting/99/session/v6ops\n
 \n
 See in schedule: https://datatracker.ietf.org/meeting/99/agenda#row-99-2017-07-20-thu-1330-ops-v6ops\n
END:VEVENT
BEGIN:VEVENT
UID:ietf-99-8787-netconf
SUMMARY:netconf - Network Configuration
LOCATION:Congress Hall III
STATUS:CONFIRMED
CLASS:PUBLIC
DTSTART;TZID=Europe/Prague:20170720T155000
DTEND;TZID=Europe/Prague:20170720T175000
DTSTAMP:20170608T092911Z
URL:https://datatracker.ietf.org/meeting/99/materials/agenda-99-netconf-03
DESCRIPTION:Afternoon Session II\n
 \n
 Meetecho: http://www.meetecho.com/ietf99/netconf/\n
 \n
 Agenda https://datatracker.ietf.org/meeting/99/materials/agenda-99-netconf-03\n
 \n
 Session materials: https://datatracker.ietf.org/meeting/99/session/netconf\n
 \n
 See in schedule: https://datatracker.ietf.org/meeting/99/agenda#row-99-2017-07-20-thu-1550-ops-netconf\n
END:VEVENT
BEGIN:VEVENT
UID:ietf-99-8811-dnsop
SUMMARY:dnsop - Domain Name System Operations
LOCATION:Grand Hilton Ballroom
STATUS:CONFIRMED
CLASS:PUBLIC
DTSTART;TZID=Europe/Prague:20170720T181000
DTEND;TZID=Europe/Prague:20170720T191000
DTSTAMP:20170609T093114Z
URL:https://datatracker.ietf.org/meeting/99/materials/agenda-99-dnsop-11
DESCRIPTION:Afternoon Session III\n
 \n
 Meetecho: http://www.meetecho.com/ietf99/dnsop/\n
 \n
 Agenda https://datatracker.ietf.org/meeting/99/materials/agenda-99-dnsop-11\n
 \n
 Session materials: https://datatracker.ietf.org/meeting/99/session/dnsop\n
 \n
 See in schedule: https://datatracker.ietf.org/meeting/99/agenda#row-99-2017-07-20-thu-1810-ops-dnsop\n
END:VEVENT
END:VCALENDAR
