BEGIN:VCALENDAR
VERSION:2.0
METHOD:PUBLISH
PRODID:-//IETF//datatracker.ietf.org ical agenda//EN
BEGIN:VTIMEZONE
TZID:Europe/Prague
X-LIC-LOCATION:Europe/Prague
BEGIN:DAYLIGHT
TZOFFSETFROM:+0100
TZOFFSETTO:+0200
TZNAME:CEST
DTSTART:19810329T020000
RRULE:FREQ=YEARLY;BYMONTH=3;BYDAY=-1SU
END:DAYLIGHT
BEGIN:STANDARD
TZOFFSETFROM:+0200
TZOFFSETTO:+0100
TZNAME:CET
DTSTART:19961027T030000
RRULE:FREQ=YEARLY;BYMONTH=10;BYDAY=-1SU
END:STANDARD
BEGIN:STANDARD
TZOFFSETFROM:+005744
TZOFFSETTO:+005744
TZNAME:PMT
DTSTART:18500101T000000
RDATE:18500101T000000
END:STANDARD
BEGIN:STANDARD
TZOFFSETFROM:+005744
TZOFFSETTO:+0100
TZNAME:CET
DTSTART:18911001T000000
RDATE:18911001T000000
END:STANDARD
BEGIN:DAYLIGHT
TZOFFSETFROM:+0100
TZOFFSETTO:+0200
TZNAME:CEST
DTSTART:19160430T230000
RDATE:19160430T230000
RDATE:19170416T020000
RDATE:19180415T020000
RDATE:19400401T020000
RDATE:19430329T020000
RDATE:19440403T020000
RDATE:19450408T020000
RDATE:19460506T020000
RDATE:19470420T020000
RDATE:19480418T020000
RDATE:19490409T020000
RDATE:19790401T020000
RDATE:19800406T020000
END:DAYLIGHT
BEGIN:STANDARD
TZOFFSETFROM:+0200
TZOFFSETTO:+0100
TZNAME:CET
DTSTART:19161001T010000
RDATE:19161001T010000
RDATE:19170917T030000
RDATE:19180916T030000
RDATE:19421102T030000
RDATE:19431004T030000
RDATE:19440917T030000
RDATE:19451118T030000
RDATE:19461006T030000
RDATE:19471005T030000
RDATE:19481003T030000
RDATE:19491002T030000
RDATE:19790930T030000
RDATE:19800928T030000
RDATE:19810927T030000
RDATE:19820926T030000
RDATE:19830925T030000
RDATE:19840930T030000
RDATE:19850929T030000
RDATE:19860928T030000
RDATE:19870927T030000
RDATE:19880925T030000
RDATE:19890924T030000
RDATE:19900930T030000
RDATE:19910929T030000
RDATE:19920927T030000
RDATE:19930926T030000
RDATE:19940925T030000
RDATE:19950924T030000
END:STANDARD
BEGIN:STANDARD
TZOFFSETFROM:+0100
TZOFFSETTO:+0100
TZNAME:CET
DTSTART:19790101T000000
RDATE:19790101T000000
END:STANDARD
END:VTIMEZONE
BEGIN:VEVENT
UID:ietf-99-8513-rtgwg
SUMMARY:rtgwg - Routing Area Working Group
LOCATION:Congress Hall II
STATUS:CONFIRMED
CLASS:PUBLIC
DTSTART;TZID=Europe/Prague:20170717T093000
DTEND;TZID=Europe/Prague:20170717T120000
DTSTAMP:20170608T092526Z
URL:https://datatracker.ietf.org/meeting/99/materials/agenda-99-rtgwg-09
DESCRIPTION:Morning Session I\n
 \n
 Meetecho: http://www.meetecho.com/ietf99/rtgwg/\n
 \n
 Agenda https://datatracker.ietf.org/meeting/99/materials/agenda-99-rtgwg-09\n
 \n
 Session materials: https://datatracker.ietf.org/meeting/99/session/rtgwg\n
 \n
 See in schedule: https://datatracker.ietf.org/meeting/99/agenda#row-99-2017-07-17-mon-0930-rtg-rtgwg\n
END:VEVENT
BEGIN:VEVENT
UID:ietf-99-8543-isis
SUMMARY:isis - IS-IS for IP Internets
LOCATION:Karlin III
STATUS:CONFIRMED
CLASS:PUBLIC
DTSTART;TZID=Europe/Prague:20170717T133000
DTEND;TZID=Europe/Prague:20170717T153000
DTSTAMP:20170608T092545Z
URL:https://datatracker.ietf.org/meeting/99/materials/agenda-99-isis-01
DESCRIPTION:Afternoon Session I\n
 \n
 Meetecho: http://www.meetecho.com/ietf99/isis/\n
 \n
 Agenda https://datatracker.ietf.org/meeting/99/materials/agenda-99-isis-01\n
 \n
 Session materials: https://datatracker.ietf.org/meeting/99/session/isis\n
 \n
 See in schedule: https://datatracker.ietf.org/meeting/99/agenda#row-99-2017-07-17-mon-1330-rtg-isis\n
END:VEVENT
BEGIN:VEVENT
UID:ietf-99-8530-lisp
SUMMARY:lisp - Locator/ID Separation Protocol
LOCATION:Berlin/Brussels
STATUS:CONFIRMED
CLASS:PUBLIC
DTSTART;TZID=Europe/Prague:20170717T133000
DTEND;TZID=Europe/Prague:20170717T153000
DTSTAMP:20170608T092545Z
URL:https://datatracker.ietf.org/meeting/99/materials/agenda-99-lisp-00
DESCRIPTION:Afternoon Session I\n
 \n
 Meetecho: http://www.meetecho.com/ietf99/lisp/\n
 \n
 Agenda https://datatracker.ietf.org/meeting/99/materials/agenda-99-lisp-00\n
 \n
 Session materials: https://datatracker.ietf.org/meeting/99/session/lisp\n
 \n
 See in schedule: https://datatracker.ietf.org/meeting/99/agenda#row-99-2017-07-17-mon-1330-rtg-lisp\n
END:VEVENT
BEGIN:VEVENT
UID:ietf-99-8555-sfc
SUMMARY:sfc - Service Function Chaining
LOCATION:Congress Hall II
STATUS:CONFIRMED
CLASS:PUBLIC
DTSTART;TZID=Europe/Prague:20170717T155000
DTEND;TZID=Europe/Prague:20170717T172000
DTSTAMP:20170608T092604Z
URL:https://datatracker.ietf.org/meeting/99/materials/agenda-99-sfc-01
DESCRIPTION:Afternoon Session II\n
 \n
 Meetecho: http://www.meetecho.com/ietf99/sfc/\n
 \n
 Agenda https://datatracker.ietf.org/meeting/99/materials/agenda-99-sfc-01\n
 \n
 Session materials: https://datatracker.ietf.org/meeting/99/session/sfc\n
 \n
 See in schedule: https://datatracker.ietf.org/meeting/99/agenda#row-99-2017-07-17-mon-1550-rtg-sfc\n
END:VEVENT
BEGIN:VEVENT
UID:ietf-99-8571-babel
SUMMARY:babel - Babel routing protocol
LOCATION:Athens/Barcelona
STATUS:CONFIRMED
CLASS:PUBLIC
DTSTART;TZID=Europe/Prague:20170717T174000
DTEND;TZID=Europe/Prague:20170717T184000
DTSTAMP:20170608T092629Z
URL:https://datatracker.ietf.org/meeting/99/materials/agenda-99-babel-01
DESCRIPTION:Afternoon Session III\n
 \n
 Meetecho: http://www.meetecho.com/ietf99/babel/\n
 \n
 Agenda https://datatracker.ietf.org/meeting/99/materials/agenda-99-babel-01\n
 \n
 Session materials: https://datatracker.ietf.org/meeting/99/session/babel\n
 \n
 See in schedule: https://datatracker.ietf.org/meeting/99/agenda#row-99-2017-07-17-mon-1740-rtg-babel\n
END:VEVENT
BEGIN:VEVENT
UID:ietf-99-8574-pals
SUMMARY:pals - Pseudowire And LDP-enabled Services
LOCATION:Congress Hall I
STATUS:CONFIRMED
CLASS:PUBLIC
DTSTART;TZID=Europe/Prague:20170717T174000
DTEND;TZID=Europe/Prague:20170717T184000
DTSTAMP:20170608T092629Z
URL:https://datatracker.ietf.org/meeting/99/materials/agenda-99-pals-03
DESCRIPTION:Afternoon Session III\n
 \n
 Meetecho: http://www.meetecho.com/ietf99/pals/\n
 \n
 Agenda https://datatracker.ietf.org/meeting/99/materials/agenda-99-pals-03\n
 \n
 Session materials: https://datatracker.ietf.org/meeting/99/session/pals\n
 \n
 See in schedule: https://datatracker.ietf.org/meeting/99/agenda#row-99-2017-07-17-mon-1740-rtg-pals\n
END:VEVENT
BEGIN:VEVENT
UID:ietf-99-8592-pim
SUMMARY:pim - Protocols for IP Multicast (Joint session with MBONED)
LOCATION:Athens/Barcelona
STATUS:CONFIRMED
CLASS:PUBLIC
DTSTART;TZID=Europe/Prague:20170718T093000
DTEND;TZID=Europe/Prague:20170718T120000
DTSTAMP:20170608T092648Z
URL:https://datatracker.ietf.org/meeting/99/materials/agenda-99-pim-01
DESCRIPTION:Morning Session I\n
 Note: Joint session with MBONED\n
 \n
 Meetecho: http://www.meetecho.com/ietf99/pim/\n
 \n
 Agenda https://datatracker.ietf.org/meeting/99/materials/agenda-99-pim-01\n
 \n
 Session materials: https://datatracker.ietf.org/meeting/99/session/pim\n
 \n
 See in schedule: https://datatracker.ietf.org/meeting/99/agenda#row-99-2017-07-18-tue-0930-rtg-pim\n
END:VEVENT
BEGIN:VEVENT
UID:ietf-99-8601-teas
SUMMARY:teas - Traffic Engineering Architecture and Signaling
LOCATION:Grand Hilton Ballroom
STATUS:CONFIRMED
CLASS:PUBLIC
DTSTART;TZID=Europe/Prague:20170718T093000
DTEND;TZID=Europe/Prague:20170718T120000
DTSTAMP:20170608T092648Z
URL:https://datatracker.ietf.org/meeting/99/materials/agenda-99-teas-sessa-05
DESCRIPTION:Morning Session I\n
 \n
 Meetecho: http://www.meetecho.com/ietf99/teas/\n
 \n
 Agenda https://datatracker.ietf.org/meeting/99/materials/agenda-99-teas-sessa-05\n
 \n
 Session materials: https://datatracker.ietf.org/meeting/99/session/teas\n
 \n
 See in schedule: https://datatracker.ietf.org/meeting/99/agenda#row-99-2017-07-18-tue-0930-rtg-teas\n
END:VEVENT
BEGIN:VEVENT
UID:ietf-99-8639-mpls
SUMMARY:mpls - Multiprotocol Label Switching
LOCATION:Congress Hall II
STATUS:CONFIRMED
CLASS:PUBLIC
DTSTART;TZID=Europe/Prague:20170718T133000
DTEND;TZID=Europe/Prague:20170718T153000
DTSTAMP:20170608T110320Z
URL:https://datatracker.ietf.org/meeting/99/materials/agenda-99-mpls-04
DESCRIPTION:Afternoon Session I\n
 \n
 Meetecho: http://www.meetecho.com/ietf99/mpls/\n
 \n
 Agenda https://datatracker.ietf.org/meeting/99/materials/agenda-99-mpls-04\n
 \n
 Session materials: https://datatracker.ietf.org/meeting/99/session/mpls\n
 \n
 See in schedule: https://datatracker.ietf.org/meeting/99/agenda#row-99-2017-07-18-tue-1330-rtg-mpls\n
END:VEVENT
BEGIN:VEVENT
UID:ietf-99-8647-ospf
SUMMARY:ospf - Open Shortest Path First IGP
LOCATION:Karlin I/II
STATUS:CONFIRMED
CLASS:PUBLIC
DTSTART;TZID=Europe/Prague:20170718T133000
DTEND;TZID=Europe/Prague:20170718T153000
DTSTAMP:20170608T110320Z
URL:https://datatracker.ietf.org/meeting/99/materials/agenda-99-ospf-01
DESCRIPTION:Afternoon Session I\n
 \n
 Meetecho: http://www.meetecho.com/ietf99/ospf/\n
 \n
 Agenda https://datatracker.ietf.org/meeting/99/materials/agenda-99-ospf-01\n
 \n
 Session materials: https://datatracker.ietf.org/meeting/99/session/ospf\n
 \n
 See in schedule: https://datatracker.ietf.org/meeting/99/agenda#row-99-2017-07-18-tue-1330-rtg-ospf\n
END:VEVENT
BEGIN:VEVENT
UID:ietf-99-8866-i2rs
SUMMARY:i2rs - Interface to the Routing System
LOCATION:Berlin/Brussels
STATUS:CONFIRMED
CLASS:PUBLIC
DTSTART;TZID=Europe/Prague:20170718T155000
DTEND;TZID=Europe/Prague:20170718T175000
DTSTAMP:20170609T093125Z
URL:https://datatracker.ietf.org/meeting/99/materials/agenda-99-i2rs-01
DESCRIPTION:Afternoon Session II\n
 \n
 Meetecho: http://www.meetecho.com/ietf99/i2rs/\n
 \n
 Agenda https://datatracker.ietf.org/meeting/99/materials/agenda-99-i2rs-01\n
 \n
 Session materials: https://datatracker.ietf.org/meeting/99/session/i2rs\n
 \n
 See in schedule: https://datatracker.ietf.org/meeting/99/agenda#row-99-2017-07-18-tue-1550-rtg-i2rs\n
END:VEVENT
BEGIN:VEVENT
UID:ietf-99-8871-pce
SUMMARY:pce - Path Computation Element
LOCATION:Congress Hall III
STATUS:CONFIRMED
CLASS:PUBLIC
DTSTART;TZID=Europe/Prague:20170718T155000
DTEND;TZID=Europe/Prague:20170718T175000
DTSTAMP:20170609T093125Z
URL:https://datatracker.ietf.org/meeting/99/materials/agenda-99-pce-02
DESCRIPTION:Afternoon Session II\n
 \n
 Meetecho: http://www.meetecho.com/ietf99/pce/\n
 \n
 Agenda https://datatracker.ietf.org/meeting/99/materials/agenda-99-pce-02\n
 \n
 Session materials: https://datatracker.ietf.org/meeting/99/session/pce\n
 \n
 See in schedule: https://datatracker.ietf.org/meeting/99/agenda#row-99-2017-07-18-tue-1550-rtg-pce\n
END:VEVENT
BEGIN:VEVENT
UID:ietf-99-8681-rtgarea
SUMMARY:rtgarea - Routing Area Open Meeting
LOCATION:Congress Hall II
STATUS:CONFIRMED
CLASS:PUBLIC
DTSTART;TZID=Europe/Prague:20170719T093000
DTEND;TZID=Europe/Prague:20170719T120000
DTSTAMP:20170608T092748Z
URL:https://datatracker.ietf.org/meeting/99/materials/agenda-99-rtgarea-01
DESCRIPTION:Morning Session I\n
 \n
 Meetecho: http://www.meetecho.com/ietf99/rtgarea/\n
 \n
 Agenda https://datatracker.ietf.org/meeting/99/materials/agenda-99-rtgarea-01\n
 \n
 Session materials: https://datatracker.ietf.org/meeting/99/session/rtgarea\n
 \n
 See in schedule: https://datatracker.ietf.org/meeting/99/agenda#row-99-2017-07-19-wed-0930-rtg-rtgarea\n
END:VEVENT
BEGIN:VEVENT
UID:ietf-99-8702-ideas
SUMMARY:ideas - IDentity Enabled Networks
LOCATION:Congress Hall II
STATUS:CONFIRMED
CLASS:PUBLIC
DTSTART;TZID=Europe/Prague:20170719T133000
DTEND;TZID=Europe/Prague:20170719T150000
DTSTAMP:20170608T092759Z
URL:https://datatracker.ietf.org/meeting/99/materials/agenda-99-ideas-01
DESCRIPTION:Afternoon Session I\n
 \n
 Meetecho: http://www.meetecho.com/ietf99/ideas/\n
 \n
 Agenda https://datatracker.ietf.org/meeting/99/materials/agenda-99-ideas-01\n
 \n
 Session materials: https://datatracker.ietf.org/meeting/99/session/ideas\n
 \n
 See in schedule: https://datatracker.ietf.org/meeting/99/agenda#row-99-2017-07-19-wed-1330-rtg-ideas\n
END:VEVENT
BEGIN:VEVENT
UID:ietf-99-8724-nvo3
SUMMARY:nvo3 - Network Virtualization Overlays
LOCATION:Congress Hall III
STATUS:CONFIRMED
CLASS:PUBLIC
DTSTART;TZID=Europe/Prague:20170719T152000
DTEND;TZID=Europe/Prague:20170719T165000
DTSTAMP:20170608T092816Z
URL:https://datatracker.ietf.org/meeting/99/materials/agenda-99-nvo3-05
DESCRIPTION:Afternoon Session II\n
 \n
 Meetecho: http://www.meetecho.com/ietf99/nvo3/\n
 \n
 Agenda https://datatracker.ietf.org/meeting/99/materials/agenda-99-nvo3-05\n
 \n
 Session materials: https://datatracker.ietf.org/meeting/99/session/nvo3\n
 \n
 See in schedule: https://datatracker.ietf.org/meeting/99/agenda#row-99-2017-07-19-wed-1520-rtg-nvo3\n
END:VEVENT
BEGIN:VEVENT
UID:ietf-99-8742-detnet
SUMMARY:detnet - Deterministic Networking
LOCATION:Congress Hall I
STATUS:CONFIRMED
CLASS:PUBLIC
DTSTART;TZID=Europe/Prague:20170720T093000
DTEND;TZID=Europe/Prague:20170720T120000
DTSTAMP:20170608T092842Z
URL:https://datatracker.ietf.org/meeting/99/materials/agenda-99-detnet-02
DESCRIPTION:Morning Session I\n
 \n
 Meetecho: http://www.meetecho.com/ietf99/detnet/\n
 \n
 Agenda https://datatracker.ietf.org/meeting/99/materials/agenda-99-detnet-02\n
 \n
 Session materials: https://datatracker.ietf.org/meeting/99/session/detnet\n
 \n
 See in schedule: https://datatracker.ietf.org/meeting/99/agenda#row-99-2017-07-20-thu-0930-rtg-detnet\n
END:VEVENT
BEGIN:VEVENT
UID:ietf-99-8745-idr
SUMMARY:idr - Inter-Domain Routing
LOCATION:Congress Hall III
STATUS:CONFIRMED
CLASS:PUBLIC
DTSTART;TZID=Europe/Prague:20170720T093000
DTEND;TZID=Europe/Prague:20170720T120000
DTSTAMP:20170608T092842Z
URL:https://datatracker.ietf.org/meeting/99/materials/agenda-99-idr-06
DESCRIPTION:Morning Session I\n
 \n
 Meetecho: http://www.meetecho.com/ietf99/idr/\n
 \n
 Agenda https://datatracker.ietf.org/meeting/99/materials/agenda-99-idr-06\n
 \n
 Session materials: https://datatracker.ietf.org/meeting/99/session/idr\n
 \n
 See in schedule: https://datatracker.ietf.org/meeting/99/agenda#row-99-2017-07-20-thu-0930-rtg-idr\n
END:VEVENT
BEGIN:VEVENT
UID:ietf-99-8773-roll
SUMMARY:roll - Routing Over Low power and Lossy networks
LOCATION:Karlin I/II
STATUS:CONFIRMED
CLASS:PUBLIC
DTSTART;TZID=Europe/Prague:20170720T133000
DTEND;TZID=Europe/Prague:20170720T153000
DTSTAMP:20170608T092853Z
URL:https://datatracker.ietf.org/meeting/99/materials/agenda-99-roll-01
DESCRIPTION:Afternoon Session I\n
 \n
 Meetecho: http://www.meetecho.com/ietf99/roll/\n
 \n
 Agenda https://datatracker.ietf.org/meeting/99/materials/agenda-99-roll-01\n
 \n
 Session materials: https://datatracker.ietf.org/meeting/99/session/roll\n
 \n
 See in schedule: https://datatracker.ietf.org/meeting/99/agenda#row-99-2017-07-20-thu-1330-rtg-roll\n
END:VEVENT
BEGIN:VEVENT
UID:ietf-99-8763-teas
SUMMARY:teas - Traffic Engineering Architecture and Signaling
LOCATION:Congress Hall I
STATUS:CONFIRMED
CLASS:PUBLIC
DTSTART;TZID=Europe/Prague:20170720T133000
DTEND;TZID=Europe/Prague:20170720T153000
DTSTAMP:20170608T092853Z
URL:https://datatracker.ietf.org/meeting/99/materials/agenda-99-teas-sessa-05
DESCRIPTION:Afternoon Session I\n
 \n
 Meetecho: http://www.meetecho.com/ietf99/teas/\n
 \n
 Agenda https://datatracker.ietf.org/meeting/99/materials/agenda-99-teas-sessa-05\n
 \n
 Session materials: https://datatracker.ietf.org/meeting/99/session/teas\n
 \n
 See in schedule: https://datatracker.ietf.org/meeting/99/agenda#row-99-2017-07-20-thu-1330-rtg-teas\n
END:VEVENT
BEGIN:VEVENT
UID:ietf-99-8784-bess
SUMMARY:bess - BGP Enabled ServiceS
LOCATION:Congress Hall I
STATUS:CONFIRMED
CLASS:PUBLIC
DTSTART;TZID=Europe/Prague:20170720T155000
DTEND;TZID=Europe/Prague:20170720T175000
DTSTAMP:20170608T092911Z
URL:https://datatracker.ietf.org/meeting/99/materials/agenda-99-bess-01
DESCRIPTION:Afternoon Session II\n
 \n
 Meetecho: http://www.meetecho.com/ietf99/bess/\n
 \n
 Agenda https://datatracker.ietf.org/meeting/99/materials/agenda-99-bess-01\n
 \n
 Session materials: https://datatracker.ietf.org/meeting/99/session/bess\n
 \n
 See in schedule: https://datatracker.ietf.org/meeting/99/agenda#row-99-2017-07-20-thu-1550-rtg-bess\n
END:VEVENT
BEGIN:VEVENT
UID:ietf-99-8795-ccamp
SUMMARY:ccamp - Common Control and Measurement Plane
LOCATION:Karlin III
STATUS:CONFIRMED
CLASS:PUBLIC
DTSTART;TZID=Europe/Prague:20170720T155000
DTEND;TZID=Europe/Prague:20170720T175000
DTSTAMP:20170608T092911Z
URL:https://datatracker.ietf.org/meeting/99/materials/agenda-99-ccamp-02
DESCRIPTION:Afternoon Session II\n
 \n
 Meetecho: http://www.meetecho.com/ietf99/ccamp/\n
 \n
 Agenda https://datatracker.ietf.org/meeting/99/materials/agenda-99-ccamp-02\n
 \n
 Session materials: https://datatracker.ietf.org/meeting/99/session/ccamp\n
 \n
 See in schedule: https://datatracker.ietf.org/meeting/99/agenda#row-99-2017-07-20-thu-1550-rtg-ccamp\n
END:VEVENT
BEGIN:VEVENT
UID:ietf-99-8815-bier
SUMMARY:bier - Bit Indexed Explicit Replication
LOCATION:Karlin I/II
STATUS:CONFIRMED
CLASS:PUBLIC
DTSTART;TZID=Europe/Prague:20170720T181000
DTEND;TZID=Europe/Prague:20170720T191000
DTSTAMP:20170609T093114Z
URL:https://datatracker.ietf.org/meeting/99/materials/agenda-99-bier-00
DESCRIPTION:Afternoon Session III\n
 \n
 Meetecho: http://www.meetecho.com/ietf99/bier/\n
 \n
 Agenda https://datatracker.ietf.org/meeting/99/materials/agenda-99-bier-00\n
 \n
 Session materials: https://datatracker.ietf.org/meeting/99/session/bier\n
 \n
 See in schedule: https://datatracker.ietf.org/meeting/99/agenda#row-99-2017-07-20-thu-1810-rtg-bier\n
END:VEVENT
BEGIN:VEVENT
UID:ietf-99-8805-i2rs
SUMMARY:i2rs - Interface to the Routing System
LOCATION:Congress Hall I
STATUS:CONFIRMED
CLASS:PUBLIC
DTSTART;TZID=Europe/Prague:20170720T181000
DTEND;TZID=Europe/Prague:20170720T191000
DTSTAMP:20170609T093114Z
URL:https://datatracker.ietf.org/meeting/99/materials/agenda-99-i2rs-01
DESCRIPTION:Afternoon Session III\n
 \n
 Meetecho: http://www.meetecho.com/ietf99/i2rs/\n
 \n
 Agenda https://datatracker.ietf.org/meeting/99/materials/agenda-99-i2rs-01\n
 \n
 Session materials: https://datatracker.ietf.org/meeting/99/session/i2rs\n
 \n
 See in schedule: https://datatracker.ietf.org/meeting/99/agenda#row-99-2017-07-20-thu-1810-rtg-i2rs\n
END:VEVENT
BEGIN:VEVENT
UID:ietf-99-8829-mpls
SUMMARY:mpls - Multiprotocol Label Switching (10:30-11:30)
LOCATION:Congress Hall III
STATUS:CONFIRMED
CLASS:PUBLIC
DTSTART;TZID=Europe/Prague:20170721T093000
DTEND;TZID=Europe/Prague:20170721T113000
DTSTAMP:20170608T092946Z
URL:https://datatracker.ietf.org/meeting/99/materials/agenda-99-mpls-04
DESCRIPTION:Morning Session I\n
 Note: 10:30-11:30\n
 \n
 Meetecho: http://www.meetecho.com/ietf99/mpls/\n
 \n
 Agenda https://datatracker.ietf.org/meeting/99/materials/agenda-99-mpls-04\n
 \n
 Session materials: https://datatracker.ietf.org/meeting/99/session/mpls\n
 \n
 See in schedule: https://datatracker.ietf.org/meeting/99/agenda#row-99-2017-07-21-fri-0930-rtg-mpls\n
END:VEVENT
BEGIN:VEVENT
UID:ietf-99-8829-rtgwg
SUMMARY:rtgwg - Routing Area Working Group (09:30-10:30)
LOCATION:Congress Hall III
STATUS:CONFIRMED
CLASS:PUBLIC
DTSTART;TZID=Europe/Prague:20170721T093000
DTEND;TZID=Europe/Prague:20170721T113000
DTSTAMP:20170608T092946Z
URL:https://datatracker.ietf.org/meeting/99/materials/agenda-99-rtgwg-09
DESCRIPTION:Morning Session I\n
 Note: 09:30-10:30\n
 \n
 Meetecho: http://www.meetecho.com/ietf99/rtgwg/\n
 \n
 Agenda https://datatracker.ietf.org/meeting/99/materials/agenda-99-rtgwg-09\n
 \n
 Session materials: https://datatracker.ietf.org/meeting/99/session/rtgwg\n
 \n
 See in schedule: https://datatracker.ietf.org/meeting/99/agenda#row-99-2017-07-21-fri-0930-rtg-rtgwg\n
END:VEVENT
BEGIN:VEVENT
UID:ietf-99-8858-trill
SUMMARY:trill - Transparent Interconnection of Lots of Links
LOCATION:Karlin III
STATUS:CONFIRMED
CLASS:PUBLIC
DTSTART;TZID=Europe/Prague:20170721T115000
DTEND;TZID=Europe/Prague:20170721T132000
DTSTAMP:20170609T124432Z
URL:https://datatracker.ietf.org/meeting/99/materials/agenda-99-trill-03
DESCRIPTION:Afternoon Session II\n
 \n
 Meetecho: http://www.meetecho.com/ietf99/trill/\n
 \n
 Agenda https://datatracker.ietf.org/meeting/99/materials/agenda-99-trill-03\n
 \n
 Session materials: https://datatracker.ietf.org/meeting/99/session/trill\n
 \n
 See in schedule: https://datatracker.ietf.org/meeting/99/agenda#row-99-2017-07-21-fri-1150-rtg-trill\n
END:VEVENT
END:VCALENDAR
