BEGIN:VCALENDAR
VERSION:2.0
METHOD:PUBLISH
PRODID:-//IETF//datatracker.ietf.org ical agenda//EN
BEGIN:VTIMEZONE
TZID:Europe/Prague
X-LIC-LOCATION:Europe/Prague
BEGIN:DAYLIGHT
TZOFFSETFROM:+0100
TZOFFSETTO:+0200
TZNAME:CEST
DTSTART:19810329T020000
RRULE:FREQ=YEARLY;BYMONTH=3;BYDAY=-1SU
END:DAYLIGHT
BEGIN:STANDARD
TZOFFSETFROM:+0200
TZOFFSETTO:+0100
TZNAME:CET
DTSTART:19961027T030000
RRULE:FREQ=YEARLY;BYMONTH=10;BYDAY=-1SU
END:STANDARD
BEGIN:STANDARD
TZOFFSETFROM:+005744
TZOFFSETTO:+005744
TZNAME:PMT
DTSTART:18500101T000000
RDATE:18500101T000000
END:STANDARD
BEGIN:STANDARD
TZOFFSETFROM:+005744
TZOFFSETTO:+0100
TZNAME:CET
DTSTART:18911001T000000
RDATE:18911001T000000
END:STANDARD
BEGIN:DAYLIGHT
TZOFFSETFROM:+0100
TZOFFSETTO:+0200
TZNAME:CEST
DTSTART:19160430T230000
RDATE:19160430T230000
RDATE:19170416T020000
RDATE:19180415T020000
RDATE:19400401T020000
RDATE:19430329T020000
RDATE:19440403T020000
RDATE:19450408T020000
RDATE:19460506T020000
RDATE:19470420T020000
RDATE:19480418T020000
RDATE:19490409T020000
RDATE:19790401T020000
RDATE:19800406T020000
END:DAYLIGHT
BEGIN:STANDARD
TZOFFSETFROM:+0200
TZOFFSETTO:+0100
TZNAME:CET
DTSTART:19161001T010000
RDATE:19161001T010000
RDATE:19170917T030000
RDATE:19180916T030000
RDATE:19421102T030000
RDATE:19431004T030000
RDATE:19440917T030000
RDATE:19451118T030000
RDATE:19461006T030000
RDATE:19471005T030000
RDATE:19481003T030000
RDATE:19491002T030000
RDATE:19790930T030000
RDATE:19800928T030000
RDATE:19810927T030000
RDATE:19820926T030000
RDATE:19830925T030000
RDATE:19840930T030000
RDATE:19850929T030000
RDATE:19860928T030000
RDATE:19870927T030000
RDATE:19880925T030000
RDATE:19890924T030000
RDATE:19900930T030000
RDATE:19910929T030000
RDATE:19920927T030000
RDATE:19930926T030000
RDATE:19940925T030000
RDATE:19950924T030000
END:STANDARD
BEGIN:STANDARD
TZOFFSETFROM:+0100
TZOFFSETTO:+0100
TZNAME:CET
DTSTART:19790101T000000
RDATE:19790101T000000
END:STANDARD
END:VTIMEZONE
BEGIN:VEVENT
UID:ietf-99-8511-ace
SUMMARY:ace - Authentication and Authorization for Constrained Environments
LOCATION:Congress Hall I
STATUS:CONFIRMED
CLASS:PUBLIC
DTSTART;TZID=Europe/Prague:20170717T093000
DTEND;TZID=Europe/Prague:20170717T120000
DTSTAMP:20170608T092526Z
URL:https://datatracker.ietf.org/meeting/99/materials/agenda-99-ace-01
DESCRIPTION:Morning Session I\n
 \n
 Meetecho: http://www.meetecho.com/ietf99/ace/\n
 \n
 Agenda https://datatracker.ietf.org/meeting/99/materials/agenda-99-ace-01\n
 \n
 Session materials: https://datatracker.ietf.org/meeting/99/session/ace\n
 \n
 See in schedule: https://datatracker.ietf.org/meeting/99/agenda#row-99-2017-07-17-mon-0930-sec-ace\n
END:VEVENT
BEGIN:VEVENT
UID:ietf-99-8514-curdle
SUMMARY:curdle - CURves, Deprecating and a Little more Encryption (11:30-12:00)
LOCATION:Congress Hall III
STATUS:CONFIRMED
CLASS:PUBLIC
DTSTART;TZID=Europe/Prague:20170717T093000
DTEND;TZID=Europe/Prague:20170717T120000
DTSTAMP:20170608T092526Z
URL:https://datatracker.ietf.org/meeting/99/materials/agenda-99-curdle-00
DESCRIPTION:Morning Session I\n
 Note: 11:30-12:00\n
 \n
 Meetecho: http://www.meetecho.com/ietf99/curdle/\n
 \n
 Agenda https://datatracker.ietf.org/meeting/99/materials/agenda-99-curdle-00\n
 \n
 Session materials: https://datatracker.ietf.org/meeting/99/session/curdle\n
 \n
 See in schedule: https://datatracker.ietf.org/meeting/99/agenda#row-99-2017-07-17-mon-0930-sec-curdle\n
END:VEVENT
BEGIN:VEVENT
UID:ietf-99-8532-tls
SUMMARY:tls - Transport Layer Security (NEW)
LOCATION:Congress Hall I
STATUS:CONFIRMED
CLASS:PUBLIC
DTSTART;TZID=Europe/Prague:20170717T133000
DTEND;TZID=Europe/Prague:20170717T153000
DTSTAMP:20170608T092545Z
URL:https://datatracker.ietf.org/meeting/99/materials/agenda-99-tls-08
DESCRIPTION:Afternoon Session I\n
 Note: NEW\n
 \n
 Meetecho: http://www.meetecho.com/ietf99/tls/\n
 \n
 Agenda https://datatracker.ietf.org/meeting/99/materials/agenda-99-tls-08\n
 \n
 Session materials: https://datatracker.ietf.org/meeting/99/session/tls\n
 \n
 See in schedule: https://datatracker.ietf.org/meeting/99/agenda#row-99-2017-07-17-mon-1330-sec-tls\n
END:VEVENT
BEGIN:VEVENT
UID:ietf-99-8564-mile
SUMMARY:mile - Managed Incident Lightweight Exchange
LOCATION:Karlin III
STATUS:CONFIRMED
CLASS:PUBLIC
DTSTART;TZID=Europe/Prague:20170717T155000
DTEND;TZID=Europe/Prague:20170717T172000
DTSTAMP:20170608T092604Z
URL:https://datatracker.ietf.org/meeting/99/materials/agenda-99-mile-01
DESCRIPTION:Afternoon Session II\n
 \n
 Meetecho: http://www.meetecho.com/ietf99/mile/\n
 \n
 Agenda https://datatracker.ietf.org/meeting/99/materials/agenda-99-mile-01\n
 \n
 Session materials: https://datatracker.ietf.org/meeting/99/session/mile\n
 \n
 See in schedule: https://datatracker.ietf.org/meeting/99/agenda#row-99-2017-07-17-mon-1550-sec-mile\n
END:VEVENT
BEGIN:VEVENT
UID:ietf-99-8551-tokbind
SUMMARY:tokbind - Token Binding
LOCATION:Berlin/Brussels
STATUS:CONFIRMED
CLASS:PUBLIC
DTSTART;TZID=Europe/Prague:20170717T155000
DTEND;TZID=Europe/Prague:20170717T172000
DTSTAMP:20170608T092604Z
URL:https://datatracker.ietf.org/meeting/99/materials/agenda-99-tokbind-00
DESCRIPTION:Afternoon Session II\n
 \n
 Meetecho: http://www.meetecho.com/ietf99/tokbind/\n
 \n
 Agenda https://datatracker.ietf.org/meeting/99/materials/agenda-99-tokbind-00\n
 \n
 Session materials: https://datatracker.ietf.org/meeting/99/session/tokbind\n
 \n
 See in schedule: https://datatracker.ietf.org/meeting/99/agenda#row-99-2017-07-17-mon-1550-sec-tokbind\n
END:VEVENT
BEGIN:VEVENT
UID:ietf-99-8584-lamps
SUMMARY:lamps - Limited Additional Mechanisms for PKIX and SMIME
LOCATION:Karlin I/II
STATUS:CONFIRMED
CLASS:PUBLIC
DTSTART;TZID=Europe/Prague:20170717T174000
DTEND;TZID=Europe/Prague:20170717T184000
DTSTAMP:20170608T092629Z
URL:https://datatracker.ietf.org/meeting/99/materials/agenda-99-lamps-02
DESCRIPTION:Afternoon Session III\n
 \n
 Meetecho: http://www.meetecho.com/ietf99/lamps/\n
 \n
 Agenda https://datatracker.ietf.org/meeting/99/materials/agenda-99-lamps-02\n
 \n
 Session materials: https://datatracker.ietf.org/meeting/99/session/lamps\n
 \n
 See in schedule: https://datatracker.ietf.org/meeting/99/agenda#row-99-2017-07-17-mon-1740-sec-lamps\n
END:VEVENT
BEGIN:VEVENT
UID:ietf-99-8605-secevent
SUMMARY:secevent - Security Events
LOCATION:Karlin I/II
STATUS:CONFIRMED
CLASS:PUBLIC
DTSTART;TZID=Europe/Prague:20170718T093000
DTEND;TZID=Europe/Prague:20170718T120000
DTSTAMP:20170608T092648Z
URL:https://datatracker.ietf.org/meeting/99/materials/agenda-99-secevent-01
DESCRIPTION:Morning Session I\n
 \n
 Meetecho: http://www.meetecho.com/ietf99/secevent/\n
 \n
 Agenda https://datatracker.ietf.org/meeting/99/materials/agenda-99-secevent-01\n
 \n
 Session materials: https://datatracker.ietf.org/meeting/99/session/secevent\n
 \n
 See in schedule: https://datatracker.ietf.org/meeting/99/agenda#row-99-2017-07-18-tue-0930-sec-secevent\n
END:VEVENT
BEGIN:VEVENT
UID:ietf-99-8634-i2nsf
SUMMARY:i2nsf - Interface to Network Security Functions
LOCATION:Athens/Barcelona
STATUS:CONFIRMED
CLASS:PUBLIC
DTSTART;TZID=Europe/Prague:20170718T133000
DTEND;TZID=Europe/Prague:20170718T153000
DTSTAMP:20170608T110320Z
URL:https://datatracker.ietf.org/meeting/99/materials/agenda-99-i2nsf-02
DESCRIPTION:Afternoon Session I\n
 \n
 Meetecho: http://www.meetecho.com/ietf99/i2nsf/\n
 \n
 Agenda https://datatracker.ietf.org/meeting/99/materials/agenda-99-i2nsf-02\n
 \n
 Session materials: https://datatracker.ietf.org/meeting/99/session/i2nsf\n
 \n
 See in schedule: https://datatracker.ietf.org/meeting/99/agenda#row-99-2017-07-18-tue-1330-sec-i2nsf\n
END:VEVENT
BEGIN:VEVENT
UID:ietf-99-8635-oauth
SUMMARY:oauth - Web Authorization Protocol
LOCATION:Berlin/Brussels
STATUS:CONFIRMED
CLASS:PUBLIC
DTSTART;TZID=Europe/Prague:20170718T133000
DTEND;TZID=Europe/Prague:20170718T153000
DTSTAMP:20170608T110320Z
URL:https://datatracker.ietf.org/meeting/99/materials/agenda-99-oauth-02
DESCRIPTION:Afternoon Session I\n
 \n
 Meetecho: http://www.meetecho.com/ietf99/oauth/\n
 \n
 Agenda https://datatracker.ietf.org/meeting/99/materials/agenda-99-oauth-02\n
 \n
 Session materials: https://datatracker.ietf.org/meeting/99/session/oauth\n
 \n
 See in schedule: https://datatracker.ietf.org/meeting/99/agenda#row-99-2017-07-18-tue-1330-sec-oauth\n
END:VEVENT
BEGIN:VEVENT
UID:ietf-99-8685-tls
SUMMARY:tls - Transport Layer Security
LOCATION:Grand Hilton Ballroom
STATUS:CONFIRMED
CLASS:PUBLIC
DTSTART;TZID=Europe/Prague:20170719T093000
DTEND;TZID=Europe/Prague:20170719T120000
DTSTAMP:20170608T092748Z
URL:https://datatracker.ietf.org/meeting/99/materials/agenda-99-tls-08
DESCRIPTION:Morning Session I\n
 \n
 Meetecho: http://www.meetecho.com/ietf99/tls/\n
 \n
 Agenda https://datatracker.ietf.org/meeting/99/materials/agenda-99-tls-08\n
 \n
 Session materials: https://datatracker.ietf.org/meeting/99/session/tls\n
 \n
 See in schedule: https://datatracker.ietf.org/meeting/99/agenda#row-99-2017-07-19-wed-0930-sec-tls\n
END:VEVENT
BEGIN:VEVENT
UID:ietf-99-8719-trans
SUMMARY:trans - Public Notary Transparency
LOCATION:Berlin/Brussels
STATUS:CONFIRMED
CLASS:PUBLIC
DTSTART;TZID=Europe/Prague:20170719T152000
DTEND;TZID=Europe/Prague:20170719T165000
DTSTAMP:20170608T092816Z
URL:https://datatracker.ietf.org/meeting/99/materials/agenda-99-trans-00
DESCRIPTION:Afternoon Session II\n
 \n
 Meetecho: http://www.meetecho.com/ietf99/trans/\n
 \n
 Agenda https://datatracker.ietf.org/meeting/99/materials/agenda-99-trans-00\n
 \n
 Session materials: https://datatracker.ietf.org/meeting/99/session/trans\n
 \n
 See in schedule: https://datatracker.ietf.org/meeting/99/agenda#row-99-2017-07-19-wed-1520-sec-trans\n
END:VEVENT
BEGIN:VEVENT
UID:ietf-99-8752-sacm
SUMMARY:sacm - Security Automation and Continuous Monitoring
LOCATION:Karlin I/II
STATUS:CONFIRMED
CLASS:PUBLIC
DTSTART;TZID=Europe/Prague:20170720T093000
DTEND;TZID=Europe/Prague:20170720T120000
DTSTAMP:20170608T092842Z
URL:https://datatracker.ietf.org/meeting/99/materials/agenda-99-sacm-02
DESCRIPTION:Morning Session I\n
 \n
 Meetecho: http://www.meetecho.com/ietf99/sacm/\n
 \n
 Agenda https://datatracker.ietf.org/meeting/99/materials/agenda-99-sacm-02\n
 \n
 Session materials: https://datatracker.ietf.org/meeting/99/session/sacm\n
 \n
 See in schedule: https://datatracker.ietf.org/meeting/99/agenda#row-99-2017-07-20-thu-0930-sec-sacm\n
END:VEVENT
BEGIN:VEVENT
UID:ietf-99-8766-saag
SUMMARY:saag - Security Area Open Meeting
LOCATION:Congress Hall III
STATUS:CONFIRMED
CLASS:PUBLIC
DTSTART;TZID=Europe/Prague:20170720T133000
DTEND;TZID=Europe/Prague:20170720T153000
DTSTAMP:20170608T092853Z
URL:https://datatracker.ietf.org/meeting/99/materials/agenda-99-saag-02
DESCRIPTION:Afternoon Session I\n
 \n
 Meetecho: http://www.meetecho.com/ietf99/saag/\n
 \n
 Agenda https://datatracker.ietf.org/meeting/99/materials/agenda-99-saag-02\n
 \n
 Session materials: https://datatracker.ietf.org/meeting/99/session/saag\n
 \n
 See in schedule: https://datatracker.ietf.org/meeting/99/agenda#row-99-2017-07-20-thu-1330-sec-saag\n
END:VEVENT
BEGIN:VEVENT
UID:ietf-99-8782-dots
SUMMARY:dots - DDoS Open Threat Signaling
LOCATION:Berlin/Brussels
STATUS:CONFIRMED
CLASS:PUBLIC
DTSTART;TZID=Europe/Prague:20170720T155000
DTEND;TZID=Europe/Prague:20170720T175000
DTSTAMP:20170608T092911Z
URL:https://datatracker.ietf.org/meeting/99/materials/agenda-99-dots-04
DESCRIPTION:Afternoon Session II\n
 \n
 Meetecho: http://www.meetecho.com/ietf99/dots/\n
 \n
 Agenda https://datatracker.ietf.org/meeting/99/materials/agenda-99-dots-04\n
 \n
 Session materials: https://datatracker.ietf.org/meeting/99/session/dots\n
 \n
 See in schedule: https://datatracker.ietf.org/meeting/99/agenda#row-99-2017-07-20-thu-1550-sec-dots\n
END:VEVENT
BEGIN:VEVENT
UID:ietf-99-8823-acme
SUMMARY:acme - Automated Certificate Management Environment
LOCATION:Athens/Barcelona
STATUS:CONFIRMED
CLASS:PUBLIC
DTSTART;TZID=Europe/Prague:20170721T093000
DTEND;TZID=Europe/Prague:20170721T113000
DTSTAMP:20170608T092946Z
URL:https://datatracker.ietf.org/meeting/99/materials/agenda-99-acme-01
DESCRIPTION:Morning Session I\n
 \n
 Meetecho: http://www.meetecho.com/ietf99/acme/\n
 \n
 Agenda https://datatracker.ietf.org/meeting/99/materials/agenda-99-acme-01\n
 \n
 Session materials: https://datatracker.ietf.org/meeting/99/session/acme\n
 \n
 See in schedule: https://datatracker.ietf.org/meeting/99/agenda#row-99-2017-07-21-fri-0930-sec-acme\n
END:VEVENT
BEGIN:VEVENT
UID:ietf-99-8837-oauth
SUMMARY:oauth - Web Authorization Protocol
LOCATION:Karlin III
STATUS:CONFIRMED
CLASS:PUBLIC
DTSTART;TZID=Europe/Prague:20170721T093000
DTEND;TZID=Europe/Prague:20170721T113000
DTSTAMP:20170608T092946Z
URL:https://datatracker.ietf.org/meeting/99/materials/agenda-99-oauth-02
DESCRIPTION:Morning Session I\n
 \n
 Meetecho: http://www.meetecho.com/ietf99/oauth/\n
 \n
 Agenda https://datatracker.ietf.org/meeting/99/materials/agenda-99-oauth-02\n
 \n
 Session materials: https://datatracker.ietf.org/meeting/99/session/oauth\n
 \n
 See in schedule: https://datatracker.ietf.org/meeting/99/agenda#row-99-2017-07-21-fri-0930-sec-oauth\n
END:VEVENT
BEGIN:VEVENT
UID:ietf-99-8857-ipsecme
SUMMARY:ipsecme - IP Security Maintenance and Extensions
LOCATION:Karlin I/II
STATUS:CONFIRMED
CLASS:PUBLIC
DTSTART;TZID=Europe/Prague:20170721T115000
DTEND;TZID=Europe/Prague:20170721T132000
DTSTAMP:20170609T124432Z
URL:https://datatracker.ietf.org/meeting/99/materials/agenda-99-ipsecme-02
DESCRIPTION:Afternoon Session II\n
 \n
 Meetecho: http://www.meetecho.com/ietf99/ipsecme/\n
 \n
 Agenda https://datatracker.ietf.org/meeting/99/materials/agenda-99-ipsecme-02\n
 \n
 Session materials: https://datatracker.ietf.org/meeting/99/session/ipsecme\n
 \n
 See in schedule: https://datatracker.ietf.org/meeting/99/agenda#row-99-2017-07-21-fri-1150-sec-ipsecme\n
END:VEVENT
END:VCALENDAR
