BEGIN:VCALENDAR
VERSION:2.0
METHOD:PUBLISH
PRODID:-//IETF//datatracker.ietf.org ical agenda//EN
BEGIN:VTIMEZONE
TZID:Europe/Prague
X-LIC-LOCATION:Europe/Prague
BEGIN:DAYLIGHT
TZOFFSETFROM:+0100
TZOFFSETTO:+0200
TZNAME:CEST
DTSTART:19810329T020000
RRULE:FREQ=YEARLY;BYMONTH=3;BYDAY=-1SU
END:DAYLIGHT
BEGIN:STANDARD
TZOFFSETFROM:+0200
TZOFFSETTO:+0100
TZNAME:CET
DTSTART:19961027T030000
RRULE:FREQ=YEARLY;BYMONTH=10;BYDAY=-1SU
END:STANDARD
BEGIN:STANDARD
TZOFFSETFROM:+005744
TZOFFSETTO:+005744
TZNAME:PMT
DTSTART:18500101T000000
RDATE:18500101T000000
END:STANDARD
BEGIN:STANDARD
TZOFFSETFROM:+005744
TZOFFSETTO:+0100
TZNAME:CET
DTSTART:18911001T000000
RDATE:18911001T000000
END:STANDARD
BEGIN:DAYLIGHT
TZOFFSETFROM:+0100
TZOFFSETTO:+0200
TZNAME:CEST
DTSTART:19160430T230000
RDATE:19160430T230000
RDATE:19170416T020000
RDATE:19180415T020000
RDATE:19400401T020000
RDATE:19430329T020000
RDATE:19440403T020000
RDATE:19450408T020000
RDATE:19460506T020000
RDATE:19470420T020000
RDATE:19480418T020000
RDATE:19490409T020000
RDATE:19790401T020000
RDATE:19800406T020000
END:DAYLIGHT
BEGIN:STANDARD
TZOFFSETFROM:+0200
TZOFFSETTO:+0100
TZNAME:CET
DTSTART:19161001T010000
RDATE:19161001T010000
RDATE:19170917T030000
RDATE:19180916T030000
RDATE:19421102T030000
RDATE:19431004T030000
RDATE:19440917T030000
RDATE:19451118T030000
RDATE:19461006T030000
RDATE:19471005T030000
RDATE:19481003T030000
RDATE:19491002T030000
RDATE:19790930T030000
RDATE:19800928T030000
RDATE:19810927T030000
RDATE:19820926T030000
RDATE:19830925T030000
RDATE:19840930T030000
RDATE:19850929T030000
RDATE:19860928T030000
RDATE:19870927T030000
RDATE:19880925T030000
RDATE:19890924T030000
RDATE:19900930T030000
RDATE:19910929T030000
RDATE:19920927T030000
RDATE:19930926T030000
RDATE:19940925T030000
RDATE:19950924T030000
END:STANDARD
BEGIN:STANDARD
TZOFFSETFROM:+0100
TZOFFSETTO:+0100
TZNAME:CET
DTSTART:19790101T000000
RDATE:19790101T000000
END:STANDARD
END:VTIMEZONE
BEGIN:VEVENT
UID:ietf-99-8508-dtn
SUMMARY:dtn - Delay/Disruption Tolerant Networking
LOCATION:Athens/Barcelona
STATUS:CONFIRMED
CLASS:PUBLIC
DTSTART;TZID=Europe/Prague:20170717T093000
DTEND;TZID=Europe/Prague:20170717T120000
DTSTAMP:20170608T092526Z
URL:https://datatracker.ietf.org/meeting/99/materials/agenda-99-dtn-03
DESCRIPTION:Morning Session I\n
 \n
 Meetecho: http://www.meetecho.com/ietf99/dtn/\n
 \n
 Agenda https://datatracker.ietf.org/meeting/99/materials/agenda-99-dtn-03\n
 \n
 Session materials: https://datatracker.ietf.org/meeting/99/session/dtn\n
 \n
 See in schedule: https://datatracker.ietf.org/meeting/99/agenda#row-99-2017-07-17-mon-0930-tsv-dtn\n
END:VEVENT
BEGIN:VEVENT
UID:ietf-99-8521-tcpm
SUMMARY:tcpm - TCP Maintenance and Minor Extensions
LOCATION:Karlin I/II
STATUS:CONFIRMED
CLASS:PUBLIC
DTSTART;TZID=Europe/Prague:20170717T093000
DTEND;TZID=Europe/Prague:20170717T120000
DTSTAMP:20170608T092526Z
URL:https://datatracker.ietf.org/meeting/99/materials/agenda-99-tcpm-05
DESCRIPTION:Morning Session I\n
 \n
 Meetecho: http://www.meetecho.com/ietf99/tcpm/\n
 \n
 Agenda https://datatracker.ietf.org/meeting/99/materials/agenda-99-tcpm-05\n
 \n
 Session materials: https://datatracker.ietf.org/meeting/99/session/tcpm\n
 \n
 See in schedule: https://datatracker.ietf.org/meeting/99/agenda#row-99-2017-07-17-mon-0930-tsv-tcpm\n
END:VEVENT
BEGIN:VEVENT
UID:ietf-99-8580-tsvarea
SUMMARY:tsvarea - Transport Area Open Meeting
LOCATION:Grand Hilton Ballroom
STATUS:CONFIRMED
CLASS:PUBLIC
DTSTART;TZID=Europe/Prague:20170717T174000
DTEND;TZID=Europe/Prague:20170717T184000
DTSTAMP:20170608T092629Z
URL:https://datatracker.ietf.org/meeting/99/materials/agenda-99-tsvarea-00
DESCRIPTION:Afternoon Session III\n
 \n
 Meetecho: http://www.meetecho.com/ietf99/tsvarea/\n
 \n
 Agenda https://datatracker.ietf.org/meeting/99/materials/agenda-99-tsvarea-00\n
 \n
 Session materials: https://datatracker.ietf.org/meeting/99/session/tsvarea\n
 \n
 See in schedule: https://datatracker.ietf.org/meeting/99/agenda#row-99-2017-07-17-mon-1740-tsv-tsvarea\n
END:VEVENT
BEGIN:VEVENT
UID:ietf-99-8595-taps
SUMMARY:taps - Transport Services
LOCATION:Congress Hall I
STATUS:CONFIRMED
CLASS:PUBLIC
DTSTART;TZID=Europe/Prague:20170718T093000
DTEND;TZID=Europe/Prague:20170718T120000
DTSTAMP:20170608T092648Z
URL:https://datatracker.ietf.org/meeting/99/materials/agenda-99-taps-02
DESCRIPTION:Morning Session I\n
 \n
 Meetecho: http://www.meetecho.com/ietf99/taps/\n
 \n
 Agenda https://datatracker.ietf.org/meeting/99/materials/agenda-99-taps-02\n
 \n
 Session materials: https://datatracker.ietf.org/meeting/99/session/taps\n
 \n
 See in schedule: https://datatracker.ietf.org/meeting/99/agenda#row-99-2017-07-18-tue-0930-tsv-taps\n
END:VEVENT
BEGIN:VEVENT
UID:ietf-99-8637-tsvwg
SUMMARY:tsvwg - Transport Area Working Group
LOCATION:Congress Hall I
STATUS:CONFIRMED
CLASS:PUBLIC
DTSTART;TZID=Europe/Prague:20170718T133000
DTEND;TZID=Europe/Prague:20170718T153000
DTSTAMP:20170608T110320Z
URL:https://datatracker.ietf.org/meeting/99/materials/agenda-99-tsvwg-10
DESCRIPTION:Afternoon Session I\n
 \n
 Meetecho: http://www.meetecho.com/ietf99/tsvwg/\n
 \n
 Agenda https://datatracker.ietf.org/meeting/99/materials/agenda-99-tsvwg-10\n
 \n
 Session materials: https://datatracker.ietf.org/meeting/99/session/tsvwg\n
 \n
 See in schedule: https://datatracker.ietf.org/meeting/99/agenda#row-99-2017-07-18-tue-1330-tsv-tsvwg\n
END:VEVENT
BEGIN:VEVENT
UID:ietf-99-8865-mptcp
SUMMARY:mptcp - Multipath TCP
LOCATION:Athens/Barcelona
STATUS:CONFIRMED
CLASS:PUBLIC
DTSTART;TZID=Europe/Prague:20170718T155000
DTEND;TZID=Europe/Prague:20170718T175000
DTSTAMP:20170609T093125Z
URL:https://datatracker.ietf.org/meeting/99/materials/agenda-99-mptcp-03
DESCRIPTION:Afternoon Session II\n
 \n
 Meetecho: http://www.meetecho.com/ietf99/mptcp/\n
 \n
 Agenda https://datatracker.ietf.org/meeting/99/materials/agenda-99-mptcp-03\n
 \n
 Session materials: https://datatracker.ietf.org/meeting/99/session/mptcp\n
 \n
 See in schedule: https://datatracker.ietf.org/meeting/99/agenda#row-99-2017-07-18-tue-1550-tsv-mptcp\n
END:VEVENT
BEGIN:VEVENT
UID:ietf-99-8676-ippm
SUMMARY:ippm - IP Performance Metrics
LOCATION:Athens/Barcelona
STATUS:CONFIRMED
CLASS:PUBLIC
DTSTART;TZID=Europe/Prague:20170719T093000
DTEND;TZID=Europe/Prague:20170719T120000
DTSTAMP:20170608T092748Z
URL:https://datatracker.ietf.org/meeting/99/materials/agenda-99-ippm-06
DESCRIPTION:Morning Session I\n
 \n
 Meetecho: http://www.meetecho.com/ietf99/ippm/\n
 \n
 Agenda https://datatracker.ietf.org/meeting/99/materials/agenda-99-ippm-06\n
 \n
 Session materials: https://datatracker.ietf.org/meeting/99/session/ippm\n
 \n
 See in schedule: https://datatracker.ietf.org/meeting/99/agenda#row-99-2017-07-19-wed-0930-tsv-ippm\n
END:VEVENT
BEGIN:VEVENT
UID:ietf-99-8690-rmcat
SUMMARY:rmcat - RTP Media Congestion Avoidance Techniques
LOCATION:Karlin III
STATUS:CONFIRMED
CLASS:PUBLIC
DTSTART;TZID=Europe/Prague:20170719T093000
DTEND;TZID=Europe/Prague:20170719T120000
DTSTAMP:20170608T092748Z
URL:https://datatracker.ietf.org/meeting/99/materials/agenda-99-rmcat-01
DESCRIPTION:Morning Session I\n
 \n
 Meetecho: http://www.meetecho.com/ietf99/rmcat/\n
 \n
 Agenda https://datatracker.ietf.org/meeting/99/materials/agenda-99-rmcat-01\n
 \n
 Session materials: https://datatracker.ietf.org/meeting/99/session/rmcat\n
 \n
 See in schedule: https://datatracker.ietf.org/meeting/99/agenda#row-99-2017-07-19-wed-0930-tsv-rmcat\n
END:VEVENT
BEGIN:VEVENT
UID:ietf-99-8753-nfsv4
SUMMARY:nfsv4 - Network File System Version 4
LOCATION:Karlin III
STATUS:CONFIRMED
CLASS:PUBLIC
DTSTART;TZID=Europe/Prague:20170720T093000
DTEND;TZID=Europe/Prague:20170720T120000
DTSTAMP:20170608T092842Z
URL:https://datatracker.ietf.org/meeting/99/materials/agenda-99-nfsv4-00
DESCRIPTION:Morning Session I\n
 \n
 Meetecho: http://www.meetecho.com/ietf99/nfsv4/\n
 \n
 Agenda https://datatracker.ietf.org/meeting/99/materials/agenda-99-nfsv4-00\n
 \n
 Session materials: https://datatracker.ietf.org/meeting/99/session/nfsv4\n
 \n
 See in schedule: https://datatracker.ietf.org/meeting/99/agenda#row-99-2017-07-20-thu-0930-tsv-nfsv4\n
END:VEVENT
BEGIN:VEVENT
UID:ietf-99-8774-alto
SUMMARY:alto - Application-Layer Traffic Optimization
LOCATION:Karlin III
STATUS:CONFIRMED
CLASS:PUBLIC
DTSTART;TZID=Europe/Prague:20170720T133000
DTEND;TZID=Europe/Prague:20170720T153000
DTSTAMP:20170608T092853Z
URL:https://datatracker.ietf.org/meeting/99/materials/agenda-99-alto-04
DESCRIPTION:Afternoon Session I\n
 \n
 Meetecho: http://www.meetecho.com/ietf99/alto/\n
 \n
 Agenda https://datatracker.ietf.org/meeting/99/materials/agenda-99-alto-04\n
 \n
 Session materials: https://datatracker.ietf.org/meeting/99/session/alto\n
 \n
 See in schedule: https://datatracker.ietf.org/meeting/99/agenda#row-99-2017-07-20-thu-1330-tsv-alto\n
END:VEVENT
BEGIN:VEVENT
UID:ietf-99-8790-quic
SUMMARY:quic - QUIC
LOCATION:Grand Hilton Ballroom
STATUS:CONFIRMED
CLASS:PUBLIC
DTSTART;TZID=Europe/Prague:20170720T155000
DTEND;TZID=Europe/Prague:20170720T175000
DTSTAMP:20170608T092911Z
URL:https://datatracker.ietf.org/meeting/99/materials/agenda-99-quic-00
DESCRIPTION:Afternoon Session II\n
 \n
 Meetecho: http://www.meetecho.com/ietf99/quic/\n
 \n
 Agenda https://datatracker.ietf.org/meeting/99/materials/agenda-99-quic-00\n
 \n
 Session materials: https://datatracker.ietf.org/meeting/99/session/quic\n
 \n
 See in schedule: https://datatracker.ietf.org/meeting/99/agenda#row-99-2017-07-20-thu-1550-tsv-quic\n
END:VEVENT
BEGIN:VEVENT
UID:ietf-99-8808-tsvwg
SUMMARY:tsvwg - Transport Area Working Group
LOCATION:Congress Hall III
STATUS:CONFIRMED
CLASS:PUBLIC
DTSTART;TZID=Europe/Prague:20170720T181000
DTEND;TZID=Europe/Prague:20170720T191000
DTSTAMP:20170609T093114Z
URL:https://datatracker.ietf.org/meeting/99/materials/agenda-99-tsvwg-10
DESCRIPTION:Afternoon Session III\n
 \n
 Meetecho: http://www.meetecho.com/ietf99/tsvwg/\n
 \n
 Agenda https://datatracker.ietf.org/meeting/99/materials/agenda-99-tsvwg-10\n
 \n
 Session materials: https://datatracker.ietf.org/meeting/99/session/tsvwg\n
 \n
 See in schedule: https://datatracker.ietf.org/meeting/99/agenda#row-99-2017-07-20-thu-1810-tsv-tsvwg\n
END:VEVENT
BEGIN:VEVENT
UID:ietf-99-8832-quic
SUMMARY:quic - QUIC
LOCATION:Grand Hilton Ballroom
STATUS:CONFIRMED
CLASS:PUBLIC
DTSTART;TZID=Europe/Prague:20170721T093000
DTEND;TZID=Europe/Prague:20170721T113000
DTSTAMP:20170608T092946Z
URL:https://datatracker.ietf.org/meeting/99/materials/agenda-99-quic-00
DESCRIPTION:Morning Session I\n
 \n
 Meetecho: http://www.meetecho.com/ietf99/quic/\n
 \n
 Agenda https://datatracker.ietf.org/meeting/99/materials/agenda-99-quic-00\n
 \n
 Session materials: https://datatracker.ietf.org/meeting/99/session/quic\n
 \n
 See in schedule: https://datatracker.ietf.org/meeting/99/agenda#row-99-2017-07-21-fri-0930-tsv-quic\n
END:VEVENT
BEGIN:VEVENT
UID:ietf-99-8847-mptcp
SUMMARY:mptcp - Multipath TCP
LOCATION:Congress Hall I
STATUS:CONFIRMED
CLASS:PUBLIC
DTSTART;TZID=Europe/Prague:20170721T115000
DTEND;TZID=Europe/Prague:20170721T132000
DTSTAMP:20170609T124432Z
URL:https://datatracker.ietf.org/meeting/99/materials/agenda-99-mptcp-03
DESCRIPTION:Afternoon Session II\n
 \n
 Meetecho: http://www.meetecho.com/ietf99/mptcp/\n
 \n
 Agenda https://datatracker.ietf.org/meeting/99/materials/agenda-99-mptcp-03\n
 \n
 Session materials: https://datatracker.ietf.org/meeting/99/session/mptcp\n
 \n
 See in schedule: https://datatracker.ietf.org/meeting/99/agenda#row-99-2017-07-21-fri-1150-tsv-mptcp\n
END:VEVENT
END:VCALENDAR
