BEGIN:VCALENDAR
VERSION:2.0
METHOD:PUBLISH
PRODID:-//IETF//datatracker.ietf.org ical agenda//EN
BEGIN:VTIMEZONE
TZID:UTC
BEGIN:STANDARD
TZOFFSETFROM:+0000
TZOFFSETTO:+0000
TZNAME:UTC
DTSTART:19000101T000000
RDATE:19000101T000000
END:STANDARD
END:VTIMEZONE
BEGIN:VEVENT
UID:ietf-interim-2020-netmod-01-12768-netmod
SUMMARY:netmod - Network Modeling
LOCATION:None
STATUS:CONFIRMED
CLASS:PUBLIC
DTSTART;TZID=UTC:20200402T110000
DTEND;TZID=UTC:20200402T130000
DTSTAMP:20200326T123533Z
URL:https://datatracker.ietf.org/meeting/interim-2020-netmod-01/materials/agenda-interim-2020-netmod-01-netmod-01-11
DESCRIPTION:\n
 \n
 Agenda https://datatracker.ietf.org/meeting/interim-2020-netmod-01/materials/agenda-interim-2020-netmod-01-netmod-01-11\n
 \n
 Session materials: https://datatracker.ietf.org/meeting/interim-2020-netmod-01/session/netmod\n
END:VEVENT
END:VCALENDAR
