BEGIN:VCALENDAR
VERSION:2.0
METHOD:PUBLISH
PRODID:-//IETF//datatracker.ietf.org ical agenda//EN
BEGIN:VTIMEZONE
TZID:UTC
BEGIN:STANDARD
TZOFFSETFROM:+0000
TZOFFSETTO:+0000
TZNAME:UTC
DTSTART:19000101T000000
RDATE:19000101T000000
END:STANDARD
END:VTIMEZONE
BEGIN:VEVENT
UID:ietf-interim-2021-detnet-01-13896-detnet
SUMMARY:detnet - Deterministic Networking
LOCATION:None
STATUS:CONFIRMED
CLASS:PUBLIC
DTSTART;TZID=UTC:20210913T130000
DTEND;TZID=UTC:20210913T150000
DTSTAMP:20210824T144726Z
URL:https://datatracker.ietf.org/meeting/interim-2021-detnet-01/materials/agenda-interim-2021-detnet-01-detnet-01-03
DESCRIPTION:\n
 \n
 Agenda https://datatracker.ietf.org/meeting/interim-2021-detnet-01/materials/agenda-interim-2021-detnet-01-detnet-01-03\n
 \n
 Session materials: https://datatracker.ietf.org/meeting/interim-2021-detnet-01/session/detnet\n
END:VEVENT
END:VCALENDAR
