BEGIN:VCALENDAR
VERSION:2.0
METHOD:PUBLISH
PRODID:-//IETF//datatracker.ietf.org ical agenda//EN
BEGIN:VTIMEZONE
TZID:Europe/Helsinki
X-LIC-LOCATION:Europe/Helsinki
BEGIN:DAYLIGHT
TZOFFSETFROM:+0200
TZOFFSETTO:+0300
TZNAME:EEST
DTSTART:19830327T030000
RRULE:FREQ=YEARLY;BYMONTH=3;BYDAY=-1SU
END:DAYLIGHT
BEGIN:STANDARD
TZOFFSETFROM:+0300
TZOFFSETTO:+0200
TZNAME:EET
DTSTART:19961027T040000
RRULE:FREQ=YEARLY;BYMONTH=10;BYDAY=-1SU
END:STANDARD
BEGIN:STANDARD
TZOFFSETFROM:+013949
TZOFFSETTO:+013949
TZNAME:HMT
DTSTART:18780531T000000
RDATE:18780531T000000
END:STANDARD
BEGIN:STANDARD
TZOFFSETFROM:+013949
TZOFFSETTO:+0200
TZNAME:EET
DTSTART:19210501T000000
RDATE:19210501T000000
END:STANDARD
BEGIN:DAYLIGHT
TZOFFSETFROM:+0200
TZOFFSETTO:+0300
TZNAME:EEST
DTSTART:19420402T235959
RDATE:19420402T235959
RDATE:19810329T020000
RDATE:19820328T020000
END:DAYLIGHT
BEGIN:STANDARD
TZOFFSETFROM:+0300
TZOFFSETTO:+0200
TZNAME:EET
DTSTART:19421004T010000
RDATE:19421004T010000
RDATE:19810927T030000
RDATE:19820926T030000
RDATE:19830925T040000
RDATE:19840930T040000
RDATE:19850929T040000
RDATE:19860928T040000
RDATE:19870927T040000
RDATE:19880925T040000
RDATE:19890924T040000
RDATE:19900930T040000
RDATE:19910929T040000
RDATE:19920927T040000
RDATE:19930926T040000
RDATE:19940925T040000
RDATE:19950924T040000
END:STANDARD
BEGIN:STANDARD
TZOFFSETFROM:+0200
TZOFFSETTO:+0200
TZNAME:EET
DTSTART:19830101T000000
RDATE:19830101T000000
END:STANDARD
END:VTIMEZONE
BEGIN:VEVENT
UID:ietf-interim-2021-t2trg-02-13912-t2trg
SUMMARY:t2trg - Thing-to-Thing
LOCATION:None
STATUS:CONFIRMED
CLASS:PUBLIC
DTSTART;TZID=Europe/Helsinki:20211026T180000
DTEND;TZID=Europe/Helsinki:20211026T200000
DTSTAMP:20210921T055404Z
URL:https://datatracker.ietf.org/meeting/interim-2021-t2trg-02/materials/agenda-interim-2021-t2trg-02-t2trg-01-00
DESCRIPTION:\n
 \n
 Agenda https://datatracker.ietf.org/meeting/interim-2021-t2trg-02/materials/agenda-interim-2021-t2trg-02-t2trg-01-00\n
 \n
 Session materials: https://datatracker.ietf.org/meeting/interim-2021-t2trg-02/session/t2trg\n
END:VEVENT
END:VCALENDAR
